Workbook

Sheet Hevosia per 1000 asukasta aakko
A1: Kunta | B1: Maakunta | C1: Seutukunta | D1: Väkiluku | E1: Pitopaikat Ruokavirasto | F1: LV | G1: SH | H1: KV | I1: R | J1: P | K1: R_tai_P | L1: Hevosia | M1: Hevosia / 1000 asukasta | N1: 1000
A2: Akaa | B2: =_xlfn.XLOOKUP(A2,'[1]Kunnat seutukunnat maakunnat'!C:C,'[1]Kunnat seutukunnat maakunnat'!F:F) -> Pirkanmaa | C2: =_xlfn.XLOOKUP(A2,'[1]Kunnat seutukunnat maakunnat'!C:C,'[1]Kunnat seutukunnat maakunnat'!G:G) -> Etelä-Pirkanmaan seutukunta | D2: =_xlfn.XLOOKUP(A2,Väkiluku!A:A,Väkiluku!B:B) -> 16405 | E2: =_xlfn.XLOOKUP(A2,'[1]Pitopaikat Ruokavirasto'!A:A,'[1]Pitopaikat Ruokavirasto'!B:B) -> 51 | F2: 38 | G2: 52 | H2: 1 | I2: 39 | J2: 40 | K2: 28 | L2: =SUM(F2:K2) -> 198 | M2: =L2/(D2/$N$1) -> 12.069491
A3: Alajärvi | B3: =_xlfn.XLOOKUP(A3,'[1]Kunnat seutukunnat maakunnat'!C:C,'[1]Kunnat seutukunnat maakunnat'!F:F) -> Etelä-Pohjanmaa | C3: =_xlfn.XLOOKUP(A3,'[1]Kunnat seutukunnat maakunnat'!C:C,'[1]Kunnat seutukunnat maakunnat'!G:G) -> Järviseudun seutukunta | D3: =_xlfn.XLOOKUP(A3,Väkiluku!A:A,Väkiluku!B:B) -> 9113 | E3: =_xlfn.XLOOKUP(A3,'[1]Pitopaikat Ruokavirasto'!A:A,'[1]Pitopaikat Ruokavirasto'!B:B) -> 54 | F3: 7 | G3: 48 | H3: 1 | I3: 23 | J3: 32 | K3: 25 | L3: =SUM(F3:K3) -> 136 | M3: =L3/(D3/$N$1) -> 14.923735
A4: Alavieska | B4: =_xlfn.XLOOKUP(A4,'[1]Kunnat seutukunnat maakunnat'!C:C,'[1]Kunnat seutukunnat maakunnat'!F:F) -> Pohjois-Pohjanmaa | C4: =_xlfn.XLOOKUP(A4,'[1]Kunnat seutukunnat maakunnat'!C:C,'[1]Kunnat seutukunnat maakunnat'!G:G) -> Ylivieskan seutukunta | D4: =_xlfn.XLOOKUP(A4,Väkiluku!A:A,Väkiluku!B:B) -> 2437 | E4: =_xlfn.XLOOKUP(A4,'[1]Pitopaikat Ruokavirasto'!A:A,'[1]Pitopaikat Ruokavirasto'!B:B) -> 16 | F4: 9 | G4: 18 | H4: 0 | I4: 7 | J4: 13 | K4: 3 | L4: =SUM(F4:K4) -> 50 | M4: =L4/(D4/$N$1) -> 20.517029
A5: Alavus | B5: =_xlfn.XLOOKUP(A5,'[1]Kunnat seutukunnat maakunnat'!C:C,'[1]Kunnat seutukunnat maakunnat'!F:F) -> Etelä-Pohjanmaa | C5: =_xlfn.XLOOKUP(A5,'[1]Kunnat seutukunnat maakunnat'!C:C,'[1]Kunnat seutukunnat maakunnat'!G:G) -> Kuusiokuntien seutukunta | D5: =_xlfn.XLOOKUP(A5,Väkiluku!A:A,Väkiluku!B:B) -> 10933 | E5: =_xlfn.XLOOKUP(A5,'[1]Pitopaikat Ruokavirasto'!A:A,'[1]Pitopaikat Ruokavirasto'!B:B) -> 73 | F5: 36 | G5: 86 | H5: 1 | I5: 38 | J5: 54 | K5: 66 | L5: =SUM(F5:K5) -> 281 | M5: =L5/(D5/$N$1) -> 25.702003
A6: Asikkala | B6: =_xlfn.XLOOKUP(A6,'[1]Kunnat seutukunnat maakunnat'!C:C,'[1]Kunnat seutukunnat maakunnat'!F:F) -> Päijät-Häme | C6: =_xlfn.XLOOKUP(A6,'[1]Kunnat seutukunnat maakunnat'!C:C,'[1]Kunnat seutukunnat maakunnat'!G:G) -> Lahden seutukunta | D6: =_xlfn.XLOOKUP(A6,Väkiluku!A:A,Väkiluku!B:B) -> 7968 | E6: =_xlfn.XLOOKUP(A6,'[1]Pitopaikat Ruokavirasto'!A:A,'[1]Pitopaikat Ruokavirasto'!B:B) -> 46 | F6: 38 | G6: 51 | H6: 3 | I6: 42 | J6: 60 | K6: 32 | L6: =SUM(F6:K6) -> 226 | M6: =L6/(D6/$N$1) -> 28.363454
A7: Askola | B7: =_xlfn.XLOOKUP(A7,'[1]Kunnat seutukunnat maakunnat'!C:C,'[1]Kunnat seutukunnat maakunnat'!F:F) -> Uusimaa | C7: =_xlfn.XLOOKUP(A7,'[1]Kunnat seutukunnat maakunnat'!C:C,'[1]Kunnat seutukunnat maakunnat'!G:G) -> Porvoon seutukunta | D7: =_xlfn.XLOOKUP(A7,Väkiluku!A:A,Väkiluku!B:B) -> 4700 | E7: =_xlfn.XLOOKUP(A7,'[1]Pitopaikat Ruokavirasto'!A:A,'[1]Pitopaikat Ruokavirasto'!B:B) -> 22 | F7: 14 | G7: 20 | H7: 1 | I7: 18 | J7: 20 | K7: 10 | L7: =SUM(F7:K7) -> 83 | M7: =L7/(D7/$N$1) -> 17.659574
A8: Aura | B8: =_xlfn.XLOOKUP(A8,'[1]Kunnat seutukunnat maakunnat'!C:C,'[1]Kunnat seutukunnat maakunnat'!F:F) -> Varsinais-Suomi | C8: =_xlfn.XLOOKUP(A8,'[1]Kunnat seutukunnat maakunnat'!C:C,'[1]Kunnat seutukunnat maakunnat'!G:G) -> Loimaan seutukunta | D8: =_xlfn.XLOOKUP(A8,Väkiluku!A:A,Väkiluku!B:B) -> 3961 | E8: =_xlfn.XLOOKUP(A8,'[1]Pitopaikat Ruokavirasto'!A:A,'[1]Pitopaikat Ruokavirasto'!B:B) -> 20 | F8: 14 | G8: 20 | H8: 0 | I8: 17 | J8: 20 | K8: 5 | L8: =SUM(F8:K8) -> 76 | M8: =L8/(D8/$N$1) -> 19.187074
A9: Brändö | B9: =_xlfn.XLOOKUP(A9,'[1]Kunnat seutukunnat maakunnat'!C:C,'[1]Kunnat seutukunnat maakunnat'!F:F) -> Ahvenanmaa | C9: =_xlfn.XLOOKUP(A9,'[1]Kunnat seutukunnat maakunnat'!C:C,'[1]Kunnat seutukunnat maakunnat'!G:G) -> Ålands skärgård | D9: =_xlfn.XLOOKUP(A9,Väkiluku!A:A,Väkiluku!B:B) -> 436 | E9: 3* | F9: 0 | G9: 1 | H9: 0 | I9: 1 | J9: 4 | K9: 0 | L9: =SUM(F9:K9) -> 6 | M9: =L9/(D9/$N$1) -> 13.761468
A10: Eckerö | B10: =_xlfn.XLOOKUP(A10,'[1]Kunnat seutukunnat maakunnat'!C:C,'[1]Kunnat seutukunnat maakunnat'!F:F) -> Ahvenanmaa | C10: =_xlfn.XLOOKUP(A10,'[1]Kunnat seutukunnat maakunnat'!C:C,'[1]Kunnat seutukunnat maakunnat'!G:G) -> Ålands landsbygd | D10: =_xlfn.XLOOKUP(A10,Väkiluku!A:A,Väkiluku!B:B) -> 942 | E10: =_xlfn.XLOOKUP(A10,'[1]Pitopaikat Ruokavirasto'!A:A,'[1]Pitopaikat Ruokavirasto'!B:B) -> 5 | F10: 0 | G10: 2 | H10: 0 | I10: 6 | J10: 3 | K10: 3 | L10: =SUM(F10:K10) -> 14 | M10: =L10/(D10/$N$1) -> 14.861996
A11: Enonkoski | B11: =_xlfn.XLOOKUP(A11,'[1]Kunnat seutukunnat maakunnat'!C:C,'[1]Kunnat seutukunnat maakunnat'!F:F) -> Etelä-Savo | C11: =_xlfn.XLOOKUP(A11,'[1]Kunnat seutukunnat maakunnat'!C:C,'[1]Kunnat seutukunnat maakunnat'!G:G) -> Savonlinnan seutukunta | D11: =_xlfn.XLOOKUP(A11,Väkiluku!A:A,Väkiluku!B:B) -> 1320 | E11: =_xlfn.XLOOKUP(A11,'[1]Pitopaikat Ruokavirasto'!A:A,'[1]Pitopaikat Ruokavirasto'!B:B) -> 7 | F11: 13 | G11: 51 | H11: 0 | I11: 1 | J11: 8 | K11: 3 | L11: =SUM(F11:K11) -> 76 | M11: =L11/(D11/$N$1) -> 57.575758
A12: Enontekiö | B12: =_xlfn.XLOOKUP(A12,'[1]Kunnat seutukunnat maakunnat'!C:C,'[1]Kunnat seutukunnat maakunnat'!F:F) -> Lappi | C12: =_xlfn.XLOOKUP(A12,'[1]Kunnat seutukunnat maakunnat'!C:C,'[1]Kunnat seutukunnat maakunnat'!G:G) -> Tunturi-Lapin seutukunta | D12: =_xlfn.XLOOKUP(A12,Väkiluku!A:A,Väkiluku!B:B) -> 1771 | E12: 3* | F12: 3 | G12: 2 | H12: 0 | I12: 1 | J12: 0 | K12: 0 | L12: =SUM(F12:K12) -> 6 | M12: =L12/(D12/$N$1) -> 3.3879164
A13: Espoo | B13: =_xlfn.XLOOKUP(A13,'[1]Kunnat seutukunnat maakunnat'!C:C,'[1]Kunnat seutukunnat maakunnat'!F:F) -> Uusimaa | C13: =_xlfn.XLOOKUP(A13,'[1]Kunnat seutukunnat maakunnat'!C:C,'[1]Kunnat seutukunnat maakunnat'!G:G) -> Helsingin seutukunta | D13: =_xlfn.XLOOKUP(A13,Väkiluku!A:A,Väkiluku!B:B) -> 314024 | E13: =_xlfn.XLOOKUP(A13,'[1]Pitopaikat Ruokavirasto'!A:A,'[1]Pitopaikat Ruokavirasto'!B:B) -> 58 | F13: 139 | G13: 139 | H13: 1 | I13: 754 | J13: 219 | K13: 262 | L13: =SUM(F13:K13) -> 1514 | M13: =L13/(D13/$N$1) -> 4.8212875
A14: Eura | B14: =_xlfn.XLOOKUP(A14,'[1]Kunnat seutukunnat maakunnat'!C:C,'[1]Kunnat seutukunnat maakunnat'!F:F) -> Satakunta | C14: =_xlfn.XLOOKUP(A14,'[1]Kunnat seutukunnat maakunnat'!C:C,'[1]Kunnat seutukunnat maakunnat'!G:G) -> Rauman seutukunta | D14: =_xlfn.XLOOKUP(A14,Väkiluku!A:A,Väkiluku!B:B) -> 11184 | E14: =_xlfn.XLOOKUP(A14,'[1]Pitopaikat Ruokavirasto'!A:A,'[1]Pitopaikat Ruokavirasto'!B:B) -> 58 | F14: 91 | G14: 117 | H14: 0 | I14: 30 | J14: 54 | K14: 26 | L14: =SUM(F14:K14) -> 318 | M14: =L14/(D14/$N$1) -> 28.433476
A15: Eurajoki | B15: =_xlfn.XLOOKUP(A15,'[1]Kunnat seutukunnat maakunnat'!C:C,'[1]Kunnat seutukunnat maakunnat'!F:F) -> Satakunta | C15: =_xlfn.XLOOKUP(A15,'[1]Kunnat seutukunnat maakunnat'!C:C,'[1]Kunnat seutukunnat maakunnat'!G:G) -> Rauman seutukunta | D15: =_xlfn.XLOOKUP(A15,Väkiluku!A:A,Väkiluku!B:B) -> 9143 | E15: =_xlfn.XLOOKUP(A15,'[1]Pitopaikat Ruokavirasto'!A:A,'[1]Pitopaikat Ruokavirasto'!B:B) -> 65 | F15: 66 | G15: 82 | H15: 0 | I15: 41 | J15: 128 | K15: 29 | L15: =SUM(F15:K15) -> 346 | M15: =L15/(D15/$N$1) -> 37.843159
A16: Evijärvi | B16: =_xlfn.XLOOKUP(A16,'[1]Kunnat seutukunnat maakunnat'!C:C,'[1]Kunnat seutukunnat maakunnat'!F:F) -> Etelä-Pohjanmaa | C16: =_xlfn.XLOOKUP(A16,'[1]Kunnat seutukunnat maakunnat'!C:C,'[1]Kunnat seutukunnat maakunnat'!G:G) -> Järviseudun seutukunta | D16: =_xlfn.XLOOKUP(A16,Väkiluku!A:A,Väkiluku!B:B) -> 2292 | E16: =_xlfn.XLOOKUP(A16,'[1]Pitopaikat Ruokavirasto'!A:A,'[1]Pitopaikat Ruokavirasto'!B:B) -> 16 | F16: 6 | G16: 12 | H16: 0 | I16: 6 | J16: 8 | K16: 4 | L16: =SUM(F16:K16) -> 36 | M16: =L16/(D16/$N$1) -> 15.706806
A17: Finström | B17: =_xlfn.XLOOKUP(A17,'[1]Kunnat seutukunnat maakunnat'!C:C,'[1]Kunnat seutukunnat maakunnat'!F:F) -> Ahvenanmaa | C17: =_xlfn.XLOOKUP(A17,'[1]Kunnat seutukunnat maakunnat'!C:C,'[1]Kunnat seutukunnat maakunnat'!G:G) -> Ålands landsbygd | D17: =_xlfn.XLOOKUP(A17,Väkiluku!A:A,Väkiluku!B:B) -> 2610 | E17: =_xlfn.XLOOKUP(A17,'[1]Pitopaikat Ruokavirasto'!A:A,'[1]Pitopaikat Ruokavirasto'!B:B) -> 17 | F17: 1 | G17: 1 | H17: 0 | I17: 19 | J17: 16 | K17: 10 | L17: =SUM(F17:K17) -> 47 | M17: =L17/(D17/$N$1) -> 18.007663
A18: Forssa | B18: =_xlfn.XLOOKUP(A18,'[1]Kunnat seutukunnat maakunnat'!C:C,'[1]Kunnat seutukunnat maakunnat'!F:F) -> Kanta-Häme | C18: =_xlfn.XLOOKUP(A18,'[1]Kunnat seutukunnat maakunnat'!C:C,'[1]Kunnat seutukunnat maakunnat'!G:G) -> Forssan seutukunta | D18: =_xlfn.XLOOKUP(A18,Väkiluku!A:A,Väkiluku!B:B) -> 16469 | E18: =_xlfn.XLOOKUP(A18,'[1]Pitopaikat Ruokavirasto'!A:A,'[1]Pitopaikat Ruokavirasto'!B:B) -> 53 | F18: 142 | G18: 93 | H18: 1 | I18: 75 | J18: 144 | K18: 25 | L18: =SUM(F18:K18) -> 480 | M18: =L18/(D18/$N$1) -> 29.145668
A19: Föglö | B19: =_xlfn.XLOOKUP(A19,'[1]Kunnat seutukunnat maakunnat'!C:C,'[1]Kunnat seutukunnat maakunnat'!F:F) -> Ahvenanmaa | C19: =_xlfn.XLOOKUP(A19,'[1]Kunnat seutukunnat maakunnat'!C:C,'[1]Kunnat seutukunnat maakunnat'!G:G) -> Ålands skärgård | D19: =_xlfn.XLOOKUP(A19,Väkiluku!A:A,Väkiluku!B:B) -> 509 | E19: 3* | F19: 0 | G19: 0 | H19: 0 | I19: 0 | J19: 2 | K19: 4 | L19: =SUM(F19:K19) -> 6 | M19: =L19/(D19/$N$1) -> 11.787819
A20: Geta | B20: =_xlfn.XLOOKUP(A20,'[1]Kunnat seutukunnat maakunnat'!C:C,'[1]Kunnat seutukunnat maakunnat'!F:F) -> Ahvenanmaa | C20: =_xlfn.XLOOKUP(A20,'[1]Kunnat seutukunnat maakunnat'!C:C,'[1]Kunnat seutukunnat maakunnat'!G:G) -> Ålands landsbygd | D20: =_xlfn.XLOOKUP(A20,Väkiluku!A:A,Väkiluku!B:B) -> 509 | E20: 3* | F20: 0 | G20: 0 | H20: 0 | I20: 0 | J20: 14 | K20: 2 | L20: =SUM(F20:K20) -> 16 | M20: =L20/(D20/$N$1) -> 31.434185
A21: Haapajärvi | B21: =_xlfn.XLOOKUP(A21,'[1]Kunnat seutukunnat maakunnat'!C:C,'[1]Kunnat seutukunnat maakunnat'!F:F) -> Pohjois-Pohjanmaa | C21: =_xlfn.XLOOKUP(A21,'[1]Kunnat seutukunnat maakunnat'!C:C,'[1]Kunnat seutukunnat maakunnat'!G:G) -> Nivala–Haapajärven seutukunta | D21: =_xlfn.XLOOKUP(A21,Väkiluku!A:A,Väkiluku!B:B) -> 6558 | E21: =_xlfn.XLOOKUP(A21,'[1]Pitopaikat Ruokavirasto'!A:A,'[1]Pitopaikat Ruokavirasto'!B:B) -> 29 | F21: 25 | G21: 51 | H21: 1 | I21: 21 | J21: 18 | K21: 9 | L21: =SUM(F21:K21) -> 125 | M21: =L21/(D21/$N$1) -> 19.060689
A22: Haapavesi | B22: =_xlfn.XLOOKUP(A22,'[1]Kunnat seutukunnat maakunnat'!C:C,'[1]Kunnat seutukunnat maakunnat'!F:F) -> Pohjois-Pohjanmaa | C22: =_xlfn.XLOOKUP(A22,'[1]Kunnat seutukunnat maakunnat'!C:C,'[1]Kunnat seutukunnat maakunnat'!G:G) -> Haapaveden-Siikalatvan seutukunta | D22: =_xlfn.XLOOKUP(A22,Väkiluku!A:A,Väkiluku!B:B) -> 6473 | E22: =_xlfn.XLOOKUP(A22,'[1]Pitopaikat Ruokavirasto'!A:A,'[1]Pitopaikat Ruokavirasto'!B:B) -> 33 | F22: 29 | G22: 48 | H22: 0 | I22: 21 | J22: 41 | K22: 24 | L22: =SUM(F22:K22) -> 163 | M22: =L22/(D22/$N$1) -> 25.181523
A23: Hailuoto | B23: =_xlfn.XLOOKUP(A23,'[1]Kunnat seutukunnat maakunnat'!C:C,'[1]Kunnat seutukunnat maakunnat'!F:F) -> Pohjois-Pohjanmaa | C23: =_xlfn.XLOOKUP(A23,'[1]Kunnat seutukunnat maakunnat'!C:C,'[1]Kunnat seutukunnat maakunnat'!G:G) -> Oulun seutukunta | D23: =_xlfn.XLOOKUP(A23,Väkiluku!A:A,Väkiluku!B:B) -> 948 | E23: =_xlfn.XLOOKUP(A23,'[1]Pitopaikat Ruokavirasto'!A:A,'[1]Pitopaikat Ruokavirasto'!B:B) -> 5 | F23: 6 | G23: 6 | H23: 0 | I23: 2 | J23: 3 | K23: 2 | L23: =SUM(F23:K23) -> 19 | M23: =L23/(D23/$N$1) -> 20.042194
A24: Halsua | B24: =_xlfn.XLOOKUP(A24,'[1]Kunnat seutukunnat maakunnat'!C:C,'[1]Kunnat seutukunnat maakunnat'!F:F) -> Keski-Pohjanmaa | C24: =_xlfn.XLOOKUP(A24,'[1]Kunnat seutukunnat maakunnat'!C:C,'[1]Kunnat seutukunnat maakunnat'!G:G) -> Kaustisen seutukunta | D24: =_xlfn.XLOOKUP(A24,Väkiluku!A:A,Väkiluku!B:B) -> 1013 | E24: =_xlfn.XLOOKUP(A24,'[1]Pitopaikat Ruokavirasto'!A:A,'[1]Pitopaikat Ruokavirasto'!B:B) -> 18 | F24: 44 | G24: 47 | H24: 1 | I24: 4 | J24: 7 | K24: 4 | L24: =SUM(F24:K24) -> 107 | M24: =L24/(D24/$N$1) -> 105.62685
A25: Hamina | B25: =_xlfn.XLOOKUP(A25,'[1]Kunnat seutukunnat maakunnat'!C:C,'[1]Kunnat seutukunnat maakunnat'!F:F) -> Kymenlaakso | C25: =_xlfn.XLOOKUP(A25,'[1]Kunnat seutukunnat maakunnat'!C:C,'[1]Kunnat seutukunnat maakunnat'!G:G) -> Kotka–Haminan seutukunta | D25: =_xlfn.XLOOKUP(A25,Väkiluku!A:A,Väkiluku!B:B) -> 19534 | E25: =_xlfn.XLOOKUP(A25,'[1]Pitopaikat Ruokavirasto'!A:A,'[1]Pitopaikat Ruokavirasto'!B:B) -> 53 | F25: 56 | G25: 103 | H25: 1 | I25: 75 | J25: 78 | K25: 22 | L25: =SUM(F25:K25) -> 335 | M25: =L25/(D25/$N$1) -> 17.149585
A26: Hammarland | B26: =_xlfn.XLOOKUP(A26,'[1]Kunnat seutukunnat maakunnat'!C:C,'[1]Kunnat seutukunnat maakunnat'!F:F) -> Ahvenanmaa | C26: =_xlfn.XLOOKUP(A26,'[1]Kunnat seutukunnat maakunnat'!C:C,'[1]Kunnat seutukunnat maakunnat'!G:G) -> Ålands landsbygd | D26: =_xlfn.XLOOKUP(A26,Väkiluku!A:A,Väkiluku!B:B) -> 1646 | E26: =_xlfn.XLOOKUP(A26,'[1]Pitopaikat Ruokavirasto'!A:A,'[1]Pitopaikat Ruokavirasto'!B:B) -> 26 | F26: 1 | G26: 1 | H26: 0 | I26: 14 | J26: 24 | K26: 15 | L26: =SUM(F26:K26) -> 55 | M26: =L26/(D26/$N$1) -> 33.414338
A27: Hankasalmi | B27: =_xlfn.XLOOKUP(A27,'[1]Kunnat seutukunnat maakunnat'!C:C,'[1]Kunnat seutukunnat maakunnat'!F:F) -> Keski-Suomi | C27: =_xlfn.XLOOKUP(A27,'[1]Kunnat seutukunnat maakunnat'!C:C,'[1]Kunnat seutukunnat maakunnat'!G:G) -> Jyväskylän seutukunta | D27: =_xlfn.XLOOKUP(A27,Väkiluku!A:A,Väkiluku!B:B) -> 4549 | E27: =_xlfn.XLOOKUP(A27,'[1]Pitopaikat Ruokavirasto'!A:A,'[1]Pitopaikat Ruokavirasto'!B:B) -> 54 | F27: 102 | G27: 132 | H27: 1 | I27: 20 | J27: 64 | K27: 15 | L27: =SUM(F27:K27) -> 334 | M27: =L27/(D27/$N$1) -> 73.42273
A28: Hanko | B28: =_xlfn.XLOOKUP(A28,'[1]Kunnat seutukunnat maakunnat'!C:C,'[1]Kunnat seutukunnat maakunnat'!F:F) -> Uusimaa | C28: =_xlfn.XLOOKUP(A28,'[1]Kunnat seutukunnat maakunnat'!C:C,'[1]Kunnat seutukunnat maakunnat'!G:G) -> Raaseporin seutukunta | D28: =_xlfn.XLOOKUP(A28,Väkiluku!A:A,Väkiluku!B:B) -> 7721 | E28: 3* | F28: 2 | G28: 2 | H28: 2 | I28: 15 | J28: 10 | K28: 21 | L28: =SUM(F28:K28) -> 52 | M28: =L28/(D28/$N$1) -> 6.7348789
A29: Harjavalta | B29: =_xlfn.XLOOKUP(A29,'[1]Kunnat seutukunnat maakunnat'!C:C,'[1]Kunnat seutukunnat maakunnat'!F:F) -> Satakunta | C29: =_xlfn.XLOOKUP(A29,'[1]Kunnat seutukunnat maakunnat'!C:C,'[1]Kunnat seutukunnat maakunnat'!G:G) -> Porin seutukunta | D29: =_xlfn.XLOOKUP(A29,Väkiluku!A:A,Väkiluku!B:B) -> 6703 | E29: =_xlfn.XLOOKUP(A29,'[1]Pitopaikat Ruokavirasto'!A:A,'[1]Pitopaikat Ruokavirasto'!B:B) -> 10 | F29: 23 | G29: 23 | H29: 0 | I29: 19 | J29: 8 | K29: 11 | L29: =SUM(F29:K29) -> 84 | M29: =L29/(D29/$N$1) -> 12.531702
A30: Hartola | B30: =_xlfn.XLOOKUP(A30,'[1]Kunnat seutukunnat maakunnat'!C:C,'[1]Kunnat seutukunnat maakunnat'!F:F) -> Päijät-Häme | C30: =_xlfn.XLOOKUP(A30,'[1]Kunnat seutukunnat maakunnat'!C:C,'[1]Kunnat seutukunnat maakunnat'!G:G) -> Lahden seutukunta | D30: =_xlfn.XLOOKUP(A30,Väkiluku!A:A,Väkiluku!B:B) -> 2531 | E30: =_xlfn.XLOOKUP(A30,'[1]Pitopaikat Ruokavirasto'!A:A,'[1]Pitopaikat Ruokavirasto'!B:B) -> 14 | F30: 21 | G30: 34 | H30: 0 | I30: 12 | J30: 11 | K30: 6 | L30: =SUM(F30:K30) -> 84 | M30: =L30/(D30/$N$1) -> 33.188463
A31: Hattula | B31: =_xlfn.XLOOKUP(A31,'[1]Kunnat seutukunnat maakunnat'!C:C,'[1]Kunnat seutukunnat maakunnat'!F:F) -> Kanta-Häme | C31: =_xlfn.XLOOKUP(A31,'[1]Kunnat seutukunnat maakunnat'!C:C,'[1]Kunnat seutukunnat maakunnat'!G:G) -> Hämeenlinnan seutukunta | D31: =_xlfn.XLOOKUP(A31,Väkiluku!A:A,Väkiluku!B:B) -> 9371 | E31: =_xlfn.XLOOKUP(A31,'[1]Pitopaikat Ruokavirasto'!A:A,'[1]Pitopaikat Ruokavirasto'!B:B) -> 41 | F31: 28 | G31: 77 | H31: 0 | I31: 54 | J31: 40 | K31: 27 | L31: =SUM(F31:K31) -> 226 | M31: =L31/(D31/$N$1) -> 24.116957
A32: Hausjärvi | B32: =_xlfn.XLOOKUP(A32,'[1]Kunnat seutukunnat maakunnat'!C:C,'[1]Kunnat seutukunnat maakunnat'!F:F) -> Kanta-Häme | C32: =_xlfn.XLOOKUP(A32,'[1]Kunnat seutukunnat maakunnat'!C:C,'[1]Kunnat seutukunnat maakunnat'!G:G) -> Riihimäen seutukunta | D32: =_xlfn.XLOOKUP(A32,Väkiluku!A:A,Väkiluku!B:B) -> 7998 | E32: =_xlfn.XLOOKUP(A32,'[1]Pitopaikat Ruokavirasto'!A:A,'[1]Pitopaikat Ruokavirasto'!B:B) -> 57 | F32: 28 | G32: 43 | H32: 0 | I32: 31 | J32: 63 | K32: 11 | L32: =SUM(F32:K32) -> 176 | M32: =L32/(D32/$N$1) -> 22.005501
A33: Heinola | B33: =_xlfn.XLOOKUP(A33,'[1]Kunnat seutukunnat maakunnat'!C:C,'[1]Kunnat seutukunnat maakunnat'!F:F) -> Päijät-Häme | C33: =_xlfn.XLOOKUP(A33,'[1]Kunnat seutukunnat maakunnat'!C:C,'[1]Kunnat seutukunnat maakunnat'!G:G) -> Lahden seutukunta | D33: =_xlfn.XLOOKUP(A33,Väkiluku!A:A,Väkiluku!B:B) -> 17953 | E33: =_xlfn.XLOOKUP(A33,'[1]Pitopaikat Ruokavirasto'!A:A,'[1]Pitopaikat Ruokavirasto'!B:B) -> 34 | F33: 34 | G33: 43 | H33: 0 | I33: 18 | J33: 26 | K33: 19 | L33: =SUM(F33:K33) -> 140 | M33: =L33/(D33/$N$1) -> 7.7981396
A34: Heinävesi | B34: =_xlfn.XLOOKUP(A34,'[1]Kunnat seutukunnat maakunnat'!C:C,'[1]Kunnat seutukunnat maakunnat'!F:F) -> Pohjois-Karjala | C34: =_xlfn.XLOOKUP(A34,'[1]Kunnat seutukunnat maakunnat'!C:C,'[1]Kunnat seutukunnat maakunnat'!G:G) -> Joensuun seutukunta | D34: =_xlfn.XLOOKUP(A34,Väkiluku!A:A,Väkiluku!B:B) -> 3001 | E34: =_xlfn.XLOOKUP(A34,'[1]Pitopaikat Ruokavirasto'!A:A,'[1]Pitopaikat Ruokavirasto'!B:B) -> 19 | F34: 47 | G34: 41 | H34: 0 | I34: 6 | J34: 23 | K34: 11 | L34: =SUM(F34:K34) -> 128 | M34: =L34/(D34/$N$1) -> 42.652449
A35: Helsinki | B35: =_xlfn.XLOOKUP(A35,'[1]Kunnat seutukunnat maakunnat'!C:C,'[1]Kunnat seutukunnat maakunnat'!F:F) -> Uusimaa | C35: =_xlfn.XLOOKUP(A35,'[1]Kunnat seutukunnat maakunnat'!C:C,'[1]Kunnat seutukunnat maakunnat'!G:G) -> Helsingin seutukunta | D35: =_xlfn.XLOOKUP(A35,Väkiluku!A:A,Väkiluku!B:B) -> 674500 | E35: =_xlfn.XLOOKUP(A35,'[1]Pitopaikat Ruokavirasto'!A:A,'[1]Pitopaikat Ruokavirasto'!B:B) -> 19 | F35: 197 | G35: 178 | H35: 3 | I35: 880 | J35: 221 | K35: 251 | L35: =SUM(F35:K35) -> 1730 | M35: =L35/(D35/$N$1) -> 2.5648629
A36: Hirvensalmi | B36: =_xlfn.XLOOKUP(A36,'[1]Kunnat seutukunnat maakunnat'!C:C,'[1]Kunnat seutukunnat maakunnat'!F:F) -> Etelä-Savo | C36: =_xlfn.XLOOKUP(A36,'[1]Kunnat seutukunnat maakunnat'!C:C,'[1]Kunnat seutukunnat maakunnat'!G:G) -> Mikkelin seutukunta | D36: =_xlfn.XLOOKUP(A36,Väkiluku!A:A,Väkiluku!B:B) -> 2062 | E36: =_xlfn.XLOOKUP(A36,'[1]Pitopaikat Ruokavirasto'!A:A,'[1]Pitopaikat Ruokavirasto'!B:B) -> 17 | F36: 2 | G36: 14 | H36: 0 | I36: 8 | J36: 7 | K36: 2 | L36: =SUM(F36:K36) -> 33 | M36: =L36/(D36/$N$1) -> 16.00388
A37: Hollola | B37: =_xlfn.XLOOKUP(A37,'[1]Kunnat seutukunnat maakunnat'!C:C,'[1]Kunnat seutukunnat maakunnat'!F:F) -> Päijät-Häme | C37: =_xlfn.XLOOKUP(A37,'[1]Kunnat seutukunnat maakunnat'!C:C,'[1]Kunnat seutukunnat maakunnat'!G:G) -> Lahden seutukunta | D37: =_xlfn.XLOOKUP(A37,Väkiluku!A:A,Väkiluku!B:B) -> 22885 | E37: =_xlfn.XLOOKUP(A37,'[1]Pitopaikat Ruokavirasto'!A:A,'[1]Pitopaikat Ruokavirasto'!B:B) -> 83 | F37: 160 | G37: 132 | H37: 1 | I37: 79 | J37: 69 | K37: 39 | L37: =SUM(F37:K37) -> 480 | M37: =L37/(D37/$N$1) -> 20.974437
A38: Huittinen | B38: =_xlfn.XLOOKUP(A38,'[1]Kunnat seutukunnat maakunnat'!C:C,'[1]Kunnat seutukunnat maakunnat'!F:F) -> Satakunta | C38: =_xlfn.XLOOKUP(A38,'[1]Kunnat seutukunnat maakunnat'!C:C,'[1]Kunnat seutukunnat maakunnat'!G:G) -> Porin seutukunta | D38: =_xlfn.XLOOKUP(A38,Väkiluku!A:A,Väkiluku!B:B) -> 9646 | E38: =_xlfn.XLOOKUP(A38,'[1]Pitopaikat Ruokavirasto'!A:A,'[1]Pitopaikat Ruokavirasto'!B:B) -> 43 | F38: 49 | G38: 66 | H38: 1 | I38: 61 | J38: 49 | K38: 51 | L38: =SUM(F38:K38) -> 277 | M38: =L38/(D38/$N$1) -> 28.716566
A39: Humppila | B39: =_xlfn.XLOOKUP(A39,'[1]Kunnat seutukunnat maakunnat'!C:C,'[1]Kunnat seutukunnat maakunnat'!F:F) -> Kanta-Häme | C39: =_xlfn.XLOOKUP(A39,'[1]Kunnat seutukunnat maakunnat'!C:C,'[1]Kunnat seutukunnat maakunnat'!G:G) -> Forssan seutukunta | D39: =_xlfn.XLOOKUP(A39,Väkiluku!A:A,Väkiluku!B:B) -> 2125 | E39: =_xlfn.XLOOKUP(A39,'[1]Pitopaikat Ruokavirasto'!A:A,'[1]Pitopaikat Ruokavirasto'!B:B) -> 11 | F39: 20 | G39: 12 | H39: 0 | I39: 7 | J39: 8 | K39: 2 | L39: =SUM(F39:K39) -> 49 | M39: =L39/(D39/$N$1) -> 23.058824
A40: Hyrynsalmi | B40: =_xlfn.XLOOKUP(A40,'[1]Kunnat seutukunnat maakunnat'!C:C,'[1]Kunnat seutukunnat maakunnat'!F:F) -> Kainuu | C40: =_xlfn.XLOOKUP(A40,'[1]Kunnat seutukunnat maakunnat'!C:C,'[1]Kunnat seutukunnat maakunnat'!G:G) -> Kehys-Kainuun seutukunta | D40: =_xlfn.XLOOKUP(A40,Väkiluku!A:A,Väkiluku!B:B) -> 2063 | E40: =_xlfn.XLOOKUP(A40,'[1]Pitopaikat Ruokavirasto'!A:A,'[1]Pitopaikat Ruokavirasto'!B:B) -> 5 | F40: 2 | G40: 6 | H40: 1 | I40: 2 | J40: 2 | K40: 1 | L40: =SUM(F40:K40) -> 14 | M40: =L40/(D40/$N$1) -> 6.7862336
...

Sheet Hevosia per 1000 asukasta suuru
A1: Kunta | B1: Maakunta | C1: Seutukunta | D1: Väkiluku | E1: Pitopaikat Ruokavirasto | F1: LV | G1: SH | H1: KV | I1: R | J1: P | K1: R_tai_P | L1: Hevosia | M1: Hevosia / 1000 asukasta | N1: 1000
A2: Ypäjä | B2: =_xlfn.XLOOKUP(A2,'[1]Kunnat seutukunnat maakunnat'!C:C,'[1]Kunnat seutukunnat maakunnat'!F:F) -> Kanta-Häme | C2: =_xlfn.XLOOKUP(A2,'[1]Kunnat seutukunnat maakunnat'!C:C,'[1]Kunnat seutukunnat maakunnat'!G:G) -> Forssan seutukunta | D2: =_xlfn.XLOOKUP(A2,Väkiluku!A:A,Väkiluku!B:B) -> 2207 | E2: =_xlfn.XLOOKUP(A2,'[1]Pitopaikat Ruokavirasto'!A:A,'[1]Pitopaikat Ruokavirasto'!B:B) -> 76 | F2: 68 | G2: 150 | H2: 0 | I2: 184 | J2: 77 | K2: 24 | L2: =SUM(F2:K2) -> 503 | M2: =L2/(D2/$N$1) -> 227.91119
A3: Halsua | B3: =_xlfn.XLOOKUP(A3,'[1]Kunnat seutukunnat maakunnat'!C:C,'[1]Kunnat seutukunnat maakunnat'!F:F) -> Keski-Pohjanmaa | C3: =_xlfn.XLOOKUP(A3,'[1]Kunnat seutukunnat maakunnat'!C:C,'[1]Kunnat seutukunnat maakunnat'!G:G) -> Kaustisen seutukunta | D3: =_xlfn.XLOOKUP(A3,Väkiluku!A:A,Väkiluku!B:B) -> 1013 | E3: =_xlfn.XLOOKUP(A3,'[1]Pitopaikat Ruokavirasto'!A:A,'[1]Pitopaikat Ruokavirasto'!B:B) -> 18 | F3: 44 | G3: 47 | H3: 1 | I3: 4 | J3: 7 | K3: 4 | L3: =SUM(F3:K3) -> 107 | M3: =L3/(D3/$N$1) -> 105.62685
A4: Karijoki | B4: =_xlfn.XLOOKUP(A4,'[1]Kunnat seutukunnat maakunnat'!C:C,'[1]Kunnat seutukunnat maakunnat'!F:F) -> Etelä-Pohjanmaa | C4: =_xlfn.XLOOKUP(A4,'[1]Kunnat seutukunnat maakunnat'!C:C,'[1]Kunnat seutukunnat maakunnat'!G:G) -> Suupohjan seutukunta | D4: =_xlfn.XLOOKUP(A4,Väkiluku!A:A,Väkiluku!B:B) -> 1188 | E4: =_xlfn.XLOOKUP(A4,'[1]Pitopaikat Ruokavirasto'!A:A,'[1]Pitopaikat Ruokavirasto'!B:B) -> 11 | F4: 28 | G4: 20 | H4: 0 | I4: 25 | J4: 11 | K4: 19 | L4: =SUM(F4:K4) -> 103 | M4: =L4/(D4/$N$1) -> 86.700337
A5: Hankasalmi | B5: =_xlfn.XLOOKUP(A5,'[1]Kunnat seutukunnat maakunnat'!C:C,'[1]Kunnat seutukunnat maakunnat'!F:F) -> Keski-Suomi | C5: =_xlfn.XLOOKUP(A5,'[1]Kunnat seutukunnat maakunnat'!C:C,'[1]Kunnat seutukunnat maakunnat'!G:G) -> Jyväskylän seutukunta | D5: =_xlfn.XLOOKUP(A5,Väkiluku!A:A,Väkiluku!B:B) -> 4549 | E5: =_xlfn.XLOOKUP(A5,'[1]Pitopaikat Ruokavirasto'!A:A,'[1]Pitopaikat Ruokavirasto'!B:B) -> 54 | F5: 102 | G5: 132 | H5: 1 | I5: 20 | J5: 64 | K5: 15 | L5: =SUM(F5:K5) -> 334 | M5: =L5/(D5/$N$1) -> 73.42273
A6: Marttila | B6: =_xlfn.XLOOKUP(A6,'[1]Kunnat seutukunnat maakunnat'!C:C,'[1]Kunnat seutukunnat maakunnat'!F:F) -> Varsinais-Suomi | C6: =_xlfn.XLOOKUP(A6,'[1]Kunnat seutukunnat maakunnat'!C:C,'[1]Kunnat seutukunnat maakunnat'!G:G) -> Loimaan seutukunta | D6: =_xlfn.XLOOKUP(A6,Väkiluku!A:A,Väkiluku!B:B) -> 1930 | E6: =_xlfn.XLOOKUP(A6,'[1]Pitopaikat Ruokavirasto'!A:A,'[1]Pitopaikat Ruokavirasto'!B:B) -> 18 | F6: 4 | G6: 86 | H6: 0 | I6: 11 | J6: 19 | K6: 9 | L6: =SUM(F6:K6) -> 129 | M6: =L6/(D6/$N$1) -> 66.839378
A7: Miehikkälä | B7: =_xlfn.XLOOKUP(A7,'[1]Kunnat seutukunnat maakunnat'!C:C,'[1]Kunnat seutukunnat maakunnat'!F:F) -> Kymenlaakso | C7: =_xlfn.XLOOKUP(A7,'[1]Kunnat seutukunnat maakunnat'!C:C,'[1]Kunnat seutukunnat maakunnat'!G:G) -> Kotka–Haminan seutukunta | D7: =_xlfn.XLOOKUP(A7,Väkiluku!A:A,Väkiluku!B:B) -> 1752 | E7: =_xlfn.XLOOKUP(A7,'[1]Pitopaikat Ruokavirasto'!A:A,'[1]Pitopaikat Ruokavirasto'!B:B) -> 19 | F7: 34 | G7: 27 | H7: 0 | I7: 11 | J7: 24 | K7: 6 | L7: =SUM(F7:K7) -> 102 | M7: =L7/(D7/$N$1) -> 58.219178
A8: Enonkoski | B8: =_xlfn.XLOOKUP(A8,'[1]Kunnat seutukunnat maakunnat'!C:C,'[1]Kunnat seutukunnat maakunnat'!F:F) -> Etelä-Savo | C8: =_xlfn.XLOOKUP(A8,'[1]Kunnat seutukunnat maakunnat'!C:C,'[1]Kunnat seutukunnat maakunnat'!G:G) -> Savonlinnan seutukunta | D8: =_xlfn.XLOOKUP(A8,Väkiluku!A:A,Väkiluku!B:B) -> 1320 | E8: =_xlfn.XLOOKUP(A8,'[1]Pitopaikat Ruokavirasto'!A:A,'[1]Pitopaikat Ruokavirasto'!B:B) -> 7 | F8: 13 | G8: 51 | H8: 0 | I8: 1 | J8: 8 | K8: 3 | L8: =SUM(F8:K8) -> 76 | M8: =L8/(D8/$N$1) -> 57.575758
A9: Virolahti | B9: =_xlfn.XLOOKUP(A9,'[1]Kunnat seutukunnat maakunnat'!C:C,'[1]Kunnat seutukunnat maakunnat'!F:F) -> Kymenlaakso | C9: =_xlfn.XLOOKUP(A9,'[1]Kunnat seutukunnat maakunnat'!C:C,'[1]Kunnat seutukunnat maakunnat'!G:G) -> Kotka–Haminan seutukunta | D9: =_xlfn.XLOOKUP(A9,Väkiluku!A:A,Väkiluku!B:B) -> 2927 | E9: =_xlfn.XLOOKUP(A9,'[1]Pitopaikat Ruokavirasto'!A:A,'[1]Pitopaikat Ruokavirasto'!B:B) -> 37 | F9: 8 | G9: 56 | H9: 0 | I9: 43 | J9: 39 | K9: 13 | L9: =SUM(F9:K9) -> 159 | M9: =L9/(D9/$N$1) -> 54.321831
A10: Kaustinen | B10: =_xlfn.XLOOKUP(A10,'[1]Kunnat seutukunnat maakunnat'!C:C,'[1]Kunnat seutukunnat maakunnat'!F:F) -> Keski-Pohjanmaa | C10: =_xlfn.XLOOKUP(A10,'[1]Kunnat seutukunnat maakunnat'!C:C,'[1]Kunnat seutukunnat maakunnat'!G:G) -> Kaustisen seutukunta | D10: =_xlfn.XLOOKUP(A10,Väkiluku!A:A,Väkiluku!B:B) -> 4137 | E10: =_xlfn.XLOOKUP(A10,'[1]Pitopaikat Ruokavirasto'!A:A,'[1]Pitopaikat Ruokavirasto'!B:B) -> 53 | F10: 102 | G10: 91 | H10: 0 | I10: 4 | J10: 17 | K10: 10 | L10: =SUM(F10:K10) -> 224 | M10: =L10/(D10/$N$1) -> 54.145516
A11: Siikajoki | B11: =_xlfn.XLOOKUP(A11,'[1]Kunnat seutukunnat maakunnat'!C:C,'[1]Kunnat seutukunnat maakunnat'!F:F) -> Pohjois-Pohjanmaa | C11: =_xlfn.XLOOKUP(A11,'[1]Kunnat seutukunnat maakunnat'!C:C,'[1]Kunnat seutukunnat maakunnat'!G:G) -> Raahen seutukunta | D11: =_xlfn.XLOOKUP(A11,Väkiluku!A:A,Väkiluku!B:B) -> 4837 | E11: =_xlfn.XLOOKUP(A11,'[1]Pitopaikat Ruokavirasto'!A:A,'[1]Pitopaikat Ruokavirasto'!B:B) -> 47 | F11: 47 | G11: 97 | H11: 1 | I11: 45 | J11: 31 | K11: 34 | L11: =SUM(F11:K11) -> 255 | M11: =L11/(D11/$N$1) -> 52.718627
A12: Luhanka | B12: =_xlfn.XLOOKUP(A12,'[1]Kunnat seutukunnat maakunnat'!C:C,'[1]Kunnat seutukunnat maakunnat'!F:F) -> Keski-Suomi | C12: =_xlfn.XLOOKUP(A12,'[1]Kunnat seutukunnat maakunnat'!C:C,'[1]Kunnat seutukunnat maakunnat'!G:G) -> Joutsan seutukunta | D12: =_xlfn.XLOOKUP(A12,Väkiluku!A:A,Väkiluku!B:B) -> 702 | E12: =_xlfn.XLOOKUP(A12,'[1]Pitopaikat Ruokavirasto'!A:A,'[1]Pitopaikat Ruokavirasto'!B:B) -> 12 | F12: 12 | G12: 12 | H12: 0 | I12: 3 | J12: 6 | K12: 3 | L12: =SUM(F12:K12) -> 36 | M12: =L12/(D12/$N$1) -> 51.282051
A13: Juupajoki | B13: =_xlfn.XLOOKUP(A13,'[1]Kunnat seutukunnat maakunnat'!C:C,'[1]Kunnat seutukunnat maakunnat'!F:F) -> Pirkanmaa | C13: =_xlfn.XLOOKUP(A13,'[1]Kunnat seutukunnat maakunnat'!C:C,'[1]Kunnat seutukunnat maakunnat'!G:G) -> Ylä-Pirkanmaan seutukunta | D13: =_xlfn.XLOOKUP(A13,Väkiluku!A:A,Väkiluku!B:B) -> 1708 | E13: =_xlfn.XLOOKUP(A13,'[1]Pitopaikat Ruokavirasto'!A:A,'[1]Pitopaikat Ruokavirasto'!B:B) -> 16 | F13: 10 | G13: 44 | H13: 0 | I13: 9 | J13: 10 | K13: 13 | L13: =SUM(F13:K13) -> 86 | M13: =L13/(D13/$N$1) -> 50.351288
... A49: Kauhava | B49: =_xlfn.XLOOKUP(A49,'[1]Kunnat seutukunnat maakunnat'!C:C,'[1]Kunnat seutukunnat maakunnat'!F:F) -> Etelä-Pohjanmaa | C49: =_xlfn.XLOOKUP(A49,'[1]Kunnat seutukunnat maakunnat'!C:C,'[1]Kunnat seutukunnat maakunnat'!G:G) -> Seinäjoen seutukunta | D49: =_xlfn.XLOOKUP(A49,Väkiluku!A:A,Väkiluku!B:B) -> 15165 | E49: =_xlfn.XLOOKUP(A49,'[1]Pitopaikat Ruokavirasto'!A:A,'[1]Pitopaikat Ruokavirasto'!B:B) -> 141 | F49: 169 | G49: 256 | H49: 2 | I49: 35 | J49: 54 | K49: 26 | L49: =SUM(F49:K49) -> 542 | M49: =L49/(D49/$N$1) -> 35.740191
A50: Lumparland | B50: =_xlfn.XLOOKUP(A50,'[1]Kunnat seutukunnat maakunnat'!C:C,'[1]Kunnat seutukunnat maakunnat'!F:F) -> Ahvenanmaa | C50: =_xlfn.XLOOKUP(A50,'[1]Kunnat seutukunnat maakunnat'!C:C,'[1]Kunnat seutukunnat maakunnat'!G:G) -> Ålands landsbygd | D50: =_xlfn.XLOOKUP(A50,Väkiluku!A:A,Väkiluku!B:B) -> 366 | E50: 3* | F50: 6 | G50: 0 | H50: 0 | I50: 2 | J50: 3 | K50: 2 | L50: =SUM(F50:K50) -> 13 | M50: =L50/(D50/$N$1) -> 35.519126
A51: Kuortane | B51: =_xlfn.XLOOKUP(A51,'[1]Kunnat seutukunnat maakunnat'!C:C,'[1]Kunnat seutukunnat maakunnat'!F:F) -> Etelä-Pohjanmaa | C51: =_xlfn.XLOOKUP(A51,'[1]Kunnat seutukunnat maakunnat'!C:C,'[1]Kunnat seutukunnat maakunnat'!G:G) -> Kuusiokuntien seutukunta | D51: =_xlfn.XLOOKUP(A51,Väkiluku!A:A,Väkiluku!B:B) -> 3381 | E51: =_xlfn.XLOOKUP(A51,'[1]Pitopaikat Ruokavirasto'!A:A,'[1]Pitopaikat Ruokavirasto'!B:B) -> 20 | F51: 27 | G51: 44 | H51: 0 | I51: 15 | J51: 18 | K51: 13 | L51: =SUM(F51:K51) -> 117 | M51: =L51/(D51/$N$1) -> 34.605146
A52: Pukkila | B52: =_xlfn.XLOOKUP(A52,'[1]Kunnat seutukunnat maakunnat'!C:C,'[1]Kunnat seutukunnat maakunnat'!F:F) -> Uusimaa | C52: =_xlfn.XLOOKUP(A52,'[1]Kunnat seutukunnat maakunnat'!C:C,'[1]Kunnat seutukunnat maakunnat'!G:G) -> Porvoon seutukunta | D52: =_xlfn.XLOOKUP(A52,Väkiluku!A:A,Väkiluku!B:B) -> 1781 | E52: =_xlfn.XLOOKUP(A52,'[1]Pitopaikat Ruokavirasto'!A:A,'[1]Pitopaikat Ruokavirasto'!B:B) -> 16 | F52: 11 | G52: 11 | H52: 0 | I52: 12 | J52: 25 | K52: 2 | L52: =SUM(F52:K52) -> 61 | M52: =L52/(D52/$N$1) -> 34.250421
A53: Virrat | B53: =_xlfn.XLOOKUP(A53,'[1]Kunnat seutukunnat maakunnat'!C:C,'[1]Kunnat seutukunnat maakunnat'!F:F) -> Pirkanmaa | C53: =_xlfn.XLOOKUP(A53,'[1]Kunnat seutukunnat maakunnat'!C:C,'[1]Kunnat seutukunnat maakunnat'!G:G) -> Ylä-Pirkanmaan seutukunta | D53: =_xlfn.XLOOKUP(A53,Väkiluku!A:A,Väkiluku!B:B) -> 6275 | E53: =_xlfn.XLOOKUP(A53,'[1]Pitopaikat Ruokavirasto'!A:A,'[1]Pitopaikat Ruokavirasto'!B:B) -> 46 | F53: 33 | G53: 104 | H53: 0 | I53: 27 | J53: 21 | K53: 29 | L53: =SUM(F53:K53) -> 214 | M53: =L53/(D53/$N$1) -> 34.103586
A54: Hammarland | B54: =_xlfn.XLOOKUP(A54,'[1]Kunnat seutukunnat maakunnat'!C:C,'[1]Kunnat seutukunnat maakunnat'!F:F) -> Ahvenanmaa | C54: =_xlfn.XLOOKUP(A54,'[1]Kunnat seutukunnat maakunnat'!C:C,'[1]Kunnat seutukunnat maakunnat'!G:G) -> Ålands landsbygd | D54: =_xlfn.XLOOKUP(A54,Väkiluku!A:A,Väkiluku!B:B) -> 1646 | E54: =_xlfn.XLOOKUP(A54,'[1]Pitopaikat Ruokavirasto'!A:A,'[1]Pitopaikat Ruokavirasto'!B:B) -> 26 | F54: 1 | G54: 1 | H54: 0 | I54: 14 | J54: 24 | K54: 15 | L54: =SUM(F54:K54) -> 55 | M54: =L54/(D54/$N$1) -> 33.414338
A55: Siuntio | B55: =_xlfn.XLOOKUP(A55,'[1]Kunnat seutukunnat maakunnat'!C:C,'[1]Kunnat seutukunnat maakunnat'!F:F) -> Uusimaa | C55: =_xlfn.XLOOKUP(A55,'[1]Kunnat seutukunnat maakunnat'!C:C,'[1]Kunnat seutukunnat maakunnat'!G:G) -> Helsingin seutukunta | D55: =_xlfn.XLOOKUP(A55,Väkiluku!A:A,Väkiluku!B:B) -> 6158 | E55: =_xlfn.XLOOKUP(A55,'[1]Pitopaikat Ruokavirasto'!A:A,'[1]Pitopaikat Ruokavirasto'!B:B) -> 45 | F55: 22 | G55: 37 | H55: 0 | I55: 95 | J55: 38 | K55: 13 | L55: =SUM(F55:K55) -> 205 | M55: =L55/(D55/$N$1) -> 33.290029
A56: Tervo | B56: =_xlfn.XLOOKUP(A56,'[1]Kunnat seutukunnat maakunnat'!C:C,'[1]Kunnat seutukunnat maakunnat'!F:F) -> Pohjois-Savo | C56: =_xlfn.XLOOKUP(A56,'[1]Kunnat seutukunnat maakunnat'!C:C,'[1]Kunnat seutukunnat maakunnat'!G:G) -> Sisä-Savon seutukunta | D56: =_xlfn.XLOOKUP(A56,Väkiluku!A:A,Väkiluku!B:B) -> 1412 | E56: =_xlfn.XLOOKUP(A56,'[1]Pitopaikat Ruokavirasto'!A:A,'[1]Pitopaikat Ruokavirasto'!B:B) -> 15 | F56: 3 | G56: 16 | H56: 0 | I56: 9 | J56: 8 | K56: 11 | L56: =SUM(F56:K56) -> 47 | M56: =L56/(D56/$N$1) -> 33.286119
A57: Kauhajoki | B57: =_xlfn.XLOOKUP(A57,'[1]Kunnat seutukunnat maakunnat'!C:C,'[1]Kunnat seutukunnat maakunnat'!F:F) -> Etelä-Pohjanmaa | C57: =_xlfn.XLOOKUP(A57,'[1]Kunnat seutukunnat maakunnat'!C:C,'[1]Kunnat seutukunnat maakunnat'!G:G) -> Suupohjan seutukunta | D57: =_xlfn.XLOOKUP(A57,Väkiluku!A:A,Väkiluku!B:B) -> 12618 | E57: =_xlfn.XLOOKUP(A57,'[1]Pitopaikat Ruokavirasto'!A:A,'[1]Pitopaikat Ruokavirasto'!B:B) -> 58 | F57: 47 | G57: 104 | H57: 0 | I57: 34 | J57: 214 | K57: 21 | L57: =SUM(F57:K57) -> 420 | M57: =L57/(D57/$N$1) -> 33.285782
A58: Paltamo | B58: =_xlfn.XLOOKUP(A58,'[1]Kunnat seutukunnat maakunnat'!C:C,'[1]Kunnat seutukunnat maakunnat'!F:F) -> Kainuu | C58: =_xlfn.XLOOKUP(A58,'[1]Kunnat seutukunnat maakunnat'!C:C,'[1]Kunnat seutukunnat maakunnat'!G:G) -> Kajaanin seutukunta | D58: =_xlfn.XLOOKUP(A58,Väkiluku!A:A,Väkiluku!B:B) -> 3037 | E58: =_xlfn.XLOOKUP(A58,'[1]Pitopaikat Ruokavirasto'!A:A,'[1]Pitopaikat Ruokavirasto'!B:B) -> 22 | F58: 41 | G58: 32 | H58: 0 | I58: 4 | J58: 17 | K58: 7 | L58: =SUM(F58:K58) -> 101 | M58: =L58/(D58/$N$1) -> 33.256503
A59: Hartola | B59: =_xlfn.XLOOKUP(A59,'[1]Kunnat seutukunnat maakunnat'!C:C,'[1]Kunnat seutukunnat maakunnat'!F:F) -> Päijät-Häme | C59: =_xlfn.XLOOKUP(A59,'[1]Kunnat seutukunnat maakunnat'!C:C,'[1]Kunnat seutukunnat maakunnat'!G:G) -> Lahden seutukunta | D59: =_xlfn.XLOOKUP(A59,Väkiluku!A:A,Väkiluku!B:B) -> 2531 | E59: =_xlfn.XLOOKUP(A59,'[1]Pitopaikat Ruokavirasto'!A:A,'[1]Pitopaikat Ruokavirasto'!B:B) -> 14 | F59: 21 | G59: 34 | H59: 0 | I59: 12 | J59: 11 | K59: 6 | L59: =SUM(F59:K59) -> 84 | M59: =L59/(D59/$N$1) -> 33.188463
A60: Lemland | B60: =_xlfn.XLOOKUP(A60,'[1]Kunnat seutukunnat maakunnat'!C:C,'[1]Kunnat seutukunnat maakunnat'!F:F) -> Ahvenanmaa | C60: =_xlfn.XLOOKUP(A60,'[1]Kunnat seutukunnat maakunnat'!C:C,'[1]Kunnat seutukunnat maakunnat'!G:G) -> Ålands landsbygd | D60: =_xlfn.XLOOKUP(A60,Väkiluku!A:A,Väkiluku!B:B) -> 2127 | E60: =_xlfn.XLOOKUP(A60,'[1]Pitopaikat Ruokavirasto'!A:A,'[1]Pitopaikat Ruokavirasto'!B:B) -> 25 | F60: 12 | G60: 3 | H60: 0 | I60: 21 | J60: 24 | K60: 10 | L60: =SUM(F60:K60) -> 70 | M60: =L60/(D60/$N$1) -> 32.910202
A61: Pöytyä | B61: =_xlfn.XLOOKUP(A61,'[1]Kunnat seutukunnat maakunnat'!C:C,'[1]Kunnat seutukunnat maakunnat'!F:F) -> Varsinais-Suomi | C61: =_xlfn.XLOOKUP(A61,'[1]Kunnat seutukunnat maakunnat'!C:C,'[1]Kunnat seutukunnat maakunnat'!G:G) -> Loimaan seutukunta | D61: =_xlfn.XLOOKUP(A61,Väkiluku!A:A,Väkiluku!B:B) -> 8130 | E61: =_xlfn.XLOOKUP(A61,'[1]Pitopaikat Ruokavirasto'!A:A,'[1]Pitopaikat Ruokavirasto'!B:B) -> 51 | F61: 60 | G61: 80 | H61: 0 | I61: 28 | J61: 59 | K61: 37 | L61: =SUM(F61:K61) -> 264 | M61: =L61/(D61/$N$1) -> 32.472325
A62: Parikkala | B62: =_xlfn.XLOOKUP(A62,'[1]Kunnat seutukunnat maakunnat'!C:C,'[1]Kunnat seutukunnat maakunnat'!F:F) -> Etelä-Karjala | C62: =_xlfn.XLOOKUP(A62,'[1]Kunnat seutukunnat maakunnat'!C:C,'[1]Kunnat seutukunnat maakunnat'!G:G) -> Imatran seutukunta | D62: =_xlfn.XLOOKUP(A62,Väkiluku!A:A,Väkiluku!B:B) -> 4366 | E62: =_xlfn.XLOOKUP(A62,'[1]Pitopaikat Ruokavirasto'!A:A,'[1]Pitopaikat Ruokavirasto'!B:B) -> 35 | F62: 22 | G62: 64 | H62: 3 | I62: 16 | J62: 20 | K62: 13 | L62: =SUM(F62:K62) -> 138 | M62: =L62/(D62/$N$1) -> 31.607879
A63: Geta | B63: =_xlfn.XLOOKUP(A63,'[1]Kunnat seutukunnat maakunnat'!C:C,'[1]Kunnat seutukunnat maakunnat'!F:F) -> Ahvenanmaa | C63: =_xlfn.XLOOKUP(A63,'[1]Kunnat seutukunnat maakunnat'!C:C,'[1]Kunnat seutukunnat maakunnat'!G:G) -> Ålands landsbygd | D63: =_xlfn.XLOOKUP(A63,Väkiluku!A:A,Väkiluku!B:B) -> 509 | E63: 3* | F63: 0 | G63: 0 | H63: 0 | I63: 0 | J63: 14 | K63: 2 | L63: =SUM(F63:K63) -> 16 | M63: =L63/(D63/$N$1) -> 31.434185
A64: Merijärvi | B64: =_xlfn.XLOOKUP(A64,'[1]Kunnat seutukunnat maakunnat'!C:C,'[1]Kunnat seutukunnat maakunnat'!F:F) -> Pohjois-Pohjanmaa | C64: =_xlfn.XLOOKUP(A64,'[1]Kunnat seutukunnat maakunnat'!C:C,'[1]Kunnat seutukunnat maakunnat'!G:G) -> Ylivieskan seutukunta | D64: =_xlfn.XLOOKUP(A64,Väkiluku!A:A,Väkiluku!B:B) -> 1055 | E64: =_xlfn.XLOOKUP(A64,'[1]Pitopaikat Ruokavirasto'!A:A,'[1]Pitopaikat Ruokavirasto'!B:B) -> 8 | F64: 4 | G64: 16 | H64: 0 | I64: 0 | J64: 9 | K64: 4 | L64: =SUM(F64:K64) -> 33 | M64: =L64/(D64/$N$1) -> 31.279621
A65: Saarijärvi | B65: =_xlfn.XLOOKUP(A65,'[1]Kunnat seutukunnat maakunnat'!C:C,'[1]Kunnat seutukunnat maakunnat'!F:F) -> Keski-Suomi | C65: =_xlfn.XLOOKUP(A65,'[1]Kunnat seutukunnat maakunnat'!C:C,'[1]Kunnat seutukunnat maakunnat'!G:G) -> Saarijärven–Viitasaaren seutukunta | D65: =_xlfn.XLOOKUP(A65,Väkiluku!A:A,Väkiluku!B:B) -> 8847 | E65: =_xlfn.XLOOKUP(A65,'[1]Pitopaikat Ruokavirasto'!A:A,'[1]Pitopaikat Ruokavirasto'!B:B) -> 62 | F65: 81 | G65: 93 | H65: 0 | I65: 28 | J65: 45 | K65: 29 | L65: =SUM(F65:K65) -> 276 | M65: =L65/(D65/$N$1) -> 31.197016
A66: Sastamala | B66: =_xlfn.XLOOKUP(A66,'[1]Kunnat seutukunnat maakunnat'!C:C,'[1]Kunnat seutukunnat maakunnat'!F:F) -> Pirkanmaa | C66: =_xlfn.XLOOKUP(A66,'[1]Kunnat seutukunnat maakunnat'!C:C,'[1]Kunnat seutukunnat maakunnat'!G:G) -> Lounais-Pirkanmaan seutukunta | D66: =_xlfn.XLOOKUP(A66,Väkiluku!A:A,Väkiluku!B:B) -> 23515 | E66: =_xlfn.XLOOKUP(A66,'[1]Pitopaikat Ruokavirasto'!A:A,'[1]Pitopaikat Ruokavirasto'!B:B) -> 123 | F66: 142 | G66: 268 | H66: 0 | I66: 84 | J66: 157 | K66: 78 | L66: =SUM(F66:K66) -> 729 | M66: =L66/(D66/$N$1) -> 31.001488
A67: Uusikaarlepyy | B67: =_xlfn.XLOOKUP(A67,'[1]Kunnat seutukunnat maakunnat'!C:C,'[1]Kunnat seutukunnat maakunnat'!F:F) -> Pohjanmaa | C67: =_xlfn.XLOOKUP(A67,'[1]Kunnat seutukunnat maakunnat'!C:C,'[1]Kunnat seutukunnat maakunnat'!G:G) -> Jakobstadsregionen | D67: =_xlfn.XLOOKUP(A67,Väkiluku!A:A,Väkiluku!B:B) -> 7500 | E67: =_xlfn.XLOOKUP(A67,'[1]Pitopaikat Ruokavirasto'!A:A,'[1]Pitopaikat Ruokavirasto'!B:B) -> 39 | F67: 46 | G67: 27 | H67: 1 | I67: 65 | J67: 69 | K67: 24 | L67: =SUM(F67:K67) -> 232 | M67: =L67/(D67/$N$1) -> 30.933333
A68: Myrskylä | B68: =_xlfn.XLOOKUP(A68,'[1]Kunnat seutukunnat maakunnat'!C:C,'[1]Kunnat seutukunnat maakunnat'!F:F) -> Uusimaa | C68: =_xlfn.XLOOKUP(A68,'[1]Kunnat seutukunnat maakunnat'!C:C,'[1]Kunnat seutukunnat maakunnat'!G:G) -> Porvoon seutukunta | D68: =_xlfn.XLOOKUP(A68,Väkiluku!A:A,Väkiluku!B:B) -> 1715 | E68: =_xlfn.XLOOKUP(A68,'[1]Pitopaikat Ruokavirasto'!A:A,'[1]Pitopaikat Ruokavirasto'!B:B) -> 20 | F68: 20 | G68: 20 | H68: 0 | I68: 3 | J68: 6 | K68: 4 | L68: =SUM(F68:K68) -> 53 | M68: =L68/(D68/$N$1) -> 30.90379
A69: Veteli | B69: =_xlfn.XLOOKUP(A69,'[1]Kunnat seutukunnat maakunnat'!C:C,'[1]Kunnat seutukunnat maakunnat'!F:F) -> Keski-Pohjanmaa | C69: =_xlfn.XLOOKUP(A69,'[1]Kunnat seutukunnat maakunnat'!C:C,'[1]Kunnat seutukunnat maakunnat'!G:G) -> Kaustisen seutukunta | D69: =_xlfn.XLOOKUP(A69,Väkiluku!A:A,Väkiluku!B:B) -> 2936 | E69: =_xlfn.XLOOKUP(A69,'[1]Pitopaikat Ruokavirasto'!A:A,'[1]Pitopaikat Ruokavirasto'!B:B) -> 26 | F69: 24 | G69: 29 | H69: 0 | I69: 11 | J69: 13 | K69: 13 | L69: =SUM(F69:K69) -> 90 | M69: =L69/(D69/$N$1) -> 30.653951
A70: Ruokolahti | B70: =_xlfn.XLOOKUP(A70,'[1]Kunnat seutukunnat maakunnat'!C:C,'[1]Kunnat seutukunnat maakunnat'!F:F) -> Etelä-Karjala | C70: =_xlfn.XLOOKUP(A70,'[1]Kunnat seutukunnat maakunnat'!C:C,'[1]Kunnat seutukunnat maakunnat'!G:G) -> Imatran seutukunta | D70: =_xlfn.XLOOKUP(A70,Väkiluku!A:A,Väkiluku!B:B) -> 4758 | E70: =_xlfn.XLOOKUP(A70,'[1]Pitopaikat Ruokavirasto'!A:A,'[1]Pitopaikat Ruokavirasto'!B:B) -> 34 | F70: 19 | G70: 48 | H70: 1 | I70: 33 | J70: 15 | K70: 28 | L70: =SUM(F70:K70) -> 144 | M70: =L70/(D70/$N$1) -> 30.264817
A71: Hämeenkyrö | B71: =_xlfn.XLOOKUP(A71,'[1]Kunnat seutukunnat maakunnat'!C:C,'[1]Kunnat seutukunnat maakunnat'!F:F) -> Pirkanmaa | C71: =_xlfn.XLOOKUP(A71,'[1]Kunnat seutukunnat maakunnat'!C:C,'[1]Kunnat seutukunnat maakunnat'!G:G) -> Tampereen seutukunta | D71: =_xlfn.XLOOKUP(A71,Väkiluku!A:A,Väkiluku!B:B) -> 10319 | E71: =_xlfn.XLOOKUP(A71,'[1]Pitopaikat Ruokavirasto'!A:A,'[1]Pitopaikat Ruokavirasto'!B:B) -> 83 | F71: 55 | G71: 114 | H71: 1 | I71: 52 | J71: 51 | K71: 39 | L71: =SUM(F71:K71) -> 312 | M71: =L71/(D71/$N$1) -> 30.235488
A72: Lapinjärvi | B72: =_xlfn.XLOOKUP(A72,'[1]Kunnat seutukunnat maakunnat'!C:C,'[1]Kunnat seutukunnat maakunnat'!F:F) -> Uusimaa | C72: =_xlfn.XLOOKUP(A72,'[1]Kunnat seutukunnat maakunnat'!C:C,'[1]Kunnat seutukunnat maakunnat'!G:G) -> Loviisan seutukunta | D72: =_xlfn.XLOOKUP(A72,Väkiluku!A:A,Väkiluku!B:B) -> 2449 | E72: =_xlfn.XLOOKUP(A72,'[1]Pitopaikat Ruokavirasto'!A:A,'[1]Pitopaikat Ruokavirasto'!B:B) -> 27 | F72: 21 | G72: 14 | H72: 0 | I72: 8 | J72: 25 | K72: 6 | L72: =SUM(F72:K72) -> 74 | M72: =L72/(D72/$N$1) -> 30.216415
A73: Kangasniemi | B73: =_xlfn.XLOOKUP(A73,'[1]Kunnat seutukunnat maakunnat'!C:C,'[1]Kunnat seutukunnat maakunnat'!F:F) -> Etelä-Savo | C73: =_xlfn.XLOOKUP(A73,'[1]Kunnat seutukunnat maakunnat'!C:C,'[1]Kunnat seutukunnat maakunnat'!G:G) -> Mikkelin seutukunta | D73: =_xlfn.XLOOKUP(A73,Väkiluku!A:A,Väkiluku!B:B) -> 5114 | E73: =_xlfn.XLOOKUP(A73,'[1]Pitopaikat Ruokavirasto'!A:A,'[1]Pitopaikat Ruokavirasto'!B:B) -> 40 | F73: 31 | G73: 76 | H73: 1 | I73: 3 | J73: 35 | K73: 7 | L73: =SUM(F73:K73) -> 153 | M73: =L73/(D73/$N$1) -> 29.917873
A74: Iitti | B74: =_xlfn.XLOOKUP(A74,'[1]Kunnat seutukunnat maakunnat'!C:C,'[1]Kunnat seutukunnat maakunnat'!F:F) -> Päijät-Häme | C74: =_xlfn.XLOOKUP(A74,'[1]Kunnat seutukunnat maakunnat'!C:C,'[1]Kunnat seutukunnat maakunnat'!G:G) -> Lahden seutukunta | D74: =_xlfn.XLOOKUP(A74,Väkiluku!A:A,Väkiluku!B:B) -> 6444 | E74: =_xlfn.XLOOKUP(A74,'[1]Pitopaikat Ruokavirasto'!A:A,'[1]Pitopaikat Ruokavirasto'!B:B) -> 43 | F74: 48 | G74: 75 | H74: 2 | I74: 15 | J74: 31 | K74: 21 | L74: =SUM(F74:K74) -> 192 | M74: =L74/(D74/$N$1) -> 29.795158
A75: Keuruu | B75: =_xlfn.XLOOKUP(A75,'[1]Kunnat seutukunnat maakunnat'!C:C,'[1]Kunnat seutukunnat maakunnat'!F:F) -> Keski-Suomi | C75: =_xlfn.XLOOKUP(A75,'[1]Kunnat seutukunnat maakunnat'!C:C,'[1]Kunnat seutukunnat maakunnat'!G:G) -> Keuruun seutukunta | D75: =_xlfn.XLOOKUP(A75,Väkiluku!A:A,Väkiluku!B:B) -> 9184 | E75: =_xlfn.XLOOKUP(A75,'[1]Pitopaikat Ruokavirasto'!A:A,'[1]Pitopaikat Ruokavirasto'!B:B) -> 33 | F75: 71 | G75: 147 | H75: 1 | I75: 16 | J75: 22 | K75: 16 | L75: =SUM(F75:K75) -> 273 | M75: =L75/(D75/$N$1) -> 29.72561
...

Sheet Väkiluku
A1: Kuntien väkiluku
A2: Aluejako 1.1.2024 | B2: Väkiluku 31.12.2023 | C2: Väkiluvun muutos 2022–2023 | D2: Väkiluvun muutos 2022–2023, %
A3: KOKO MAA | B3: 5603851 | C3: 39881 | D3: 0.7
A4: Helsinki | B4: 674500 | C4: 10472 | D4: 1.6
A5: Espoo | B5: 314024 | C5: 8750 | D5: 2.9
A6: Tampere | B6: 255050 | C6: 6041 | D6: 2.4
A7: Vantaa | B7: 247443 | C7: 4624 | D7: 1.9
A8: Oulu | B8: 214633 | C8: 2785 | D8: 1.3
A9: Turku | B9: 201863 | C9: 3963 | D9: 2
A10: Jyväskylä | B10: 147746 | C10: 1859 | D10: 1.3
A11: Kuopio | B11: 124021 | C11: 1427 | D11: 1.2
A12: Lahti | B12: 120693 | C12: 518 | D12: 0.4
A13: Pori | B13: 83106 | C13: -99 | D13: -0.1
A14: Kouvola | B14: 78880 | C14: -549 | D14: -0.7
... A312: Sottunga | B312: 115 | C312: 4 | D312: 3.6
A313: Lähde: Tilastokeskus, väestörakenne
A314: Suomi lukuina
