Workbook

Sheet Hevosia per 1000 asukasta aakko
A1: Kunta | B1: Maakunta | C1: Seutukunta | D1: Väkiluku | E1: Pitopaikat Ruokavirasto | F1: LV | G1: SH | H1: KV | I1: R | J1: P | K1: R_tai_P | L1: Hevosia | M1: Hevosia / 1000 asukasta | N1: 1000
A2: Akaa | B2: =_xlfn.XLOOKUP(A2,'[1]Kunnat seutukunnat maakunnat'!C:C,'[1]Kunnat seutukunnat maakunnat'!F:F) -> Pirkanmaa | C2: =_xlfn.XLOOKUP(A2,'[1]Kunnat seutukunnat maakunnat'!C:C,'[1]Kunnat seutukunnat maakunnat'!G:G) -> Etelä-Pirkanmaan seutukunta | D2: =_xlfn.XLOOKUP(A2,Väkiluku!A:A,Väkiluku!B:B) -> 16405 | E2: =_xlfn.XLOOKUP(A2,'[1]Pitopaikat Ruokavirasto'!A:A,'[1]Pitopaikat Ruokavirasto'!B:B) -> 51 | F2: 38 | G2: 52 | H2: 1 | I2: 39 | J2: 40 | K2: 28 | L2: =SUM(F2:K2) -> 198 | M2: =L2/(D2/$N$1) -> 12.069491
A3: Alajärvi | B3: =_xlfn.XLOOKUP(A3,'[1]Kunnat seutukunnat maakunnat'!C:C,'[1]Kunnat seutukunnat maakunnat'!F:F) -> Etelä-Pohjanmaa | C3: =_xlfn.XLOOKUP(A3,'[1]Kunnat seutukunnat maakunnat'!C:C,'[1]Kunnat seutukunnat maakunnat'!G:G) -> Järviseudun seutukunta | D3: =_xlfn.XLOOKUP(A3,Väkiluku!A:A,Väkiluku!B:B) -> 9113 | E3: =_xlfn.XLOOKUP(A3,'[1]Pitopaikat Ruokavirasto'!A:A,'[1]Pitopaikat Ruokavirasto'!B:B) -> 54 | F3: 7 | G3: 48 | H3: 1 | I3: 23 | J3: 32 | K3: 25 | L3: =SUM(F3:K3) -> 136 | M3: =L3/(D3/$N$1) -> 14.923735
A4: Alavieska | B4: =_xlfn.XLOOKUP(A4,'[1]Kunnat seutukunnat maakunnat'!C:C,'[1]Kunnat seutukunnat maakunnat'!F:F) -> Pohjois-Pohjanmaa | C4: =_xlfn.XLOOKUP(A4,'[1]Kunnat seutukunnat maakunnat'!C:C,'[1]Kunnat seutukunnat maakunnat'!G:G) -> Ylivieskan seutukunta | D4: =_xlfn.XLOOKUP(A4,Väkiluku!A:A,Väkiluku!B:B) -> 2437 | E4: =_xlfn.XLOOKUP(A4,'[1]Pitopaikat Ruokavirasto'!A:A,'[1]Pitopaikat Ruokavirasto'!B:B) -> 16 | F4: 9 | G4: 18 | H4: 0 | I4: 7 | J4: 13 | K4: 3 | L4: =SUM(F4:K4) -> 50 | M4: =L4/(D4/$N$1) -> 20.517029
A5: Alavus | B5: =_xlfn.XLOOKUP(A5,'[1]Kunnat seutukunnat maakunnat'!C:C,'[1]Kunnat seutukunnat maakunnat'!F:F) -> Etelä-Pohjanmaa | C5: =_xlfn.XLOOKUP(A5,'[1]Kunnat seutukunnat maakunnat'!C:C,'[1]Kunnat seutukunnat maakunnat'!G:G) -> Kuusiokuntien seutukunta | D5: =_xlfn.XLOOKUP(A5,Väkiluku!A:A,Väkiluku!B:B) -> 10933 | E5: =_xlfn.XLOOKUP(A5,'[1]Pitopaikat Ruokavirasto'!A:A,'[1]Pitopaikat Ruokavirasto'!B:B) -> 73 | F5: 36 | G5: 86 | H5: 1 | I5: 38 | J5: 54 | K5: 66 | L5: =SUM(F5:K5) -> 281 | M5: =L5/(D5/$N$1) -> 25.702003
A6: Asikkala | B6: =_xlfn.XLOOKUP(A6,'[1]Kunnat seutukunnat maakunnat'!C:C,'[1]Kunnat seutukunnat maakunnat'!F:F) -> Päijät-Häme | C6: =_xlfn.XLOOKUP(A6,'[1]Kunnat seutukunnat maakunnat'!C:C,'[1]Kunnat seutukunnat maakunnat'!G:G) -> Lahden seutukunta | D6: =_xlfn.XLOOKUP(A6,Väkiluku!A:A,Väkiluku!B:B) -> 7968 | E6: =_xlfn.XLOOKUP(A6,'[1]Pitopaikat Ruokavirasto'!A:A,'[1]Pitopaikat Ruokavirasto'!B:B) -> 46 | F6: 38 | G6: 51 | H6: 3 | I6: 42 | J6: 60 | K6: 32 | L6: =SUM(F6:K6) -> 226 | M6: =L6/(D6/$N$1) -> 28.363454
A7: Askola | B7: =_xlfn.XLOOKUP(A7,'[1]Kunnat seutukunnat maakunnat'!C:C,'[1]Kunnat seutukunnat maakunnat'!F:F) -> Uusimaa | C7: =_xlfn.XLOOKUP(A7,'[1]Kunnat seutukunnat maakunnat'!C:C,'[1]Kunnat seutukunnat maakunnat'!G:G) -> Porvoon seutukunta | D7: =_xlfn.XLOOKUP(A7,Väkiluku!A:A,Väkiluku!B:B) -> 4700 | E7: =_xlfn.XLOOKUP(A7,'[1]Pitopaikat Ruokavirasto'!A:A,'[1]Pitopaikat Ruokavirasto'!B:B) -> 22 | F7: 14 | G7: 20 | H7: 1 | I7: 18 | J7: 20 | K7: 10 | L7: =SUM(F7:K7) -> 83 | M7: =L7/(D7/$N$1) -> 17.659574
A8: Aura | B8: =_xlfn.XLOOKUP(A8,'[1]Kunnat seutukunnat maakunnat'!C:C,'[1]Kunnat seutukunnat maakunnat'!F:F) -> Varsinais-Suomi | C8: =_xlfn.XLOOKUP(A8,'[1]Kunnat seutukunnat maakunnat'!C:C,'[1]Kunnat seutukunnat maakunnat'!G:G) -> Loimaan seutukunta | D8: =_xlfn.XLOOKUP(A8,Väkiluku!A:A,Väkiluku!B:B) -> 3961 | E8: =_xlfn.XLOOKUP(A8,'[1]Pitopaikat Ruokavirasto'!A:A,'[1]Pitopaikat Ruokavirasto'!B:B) -> 20 | F8: 14 | G8: 20 | H8: 0 | I8: 17 | J8: 20 | K8: 5 | L8: =SUM(F8:K8) -> 76 | M8: =L8/(D8/$N$1) -> 19.187074
A9: Brändö | B9: =_xlfn.XLOOKUP(A9,'[1]Kunnat seutukunnat maakunnat'!C:C,'[1]Kunnat seutukunnat maakunnat'!F:F) -> Ahvenanmaa | C9: =_xlfn.XLOOKUP(A9,'[1]Kunnat seutukunnat maakunnat'!C:C,'[1]Kunnat seutukunnat maakunnat'!G:G) -> Ålands skärgård | D9: =_xlfn.XLOOKUP(A9,Väkiluku!A:A,Väkiluku!B:B) -> 436 | E9: 3* | F9: 0 | G9: 1 | H9: 0 | I9: 1 | J9: 4 | K9: 0 | L9: =SUM(F9:K9) -> 6 | M9: =L9/(D9/$N$1) -> 13.761468
A10: Eckerö | B10: =_xlfn.XLOOKUP(A10,'[1]Kunnat seutukunnat maakunnat'!C:C,'[1]Kunnat seutukunnat maakunnat'!F:F) -> Ahvenanmaa | C10: =_xlfn.XLOOKUP(A10,'[1]Kunnat seutukunnat maakunnat'!C:C,'[1]Kunnat seutukunnat maakunnat'!G:G) -> Ålands landsbygd | D10: =_xlfn.XLOOKUP(A10,Väkiluku!A:A,Väkiluku!B:B) -> 942 | E10: =_xlfn.XLOOKUP(A10,'[1]Pitopaikat Ruokavirasto'!A:A,'[1]Pitopaikat Ruokavirasto'!B:B) -> 5 | F10: 0 | G10: 2 | H10: 0 | I10: 6 | J10: 3 | K10: 3 | L10: =SUM(F10:K10) -> 14 | M10: =L10/(D10/$N$1) -> 14.861996
A11: Enonkoski | B11: =_xlfn.XLOOKUP(A11,'[1]Kunnat seutukunnat maakunnat'!C:C,'[1]Kunnat seutukunnat maakunnat'!F:F) -> Etelä-Savo | C11: =_xlfn.XLOOKUP(A11,'[1]Kunnat seutukunnat maakunnat'!C:C,'[1]Kunnat seutukunnat maakunnat'!G:G) -> Savonlinnan seutukunta | D11: =_xlfn.XLOOKUP(A11,Väkiluku!A:A,Väkiluku!B:B) -> 1320 | E11: =_xlfn.XLOOKUP(A11,'[1]Pitopaikat Ruokavirasto'!A:A,'[1]Pitopaikat Ruokavirasto'!B:B) -> 7 | F11: 13 | G11: 51 | H11: 0 | I11: 1 | J11: 8 | K11: 3 | L11: =SUM(F11:K11) -> 76 | M11: =L11/(D11/$N$1) -> 57.575758
A12: Enontekiö | B12: =_xlfn.XLOOKUP(A12,'[1]Kunnat seutukunnat maakunnat'!C:C,'[1]Kunnat seutukunnat maakunnat'!F:F) -> Lappi | C12: =_xlfn.XLOOKUP(A12,'[1]Kunnat seutukunnat maakunnat'!C:C,'[1]Kunnat seutukunnat maakunnat'!G:G) -> Tunturi-Lapin seutukunta | D12: =_xlfn.XLOOKUP(A12,Väkiluku!A:A,Väkiluku!B:B) -> 1771 | E12: 3* | F12: 3 | G12: 2 | H12: 0 | I12: 1 | J12: 0 | K12: 0 | L12: =SUM(F12:K12) -> 6 | M12: =L12/(D12/$N$1) -> 3.3879164
A13: Espoo | B13: =_xlfn.XLOOKUP(A13,'[1]Kunnat seutukunnat maakunnat'!C:C,'[1]Kunnat seutukunnat maakunnat'!F:F) -> Uusimaa | C13: =_xlfn.XLOOKUP(A13,'[1]Kunnat seutukunnat maakunnat'!C:C,'[1]Kunnat seutukunnat maakunnat'!G:G) -> Helsingin seutukunta | D13: =_xlfn.XLOOKUP(A13,Väkiluku!A:A,Väkiluku!B:B) -> 314024 | E13: =_xlfn.XLOOKUP(A13,'[1]Pitopaikat Ruokavirasto'!A:A,'[1]Pitopaikat Ruokavirasto'!B:B) -> 58 | F13: 139 | G13: 139 | H13: 1 | I13: 754 | J13: 219 | K13: 262 | L13: =SUM(F13:K13) -> 1514 | M13: =L13/(D13/$N$1) -> 4.8212875
A14: Eura | B14: =_xlfn.XLOOKUP(A14,'[1]Kunnat seutukunnat maakunnat'!C:C,'[1]Kunnat seutukunnat maakunnat'!F:F) -> Satakunta | C14: =_xlfn.XLOOKUP(A14,'[1]Kunnat seutukunnat maakunnat'!C:C,'[1]Kunnat seutukunnat maakunnat'!G:G) -> Rauman seutukunta | D14: =_xlfn.XLOOKUP(A14,Väkiluku!A:A,Väkiluku!B:B) -> 11184 | E14: =_xlfn.XLOOKUP(A14,'[1]Pitopaikat Ruokavirasto'!A:A,'[1]Pitopaikat Ruokavirasto'!B:B) -> 58 | F14: 91 | G14: 117 | H14: 0 | I14: 30 | J14: 54 | K14: 26 | L14: =SUM(F14:K14) -> 318 | M14: =L14/(D14/$N$1) -> 28.433476
A15: Eurajoki | B15: =_xlfn.XLOOKUP(A15,'[1]Kunnat seutukunnat maakunnat'!C:C,'[1]Kunnat seutukunnat maakunnat'!F:F) -> Satakunta | C15: =_xlfn.XLOOKUP(A15,'[1]Kunnat seutukunnat maakunnat'!C:C,'[1]Kunnat seutukunnat maakunnat'!G:G) -> Rauman seutukunta | D15: =_xlfn.XLOOKUP(A15,Väkiluku!A:A,Väkiluku!B:B) -> 9143 | E15: =_xlfn.XLOOKUP(A15,'[1]Pitopaikat Ruokavirasto'!A:A,'[1]Pitopaikat Ruokavirasto'!B:B) -> 65 | F15: 66 | G15: 82 | H15: 0 | I15: 41 | J15: 128 | K15: 29 | L15: =SUM(F15:K15) -> 346 | M15: =L15/(D15/$N$1) -> 37.843159
A16: Evijärvi | B16: =_xlfn.XLOOKUP(A16,'[1]Kunnat seutukunnat maakunnat'!C:C,'[1]Kunnat seutukunnat maakunnat'!F:F) -> Etelä-Pohjanmaa | C16: =_xlfn.XLOOKUP(A16,'[1]Kunnat seutukunnat maakunnat'!C:C,'[1]Kunnat seutukunnat maakunnat'!G:G) -> Järviseudun seutukunta | D16: =_xlfn.XLOOKUP(A16,Väkiluku!A:A,Väkiluku!B:B) -> 2292 | E16: =_xlfn.XLOOKUP(A16,'[1]Pitopaikat Ruokavirasto'!A:A,'[1]Pitopaikat Ruokavirasto'!B:B) -> 16 | F16: 6 | G16: 12 | H16: 0 | I16: 6 | J16: 8 | K16: 4 | L16: =SUM(F16:K16) -> 36 | M16: =L16/(D16/$N$1) -> 15.706806
A17: Finström | B17: =_xlfn.XLOOKUP(A17,'[1]Kunnat seutukunnat maakunnat'!C:C,'[1]Kunnat seutukunnat maakunnat'!F:F) -> Ahvenanmaa | C17: =_xlfn.XLOOKUP(A17,'[1]Kunnat seutukunnat maakunnat'!C:C,'[1]Kunnat seutukunnat maakunnat'!G:G) -> Ålands landsbygd | D17: =_xlfn.XLOOKUP(A17,Väkiluku!A:A,Väkiluku!B:B) -> 2610 | E17: =_xlfn.XLOOKUP(A17,'[1]Pitopaikat Ruokavirasto'!A:A,'[1]Pitopaikat Ruokavirasto'!B:B) -> 17 | F17: 1 | G17: 1 | H17: 0 | I17: 19 | J17: 16 | K17: 10 | L17: =SUM(F17:K17) -> 47 | M17: =L17/(D17/$N$1) -> 18.007663
A18: Forssa | B18: =_xlfn.XLOOKUP(A18,'[1]Kunnat seutukunnat maakunnat'!C:C,'[1]Kunnat seutukunnat maakunnat'!F:F) -> Kanta-Häme | C18: =_xlfn.XLOOKUP(A18,'[1]Kunnat seutukunnat maakunnat'!C:C,'[1]Kunnat seutukunnat maakunnat'!G:G) -> Forssan seutukunta | D18: =_xlfn.XLOOKUP(A18,Väkiluku!A:A,Väkiluku!B:B) -> 16469 | E18: =_xlfn.XLOOKUP(A18,'[1]Pitopaikat Ruokavirasto'!A:A,'[1]Pitopaikat Ruokavirasto'!B:B) -> 53 | F18: 142 | G18: 93 | H18: 1 | I18: 75 | J18: 144 | K18: 25 | L18: =SUM(F18:K18) -> 480 | M18: =L18/(D18/$N$1) -> 29.145668
A19: Föglö | B19: =_xlfn.XLOOKUP(A19,'[1]Kunnat seutukunnat maakunnat'!C:C,'[1]Kunnat seutukunnat maakunnat'!F:F) -> Ahvenanmaa | C19: =_xlfn.XLOOKUP(A19,'[1]Kunnat seutukunnat maakunnat'!C:C,'[1]Kunnat seutukunnat maakunnat'!G:G) -> Ålands skärgård | D19: =_xlfn.XLOOKUP(A19,Väkiluku!A:A,Väkiluku!B:B) -> 509 | E19: 3* | F19: 0 | G19: 0 | H19: 0 | I19: 0 | J19: 2 | K19: 4 | L19: =SUM(F19:K19) -> 6 | M19: =L19/(D19/$N$1) -> 11.787819
A20: Geta | B20: =_xlfn.XLOOKUP(A20,'[1]Kunnat seutukunnat maakunnat'!C:C,'[1]Kunnat seutukunnat maakunnat'!F:F) -> Ahvenanmaa | C20: =_xlfn.XLOOKUP(A20,'[1]Kunnat seutukunnat maakunnat'!C:C,'[1]Kunnat seutukunnat maakunnat'!G:G) -> Ålands landsbygd | D20: =_xlfn.XLOOKUP(A20,Väkiluku!A:A,Väkiluku!B:B) -> 509 | E20: 3* | F20: 0 | G20: 0 | H20: 0 | I20: 0 | J20: 14 | K20: 2 | L20: =SUM(F20:K20) -> 16 | M20: =L20/(D20/$N$1) -> 31.434185
A21: Haapajärvi | B21: =_xlfn.XLOOKUP(A21,'[1]Kunnat seutukunnat maakunnat'!C:C,'[1]Kunnat seutukunnat maakunnat'!F:F) -> Pohjois-Pohjanmaa | C21: =_xlfn.XLOOKUP(A21,'[1]Kunnat seutukunnat maakunnat'!C:C,'[1]Kunnat seutukunnat maakunnat'!G:G) -> Nivala–Haapajärven seutukunta | D21: =_xlfn.XLOOKUP(A21,Väkiluku!A:A,Väkiluku!B:B) -> 6558 | E21: =_xlfn.XLOOKUP(A21,'[1]Pitopaikat Ruokavirasto'!A:A,'[1]Pitopaikat Ruokavirasto'!B:B) -> 29 | F21: 25 | G21: 51 | H21: 1 | I21: 21 | J21: 18 | K21: 9 | L21: =SUM(F21:K21) -> 125 | M21: =L21/(D21/$N$1) -> 19.060689
A22: Haapavesi | B22: =_xlfn.XLOOKUP(A22,'[1]Kunnat seutukunnat maakunnat'!C:C,'[1]Kunnat seutukunnat maakunnat'!F:F) -> Pohjois-Pohjanmaa | C22: =_xlfn.XLOOKUP(A22,'[1]Kunnat seutukunnat maakunnat'!C:C,'[1]Kunnat seutukunnat maakunnat'!G:G) -> Haapaveden-Siikalatvan seutukunta | D22: =_xlfn.XLOOKUP(A22,Väkiluku!A:A,Väkiluku!B:B) -> 6473 | E22: =_xlfn.XLOOKUP(A22,'[1]Pitopaikat Ruokavirasto'!A:A,'[1]Pitopaikat Ruokavirasto'!B:B) -> 33 | F22: 29 | G22: 48 | H22: 0 | I22: 21 | J22: 41 | K22: 24 | L22: =SUM(F22:K22) -> 163 | M22: =L22/(D22/$N$1) -> 25.181523
A23: Hailuoto | B23: =_xlfn.XLOOKUP(A23,'[1]Kunnat seutukunnat maakunnat'!C:C,'[1]Kunnat seutukunnat maakunnat'!F:F) -> Pohjois-Pohjanmaa | C23: =_xlfn.XLOOKUP(A23,'[1]Kunnat seutukunnat maakunnat'!C:C,'[1]Kunnat seutukunnat maakunnat'!G:G) -> Oulun seutukunta | D23: =_xlfn.XLOOKUP(A23,Väkiluku!A:A,Väkiluku!B:B) -> 948 | E23: =_xlfn.XLOOKUP(A23,'[1]Pitopaikat Ruokavirasto'!A:A,'[1]Pitopaikat Ruokavirasto'!B:B) -> 5 | F23: 6 | G23: 6 | H23: 0 | I23: 2 | J23: 3 | K23: 2 | L23: =SUM(F23:K23) -> 19 | M23: =L23/(D23/$N$1) -> 20.042194
A24: Halsua | B24: =_xlfn.XLOOKUP(A24,'[1]Kunnat seutukunnat maakunnat'!C:C,'[1]Kunnat seutukunnat maakunnat'!F:F) -> Keski-Pohjanmaa | C24: =_xlfn.XLOOKUP(A24,'[1]Kunnat seutukunnat maakunnat'!C:C,'[1]Kunnat seutukunnat maakunnat'!G:G) -> Kaustisen seutukunta | D24: =_xlfn.XLOOKUP(A24,Väkiluku!A:A,Väkiluku!B:B) -> 1013 | E24: =_xlfn.XLOOKUP(A24,'[1]Pitopaikat Ruokavirasto'!A:A,'[1]Pitopaikat Ruokavirasto'!B:B) -> 18 | F24: 44 | G24: 47 | H24: 1 | I24: 4 | J24: 7 | K24: 4 | L24: =SUM(F24:K24) -> 107 | M24: =L24/(D24/$N$1) -> 105.62685
A25: Hamina | B25: =_xlfn.XLOOKUP(A25,'[1]Kunnat seutukunnat maakunnat'!C:C,'[1]Kunnat seutukunnat maakunnat'!F:F) -> Kymenlaakso | C25: =_xlfn.XLOOKUP(A25,'[1]Kunnat seutukunnat maakunnat'!C:C,'[1]Kunnat seutukunnat maakunnat'!G:G) -> Kotka–Haminan seutukunta | D25: =_xlfn.XLOOKUP(A25,Väkiluku!A:A,Väkiluku!B:B) -> 19534 | E25: =_xlfn.XLOOKUP(A25,'[1]Pitopaikat Ruokavirasto'!A:A,'[1]Pitopaikat Ruokavirasto'!B:B) -> 53 | F25: 56 | G25: 103 | H25: 1 | I25: 75 | J25: 78 | K25: 22 | L25: =SUM(F25:K25) -> 335 | M25: =L25/(D25/$N$1) -> 17.149585
A26: Hammarland | B26: =_xlfn.XLOOKUP(A26,'[1]Kunnat seutukunnat maakunnat'!C:C,'[1]Kunnat seutukunnat maakunnat'!F:F) -> Ahvenanmaa | C26: =_xlfn.XLOOKUP(A26,'[1]Kunnat seutukunnat maakunnat'!C:C,'[1]Kunnat seutukunnat maakunnat'!G:G) -> Ålands landsbygd | D26: =_xlfn.XLOOKUP(A26,Väkiluku!A:A,Väkiluku!B:B) -> 1646 | E26: =_xlfn.XLOOKUP(A26,'[1]Pitopaikat Ruokavirasto'!A:A,'[1]Pitopaikat Ruokavirasto'!B:B) -> 26 | F26: 1 | G26: 1 | H26: 0 | I26: 14 | J26: 24 | K26: 15 | L26: =SUM(F26:K26) -> 55 | M26: =L26/(D26/$N$1) -> 33.414338
A27: Hankasalmi | B27: =_xlfn.XLOOKUP(A27,'[1]Kunnat seutukunnat maakunnat'!C:C,'[1]Kunnat seutukunnat maakunnat'!F:F) -> Keski-Suomi | C27: =_xlfn.XLOOKUP(A27,'[1]Kunnat seutukunnat maakunnat'!C:C,'[1]Kunnat seutukunnat maakunnat'!G:G) -> Jyväskylän seutukunta | D27: =_xlfn.XLOOKUP(A27,Väkiluku!A:A,Väkiluku!B:B) -> 4549 | E27: =_xlfn.XLOOKUP(A27,'[1]Pitopaikat Ruokavirasto'!A:A,'[1]Pitopaikat Ruokavirasto'!B:B) -> 54 | F27: 102 | G27: 132 | H27: 1 | I27: 20 | J27: 64 | K27: 15 | L27: =SUM(F27:K27) -> 334 | M27: =L27/(D27/$N$1) -> 73.42273
A28: Hanko | B28: =_xlfn.XLOOKUP(A28,'[1]Kunnat seutukunnat maakunnat'!C:C,'[1]Kunnat seutukunnat maakunnat'!F:F) -> Uusimaa | C28: =_xlfn.XLOOKUP(A28,'[1]Kunnat seutukunnat maakunnat'!C:C,'[1]Kunnat seutukunnat maakunnat'!G:G) -> Raaseporin seutukunta | D28: =_xlfn.XLOOKUP(A28,Väkiluku!A:A,Väkiluku!B:B) -> 7721 | E28: 3* | F28: 2 | G28: 2 | H28: 2 | I28: 15 | J28: 10 | K28: 21 | L28: =SUM(F28:K28) -> 52 | M28: =L28/(D28/$N$1) -> 6.7348789
A29: Harjavalta | B29: =_xlfn.XLOOKUP(A29,'[1]Kunnat seutukunnat maakunnat'!C:C,'[1]Kunnat seutukunnat maakunnat'!F:F) -> Satakunta | C29: =_xlfn.XLOOKUP(A29,'[1]Kunnat seutukunnat maakunnat'!C:C,'[1]Kunnat seutukunnat maakunnat'!G:G) -> Porin seutukunta | D29: =_xlfn.XLOOKUP(A29,Väkiluku!A:A,Väkiluku!B:B) -> 6703 | E29: =_xlfn.XLOOKUP(A29,'[1]Pitopaikat Ruokavirasto'!A:A,'[1]Pitopaikat Ruokavirasto'!B:B) -> 10 | F29: 23 | G29: 23 | H29: 0 | I29: 19 | J29: 8 | K29: 11 | L29: =SUM(F29:K29) -> 84 | M29: =L29/(D29/$N$1) -> 12.531702
A30: Hartola | B30: =_xlfn.XLOOKUP(A30,'[1]Kunnat seutukunnat maakunnat'!C:C,'[1]Kunnat seutukunnat maakunnat'!F:F) -> Päijät-Häme | C30: =_xlfn.XLOOKUP(A30,'[1]Kunnat seutukunnat maakunnat'!C:C,'[1]Kunnat seutukunnat maakunnat'!G:G) -> Lahden seutukunta | D30: =_xlfn.XLOOKUP(A30,Väkiluku!A:A,Väkiluku!B:B) -> 2531 | E30: =_xlfn.XLOOKUP(A30,'[1]Pitopaikat Ruokavirasto'!A:A,'[1]Pitopaikat Ruokavirasto'!B:B) -> 14 | F30: 21 | G30: 34 | H30: 0 | I30: 12 | J30: 11 | K30: 6 | L30: =SUM(F30:K30) -> 84 | M30: =L30/(D30/$N$1) -> 33.188463
A31: Hattula | B31: =_xlfn.XLOOKUP(A31,'[1]Kunnat seutukunnat maakunnat'!C:C,'[1]Kunnat seutukunnat maakunnat'!F:F) -> Kanta-Häme | C31: =_xlfn.XLOOKUP(A31,'[1]Kunnat seutukunnat maakunnat'!C:C,'[1]Kunnat seutukunnat maakunnat'!G:G) -> Hämeenlinnan seutukunta | D31: =_xlfn.XLOOKUP(A31,Väkiluku!A:A,Väkiluku!B:B) -> 9371 | E31: =_xlfn.XLOOKUP(A31,'[1]Pitopaikat Ruokavirasto'!A:A,'[1]Pitopaikat Ruokavirasto'!B:B) -> 41 | F31: 28 | G31: 77 | H31: 0 | I31: 54 | J31: 40 | K31: 27 | L31: =SUM(F31:K31) -> 226 | M31: =L31/(D31/$N$1) -> 24.116957
A32: Hausjärvi | B32: =_xlfn.XLOOKUP(A32,'[1]Kunnat seutukunnat maakunnat'!C:C,'[1]Kunnat seutukunnat maakunnat'!F:F) -> Kanta-Häme | C32: =_xlfn.XLOOKUP(A32,'[1]Kunnat seutukunnat maakunnat'!C:C,'[1]Kunnat seutukunnat maakunnat'!G:G) -> Riihimäen seutukunta | D32: =_xlfn.XLOOKUP(A32,Väkiluku!A:A,Väkiluku!B:B) -> 7998 | E32: =_xlfn.XLOOKUP(A32,'[1]Pitopaikat Ruokavirasto'!A:A,'[1]Pitopaikat Ruokavirasto'!B:B) -> 57 | F32: 28 | G32: 43 | H32: 0 | I32: 31 | J32: 63 | K32: 11 | L32: =SUM(F32:K32) -> 176 | M32: =L32/(D32/$N$1) -> 22.005501
A33: Heinola | B33: =_xlfn.XLOOKUP(A33,'[1]Kunnat seutukunnat maakunnat'!C:C,'[1]Kunnat seutukunnat maakunnat'!F:F) -> Päijät-Häme | C33: =_xlfn.XLOOKUP(A33,'[1]Kunnat seutukunnat maakunnat'!C:C,'[1]Kunnat seutukunnat maakunnat'!G:G) -> Lahden seutukunta | D33: =_xlfn.XLOOKUP(A33,Väkiluku!A:A,Väkiluku!B:B) -> 17953 | E33: =_xlfn.XLOOKUP(A33,'[1]Pitopaikat Ruokavirasto'!A:A,'[1]Pitopaikat Ruokavirasto'!B:B) -> 34 | F33: 34 | G33: 43 | H33: 0 | I33: 18 | J33: 26 | K33: 19 | L33: =SUM(F33:K33) -> 140 | M33: =L33/(D33/$N$1) -> 7.7981396
A34: Heinävesi | B34: =_xlfn.XLOOKUP(A34,'[1]Kunnat seutukunnat maakunnat'!C:C,'[1]Kunnat seutukunnat maakunnat'!F:F) -> Pohjois-Karjala | C34: =_xlfn.XLOOKUP(A34,'[1]Kunnat seutukunnat maakunnat'!C:C,'[1]Kunnat seutukunnat maakunnat'!G:G) -> Joensuun seutukunta | D34: =_xlfn.XLOOKUP(A34,Väkiluku!A:A,Väkiluku!B:B) -> 3001 | E34: =_xlfn.XLOOKUP(A34,'[1]Pitopaikat Ruokavirasto'!A:A,'[1]Pitopaikat Ruokavirasto'!B:B) -> 19 | F34: 47 | G34: 41 | H34: 0 | I34: 6 | J34: 23 | K34: 11 | L34: =SUM(F34:K34) -> 128 | M34: =L34/(D34/$N$1) -> 42.652449
A35: Helsinki | B35: =_xlfn.XLOOKUP(A35,'[1]Kunnat seutukunnat maakunnat'!C:C,'[1]Kunnat seutukunnat maakunnat'!F:F) -> Uusimaa | C35: =_xlfn.XLOOKUP(A35,'[1]Kunnat seutukunnat maakunnat'!C:C,'[1]Kunnat seutukunnat maakunnat'!G:G) -> Helsingin seutukunta | D35: =_xlfn.XLOOKUP(A35,Väkiluku!A:A,Väkiluku!B:B) -> 674500 | E35: =_xlfn.XLOOKUP(A35,'[1]Pitopaikat Ruokavirasto'!A:A,'[1]Pitopaikat Ruokavirasto'!B:B) -> 19 | F35: 197 | G35: 178 | H35: 3 | I35: 880 | J35: 221 | K35: 251 | L35: =SUM(F35:K35) -> 1730 | M35: =L35/(D35/$N$1) -> 2.5648629
A36: Hirvensalmi | B36: =_xlfn.XLOOKUP(A36,'[1]Kunnat seutukunnat maakunnat'!C:C,'[1]Kunnat seutukunnat maakunnat'!F:F) -> Etelä-Savo | C36: =_xlfn.XLOOKUP(A36,'[1]Kunnat seutukunnat maakunnat'!C:C,'[1]Kunnat seutukunnat maakunnat'!G:G) -> Mikkelin seutukunta | D36: =_xlfn.XLOOKUP(A36,Väkiluku!A:A,Väkiluku!B:B) -> 2062 | E36: =_xlfn.XLOOKUP(A36,'[1]Pitopaikat Ruokavirasto'!A:A,'[1]Pitopaikat Ruokavirasto'!B:B) -> 17 | F36: 2 | G36: 14 | H36: 0 | I36: 8 | J36: 7 | K36: 2 | L36: =SUM(F36:K36) -> 33 | M36: =L36/(D36/$N$1) -> 16.00388
A37: Hollola | B37: =_xlfn.XLOOKUP(A37,'[1]Kunnat seutukunnat maakunnat'!C:C,'[1]Kunnat seutukunnat maakunnat'!F:F) -> Päijät-Häme | C37: =_xlfn.XLOOKUP(A37,'[1]Kunnat seutukunnat maakunnat'!C:C,'[1]Kunnat seutukunnat maakunnat'!G:G) -> Lahden seutukunta | D37: =_xlfn.XLOOKUP(A37,Väkiluku!A:A,Väkiluku!B:B) -> 22885 | E37: =_xlfn.XLOOKUP(A37,'[1]Pitopaikat Ruokavirasto'!A:A,'[1]Pitopaikat Ruokavirasto'!B:B) -> 83 | F37: 160 | G37: 132 | H37: 1 | I37: 79 | J37: 69 | K37: 39 | L37: =SUM(F37:K37) -> 480 | M37: =L37/(D37/$N$1) -> 20.974437
A38: Huittinen | B38: =_xlfn.XLOOKUP(A38,'[1]Kunnat seutukunnat maakunnat'!C:C,'[1]Kunnat seutukunnat maakunnat'!F:F) -> Satakunta | C38: =_xlfn.XLOOKUP(A38,'[1]Kunnat seutukunnat maakunnat'!C:C,'[1]Kunnat seutukunnat maakunnat'!G:G) -> Porin seutukunta | D38: =_xlfn.XLOOKUP(A38,Väkiluku!A:A,Väkiluku!B:B) -> 9646 | E38: =_xlfn.XLOOKUP(A38,'[1]Pitopaikat Ruokavirasto'!A:A,'[1]Pitopaikat Ruokavirasto'!B:B) -> 43 | F38: 49 | G38: 66 | H38: 1 | I38: 61 | J38: 49 | K38: 51 | L38: =SUM(F38:K38) -> 277 | M38: =L38/(D38/$N$1) -> 28.716566
A39: Humppila | B39: =_xlfn.XLOOKUP(A39,'[1]Kunnat seutukunnat maakunnat'!C:C,'[1]Kunnat seutukunnat maakunnat'!F:F) -> Kanta-Häme | C39: =_xlfn.XLOOKUP(A39,'[1]Kunnat seutukunnat maakunnat'!C:C,'[1]Kunnat seutukunnat maakunnat'!G:G) -> Forssan seutukunta | D39: =_xlfn.XLOOKUP(A39,Väkiluku!A:A,Väkiluku!B:B) -> 2125 | E39: =_xlfn.XLOOKUP(A39,'[1]Pitopaikat Ruokavirasto'!A:A,'[1]Pitopaikat Ruokavirasto'!B:B) -> 11 | F39: 20 | G39: 12 | H39: 0 | I39: 7 | J39: 8 | K39: 2 | L39: =SUM(F39:K39) -> 49 | M39: =L39/(D39/$N$1) -> 23.058824
A40: Hyrynsalmi | B40: =_xlfn.XLOOKUP(A40,'[1]Kunnat seutukunnat maakunnat'!C:C,'[1]Kunnat seutukunnat maakunnat'!F:F) -> Kainuu | C40: =_xlfn.XLOOKUP(A40,'[1]Kunnat seutukunnat maakunnat'!C:C,'[1]Kunnat seutukunnat maakunnat'!G:G) -> Kehys-Kainuun seutukunta | D40: =_xlfn.XLOOKUP(A40,Väkiluku!A:A,Väkiluku!B:B) -> 2063 | E40: =_xlfn.XLOOKUP(A40,'[1]Pitopaikat Ruokavirasto'!A:A,'[1]Pitopaikat Ruokavirasto'!B:B) -> 5 | F40: 2 | G40: 6 | H40: 1 | I40: 2 | J40: 2 | K40: 1 | L40: =SUM(F40:K40) -> 14 | M40: =L40/(D40/$N$1) -> 6.7862336
... A80: Karvia | B80: =_xlfn.XLOOKUP(A80,'[1]Kunnat seutukunnat maakunnat'!C:C,'[1]Kunnat seutukunnat maakunnat'!F:F) -> Satakunta | C80: =_xlfn.XLOOKUP(A80,'[1]Kunnat seutukunnat maakunnat'!C:C,'[1]Kunnat seutukunnat maakunnat'!G:G) -> Pohjois-Satakunnan seutukunta | D80: =_xlfn.XLOOKUP(A80,Väkiluku!A:A,Väkiluku!B:B) -> 2216 | E80: =_xlfn.XLOOKUP(A80,'[1]Pitopaikat Ruokavirasto'!A:A,'[1]Pitopaikat Ruokavirasto'!B:B) -> 10 | F80: 7 | G80: 12 | H80: 0 | I80: 0 | J80: 13 | K80: 13 | L80: =SUM(F80:K80) -> 45 | M80: =L80/(D80/$N$1) -> 20.306859
A81: Kaskinen | B81: =_xlfn.XLOOKUP(A81,'[1]Kunnat seutukunnat maakunnat'!C:C,'[1]Kunnat seutukunnat maakunnat'!F:F) -> Pohjanmaa | C81: =_xlfn.XLOOKUP(A81,'[1]Kunnat seutukunnat maakunnat'!C:C,'[1]Kunnat seutukunnat maakunnat'!G:G) -> Suupohjan rannikkoseutu | D81: =_xlfn.XLOOKUP(A81,Väkiluku!A:A,Väkiluku!B:B) -> 1208 | E81: 3* | F81: 8 | G81: 1 | H81: 0 | I81: 1 | J81: 0 | K81: 1 | L81: =SUM(F81:K81) -> 11 | M81: =L81/(D81/$N$1) -> 9.1059603
A82: Kauhajoki | B82: =_xlfn.XLOOKUP(A82,'[1]Kunnat seutukunnat maakunnat'!C:C,'[1]Kunnat seutukunnat maakunnat'!F:F) -> Etelä-Pohjanmaa | C82: =_xlfn.XLOOKUP(A82,'[1]Kunnat seutukunnat maakunnat'!C:C,'[1]Kunnat seutukunnat maakunnat'!G:G) -> Suupohjan seutukunta | D82: =_xlfn.XLOOKUP(A82,Väkiluku!A:A,Väkiluku!B:B) -> 12618 | E82: =_xlfn.XLOOKUP(A82,'[1]Pitopaikat Ruokavirasto'!A:A,'[1]Pitopaikat Ruokavirasto'!B:B) -> 58 | F82: 47 | G82: 104 | H82: 0 | I82: 34 | J82: 214 | K82: 21 | L82: =SUM(F82:K82) -> 420 | M82: =L82/(D82/$N$1) -> 33.285782
A83: Kauhava | B83: =_xlfn.XLOOKUP(A83,'[1]Kunnat seutukunnat maakunnat'!C:C,'[1]Kunnat seutukunnat maakunnat'!F:F) -> Etelä-Pohjanmaa | C83: =_xlfn.XLOOKUP(A83,'[1]Kunnat seutukunnat maakunnat'!C:C,'[1]Kunnat seutukunnat maakunnat'!G:G) -> Seinäjoen seutukunta | D83: =_xlfn.XLOOKUP(A83,Väkiluku!A:A,Väkiluku!B:B) -> 15165 | E83: =_xlfn.XLOOKUP(A83,'[1]Pitopaikat Ruokavirasto'!A:A,'[1]Pitopaikat Ruokavirasto'!B:B) -> 141 | F83: 169 | G83: 256 | H83: 2 | I83: 35 | J83: 54 | K83: 26 | L83: =SUM(F83:K83) -> 542 | M83: =L83/(D83/$N$1) -> 35.740191
A84: Kauniainen | B84: =_xlfn.XLOOKUP(A84,'[1]Kunnat seutukunnat maakunnat'!C:C,'[1]Kunnat seutukunnat maakunnat'!F:F) -> Uusimaa | C84: =_xlfn.XLOOKUP(A84,'[1]Kunnat seutukunnat maakunnat'!C:C,'[1]Kunnat seutukunnat maakunnat'!G:G) -> Helsingin seutukunta | D84: =_xlfn.XLOOKUP(A84,Väkiluku!A:A,Väkiluku!B:B) -> 10270 | E84: 3* | F84: 3 | G84: 2 | H84: 0 | I84: 70 | J84: 12 | K84: 7 | L84: =SUM(F84:K84) -> 94 | M84: =L84/(D84/$N$1) -> 9.1528724
A85: Kaustinen | B85: =_xlfn.XLOOKUP(A85,'[1]Kunnat seutukunnat maakunnat'!C:C,'[1]Kunnat seutukunnat maakunnat'!F:F) -> Keski-Pohjanmaa | C85: =_xlfn.XLOOKUP(A85,'[1]Kunnat seutukunnat maakunnat'!C:C,'[1]Kunnat seutukunnat maakunnat'!G:G) -> Kaustisen seutukunta | D85: =_xlfn.XLOOKUP(A85,Väkiluku!A:A,Väkiluku!B:B) -> 4137 | E85: =_xlfn.XLOOKUP(A85,'[1]Pitopaikat Ruokavirasto'!A:A,'[1]Pitopaikat Ruokavirasto'!B:B) -> 53 | F85: 102 | G85: 91 | H85: 0 | I85: 4 | J85: 17 | K85: 10 | L85: =SUM(F85:K85) -> 224 | M85: =L85/(D85/$N$1) -> 54.145516
A86: Keitele | B86: =_xlfn.XLOOKUP(A86,'[1]Kunnat seutukunnat maakunnat'!C:C,'[1]Kunnat seutukunnat maakunnat'!F:F) -> Pohjois-Savo | C86: =_xlfn.XLOOKUP(A86,'[1]Kunnat seutukunnat maakunnat'!C:C,'[1]Kunnat seutukunnat maakunnat'!G:G) -> Ylä-Savon seutukunta | D86: =_xlfn.XLOOKUP(A86,Väkiluku!A:A,Väkiluku!B:B) -> 2035 | E86: =_xlfn.XLOOKUP(A86,'[1]Pitopaikat Ruokavirasto'!A:A,'[1]Pitopaikat Ruokavirasto'!B:B) -> 13 | F86: 20 | G86: 27 | H86: 0 | I86: 8 | J86: 16 | K86: 13 | L86: =SUM(F86:K86) -> 84 | M86: =L86/(D86/$N$1) -> 41.277641
A87: Kemi | B87: =_xlfn.XLOOKUP(A87,'[1]Kunnat seutukunnat maakunnat'!C:C,'[1]Kunnat seutukunnat maakunnat'!F:F) -> Lappi | C87: =_xlfn.XLOOKUP(A87,'[1]Kunnat seutukunnat maakunnat'!C:C,'[1]Kunnat seutukunnat maakunnat'!G:G) -> Kemi–Tornion seutukunta | D87: =_xlfn.XLOOKUP(A87,Väkiluku!A:A,Väkiluku!B:B) -> 19371 | E87: 3* | F87: 5 | G87: 8 | H87: 1 | I87: 8 | J87: 5 | K87: 7 | L87: =SUM(F87:K87) -> 34 | M87: =L87/(D87/$N$1) -> 1.7552011
A88: Kemijärvi | B88: =_xlfn.XLOOKUP(A88,'[1]Kunnat seutukunnat maakunnat'!C:C,'[1]Kunnat seutukunnat maakunnat'!F:F) -> Lappi | C88: =_xlfn.XLOOKUP(A88,'[1]Kunnat seutukunnat maakunnat'!C:C,'[1]Kunnat seutukunnat maakunnat'!G:G) -> Itä-Lapin seutukunta | D88: =_xlfn.XLOOKUP(A88,Väkiluku!A:A,Väkiluku!B:B) -> 7030 | E88: =_xlfn.XLOOKUP(A88,'[1]Pitopaikat Ruokavirasto'!A:A,'[1]Pitopaikat Ruokavirasto'!B:B) -> 27 | F88: 34 | G88: 47 | H88: 0 | I88: 1 | J88: 4 | K88: 9 | L88: =SUM(F88:K88) -> 95 | M88: =L88/(D88/$N$1) -> 13.513514
A89: Keminmaa | B89: =_xlfn.XLOOKUP(A89,'[1]Kunnat seutukunnat maakunnat'!C:C,'[1]Kunnat seutukunnat maakunnat'!F:F) -> Lappi | C89: =_xlfn.XLOOKUP(A89,'[1]Kunnat seutukunnat maakunnat'!C:C,'[1]Kunnat seutukunnat maakunnat'!G:G) -> Kemi–Tornion seutukunta | D89: =_xlfn.XLOOKUP(A89,Väkiluku!A:A,Väkiluku!B:B) -> 7691 | E89: =_xlfn.XLOOKUP(A89,'[1]Pitopaikat Ruokavirasto'!A:A,'[1]Pitopaikat Ruokavirasto'!B:B) -> 17 | F89: 41 | G89: 22 | H89: 2 | I89: 19 | J89: 24 | K89: 14 | L89: =SUM(F89:K89) -> 122 | M89: =L89/(D89/$N$1) -> 15.862697
A90: Kemiönsaari | B90: =_xlfn.XLOOKUP(A90,'[1]Kunnat seutukunnat maakunnat'!C:C,'[1]Kunnat seutukunnat maakunnat'!F:F) -> Varsinais-Suomi | C90: =_xlfn.XLOOKUP(A90,'[1]Kunnat seutukunnat maakunnat'!C:C,'[1]Kunnat seutukunnat maakunnat'!G:G) -> Turunmaan seutukunta | D90: =_xlfn.XLOOKUP(A90,Väkiluku!A:A,Väkiluku!B:B) -> 6462 | E90: =_xlfn.XLOOKUP(A90,'[1]Pitopaikat Ruokavirasto'!A:A,'[1]Pitopaikat Ruokavirasto'!B:B) -> 21 | F90: 7 | G90: 11 | H90: 2 | I90: 48 | J90: 33 | K90: 21 | L90: =SUM(F90:K90) -> 122 | M90: =L90/(D90/$N$1) -> 18.879604
A91: Kempele | B91: =_xlfn.XLOOKUP(A91,'[1]Kunnat seutukunnat maakunnat'!C:C,'[1]Kunnat seutukunnat maakunnat'!F:F) -> Pohjois-Pohjanmaa | C91: =_xlfn.XLOOKUP(A91,'[1]Kunnat seutukunnat maakunnat'!C:C,'[1]Kunnat seutukunnat maakunnat'!G:G) -> Oulun seutukunta | D91: =_xlfn.XLOOKUP(A91,Väkiluku!A:A,Väkiluku!B:B) -> 19514 | E91: =_xlfn.XLOOKUP(A91,'[1]Pitopaikat Ruokavirasto'!A:A,'[1]Pitopaikat Ruokavirasto'!B:B) -> 19 | F91: 42 | G91: 47 | H91: 0 | I91: 41 | J91: 16 | K91: 27 | L91: =SUM(F91:K91) -> 173 | M91: =L91/(D91/$N$1) -> 8.8654299
A92: Kerava | B92: =_xlfn.XLOOKUP(A92,'[1]Kunnat seutukunnat maakunnat'!C:C,'[1]Kunnat seutukunnat maakunnat'!F:F) -> Uusimaa | C92: =_xlfn.XLOOKUP(A92,'[1]Kunnat seutukunnat maakunnat'!C:C,'[1]Kunnat seutukunnat maakunnat'!G:G) -> Helsingin seutukunta | D92: =_xlfn.XLOOKUP(A92,Väkiluku!A:A,Väkiluku!B:B) -> 38211 | E92: =_xlfn.XLOOKUP(A92,'[1]Pitopaikat Ruokavirasto'!A:A,'[1]Pitopaikat Ruokavirasto'!B:B) -> 8 | F92: 20 | G92: 29 | H92: 0 | I92: 84 | J92: 21 | K92: 42 | L92: =SUM(F92:K92) -> 196 | M92: =L92/(D92/$N$1) -> 5.129413
A93: Keuruu | B93: =_xlfn.XLOOKUP(A93,'[1]Kunnat seutukunnat maakunnat'!C:C,'[1]Kunnat seutukunnat maakunnat'!F:F) -> Keski-Suomi | C93: =_xlfn.XLOOKUP(A93,'[1]Kunnat seutukunnat maakunnat'!C:C,'[1]Kunnat seutukunnat maakunnat'!G:G) -> Keuruun seutukunta | D93: =_xlfn.XLOOKUP(A93,Väkiluku!A:A,Väkiluku!B:B) -> 9184 | E93: =_xlfn.XLOOKUP(A93,'[1]Pitopaikat Ruokavirasto'!A:A,'[1]Pitopaikat Ruokavirasto'!B:B) -> 33 | F93: 71 | G93: 147 | H93: 1 | I93: 16 | J93: 22 | K93: 16 | L93: =SUM(F93:K93) -> 273 | M93: =L93/(D93/$N$1) -> 29.72561
A94: Kihniö | B94: =_xlfn.XLOOKUP(A94,'[1]Kunnat seutukunnat maakunnat'!C:C,'[1]Kunnat seutukunnat maakunnat'!F:F) -> Pirkanmaa | C94: =_xlfn.XLOOKUP(A94,'[1]Kunnat seutukunnat maakunnat'!C:C,'[1]Kunnat seutukunnat maakunnat'!G:G) -> Luoteis-Pirkanmaan seutukunta | D94: =_xlfn.XLOOKUP(A94,Väkiluku!A:A,Väkiluku!B:B) -> 1749 | E94: =_xlfn.XLOOKUP(A94,'[1]Pitopaikat Ruokavirasto'!A:A,'[1]Pitopaikat Ruokavirasto'!B:B) -> 9 | F94: 6 | G94: 13 | H94: 0 | I94: 0 | J94: 6 | K94: 2 | L94: =SUM(F94:K94) -> 27 | M94: =L94/(D94/$N$1) -> 15.437393
A95: Kinnula | B95: =_xlfn.XLOOKUP(A95,'[1]Kunnat seutukunnat maakunnat'!C:C,'[1]Kunnat seutukunnat maakunnat'!F:F) -> Keski-Suomi | C95: =_xlfn.XLOOKUP(A95,'[1]Kunnat seutukunnat maakunnat'!C:C,'[1]Kunnat seutukunnat maakunnat'!G:G) -> Saarijärven–Viitasaaren seutukunta | D95: =_xlfn.XLOOKUP(A95,Väkiluku!A:A,Väkiluku!B:B) -> 1523 | E95: =_xlfn.XLOOKUP(A95,'[1]Pitopaikat Ruokavirasto'!A:A,'[1]Pitopaikat Ruokavirasto'!B:B) -> 8 | F95: 13 | G95: 18 | H95: 0 | I95: 0 | J95: 0 | K95: 1 | L95: =SUM(F95:K95) -> 32 | M95: =L95/(D95/$N$1) -> 21.011162
A96: Kirkkonummi | B96: =_xlfn.XLOOKUP(A96,'[1]Kunnat seutukunnat maakunnat'!C:C,'[1]Kunnat seutukunnat maakunnat'!F:F) -> Uusimaa | C96: =_xlfn.XLOOKUP(A96,'[1]Kunnat seutukunnat maakunnat'!C:C,'[1]Kunnat seutukunnat maakunnat'!G:G) -> Helsingin seutukunta | D96: =_xlfn.XLOOKUP(A96,Väkiluku!A:A,Väkiluku!B:B) -> 41154 | E96: =_xlfn.XLOOKUP(A96,'[1]Pitopaikat Ruokavirasto'!A:A,'[1]Pitopaikat Ruokavirasto'!B:B) -> 69 | F96: 77 | G96: 136 | H96: 2 | I96: 420 | J96: 220 | K96: 102 | L96: =SUM(F96:K96) -> 957 | M96: =L96/(D96/$N$1) -> 23.254119
A97: Kitee | B97: =_xlfn.XLOOKUP(A97,'[1]Kunnat seutukunnat maakunnat'!C:C,'[1]Kunnat seutukunnat maakunnat'!F:F) -> Pohjois-Karjala | C97: =_xlfn.XLOOKUP(A97,'[1]Kunnat seutukunnat maakunnat'!C:C,'[1]Kunnat seutukunnat maakunnat'!G:G) -> Keski-Karjalan seutukunta | D97: =_xlfn.XLOOKUP(A97,Väkiluku!A:A,Väkiluku!B:B) -> 9689 | E97: =_xlfn.XLOOKUP(A97,'[1]Pitopaikat Ruokavirasto'!A:A,'[1]Pitopaikat Ruokavirasto'!B:B) -> 40 | F97: 33 | G97: 68 | H97: 0 | I97: 31 | J97: 39 | K97: 20 | L97: =SUM(F97:K97) -> 191 | M97: =L97/(D97/$N$1) -> 19.713077
A98: Kittilä | B98: =_xlfn.XLOOKUP(A98,'[1]Kunnat seutukunnat maakunnat'!C:C,'[1]Kunnat seutukunnat maakunnat'!F:F) -> Lappi | C98: =_xlfn.XLOOKUP(A98,'[1]Kunnat seutukunnat maakunnat'!C:C,'[1]Kunnat seutukunnat maakunnat'!G:G) -> Tunturi-Lapin seutukunta | D98: =_xlfn.XLOOKUP(A98,Väkiluku!A:A,Väkiluku!B:B) -> 6822 | E98: =_xlfn.XLOOKUP(A98,'[1]Pitopaikat Ruokavirasto'!A:A,'[1]Pitopaikat Ruokavirasto'!B:B) -> 25 | F98: 34 | G98: 19 | H98: 2 | I98: 15 | J98: 30 | K98: 10 | L98: =SUM(F98:K98) -> 110 | M98: =L98/(D98/$N$1) -> 16.124304
A99: Kiuruvesi | B99: =_xlfn.XLOOKUP(A99,'[1]Kunnat seutukunnat maakunnat'!C:C,'[1]Kunnat seutukunnat maakunnat'!F:F) -> Pohjois-Savo | C99: =_xlfn.XLOOKUP(A99,'[1]Kunnat seutukunnat maakunnat'!C:C,'[1]Kunnat seutukunnat maakunnat'!G:G) -> Ylä-Savon seutukunta | D99: =_xlfn.XLOOKUP(A99,Väkiluku!A:A,Väkiluku!B:B) -> 7475 | E99: =_xlfn.XLOOKUP(A99,'[1]Pitopaikat Ruokavirasto'!A:A,'[1]Pitopaikat Ruokavirasto'!B:B) -> 76 | F99: 85 | G99: 130 | H99: 0 | I99: 55 | J99: 43 | K99: 17 | L99: =SUM(F99:K99) -> 330 | M99: =L99/(D99/$N$1) -> 44.147157
... A105: Kontiolahti | B105: =_xlfn.XLOOKUP(A105,'[1]Kunnat seutukunnat maakunnat'!C:C,'[1]Kunnat seutukunnat maakunnat'!F:F) -> Pohjois-Karjala | C105: =_xlfn.XLOOKUP(A105,'[1]Kunnat seutukunnat maakunnat'!C:C,'[1]Kunnat seutukunnat maakunnat'!G:G) -> Joensuun seutukunta | D105: =_xlfn.XLOOKUP(A105,Väkiluku!A:A,Väkiluku!B:B) -> 15136 | E105: =_xlfn.XLOOKUP(A105,'[1]Pitopaikat Ruokavirasto'!A:A,'[1]Pitopaikat Ruokavirasto'!B:B) -> 67 | F105: 43 | G105: 91 | H105: 3 | I105: 50 | J105: 58 | K105: 46 | L105: =SUM(F105:K105) -> 291 | M105: =L105/(D105/$N$1) -> 19.225687
A106: Korsnäs | B106: =_xlfn.XLOOKUP(A106,'[1]Kunnat seutukunnat maakunnat'!C:C,'[1]Kunnat seutukunnat maakunnat'!F:F) -> Pohjanmaa | C106: =_xlfn.XLOOKUP(A106,'[1]Kunnat seutukunnat maakunnat'!C:C,'[1]Kunnat seutukunnat maakunnat'!G:G) -> Vaasan seutukunta | D106: =_xlfn.XLOOKUP(A106,Väkiluku!A:A,Väkiluku!B:B) -> 2015 | E106: 3* | F106: 1 | G106: 2 | H106: 0 | I106: 8 | J106: 8 | K106: 13 | L106: =SUM(F106:K106) -> 32 | M106: =L106/(D106/$N$1) -> 15.880893
A107: Koski Tl | B107: =_xlfn.XLOOKUP(A107,'[1]Kunnat seutukunnat maakunnat'!C:C,'[1]Kunnat seutukunnat maakunnat'!F:F) -> Varsinais-Suomi | C107: =_xlfn.XLOOKUP(A107,'[1]Kunnat seutukunnat maakunnat'!C:C,'[1]Kunnat seutukunnat maakunnat'!G:G) -> Loimaan seutukunta | D107: =_xlfn.XLOOKUP(A107,Väkiluku!A:A,Väkiluku!B:B) -> 2207 | E107: =_xlfn.XLOOKUP(A107,'[1]Pitopaikat Ruokavirasto'!A:A,'[1]Pitopaikat Ruokavirasto'!B:B) -> 14 | F107: 27 | G107: 23 | H107: 0 | I107: 23 | J107: 8 | K107: 6 | L107: =SUM(F107:K107) -> 87 | M107: =L107/(D107/$N$1) -> 39.420027
A108: Kotka | B108: =_xlfn.XLOOKUP(A108,'[1]Kunnat seutukunnat maakunnat'!C:C,'[1]Kunnat seutukunnat maakunnat'!F:F) -> Kymenlaakso | C108: =_xlfn.XLOOKUP(A108,'[1]Kunnat seutukunnat maakunnat'!C:C,'[1]Kunnat seutukunnat maakunnat'!G:G) -> Kotka–Haminan seutukunta | D108: =_xlfn.XLOOKUP(A108,Väkiluku!A:A,Väkiluku!B:B) -> 50500 | E108: =_xlfn.XLOOKUP(A108,'[1]Pitopaikat Ruokavirasto'!A:A,'[1]Pitopaikat Ruokavirasto'!B:B) -> 31 | F108: 64 | G108: 67 | H108: 1 | I108: 95 | J108: 52 | K108: 53 | L108: =SUM(F108:K108) -> 332 | M108: =L108/(D108/$N$1) -> 6.5742574
A109: Kouvola | B109: =_xlfn.XLOOKUP(A109,'[1]Kunnat seutukunnat maakunnat'!C:C,'[1]Kunnat seutukunnat maakunnat'!F:F) -> Kymenlaakso | C109: =_xlfn.XLOOKUP(A109,'[1]Kunnat seutukunnat maakunnat'!C:C,'[1]Kunnat seutukunnat maakunnat'!G:G) -> Kouvolan seutukunta | D109: =_xlfn.XLOOKUP(A109,Väkiluku!A:A,Väkiluku!B:B) -> 78880 | E109: =_xlfn.XLOOKUP(A109,'[1]Pitopaikat Ruokavirasto'!A:A,'[1]Pitopaikat Ruokavirasto'!B:B) -> 234 | F109: 355 | G109: 388 | H109: 0 | I109: 202 | J109: 302 | K109: 143 | L109: =SUM(F109:K109) -> 1390 | M109: =L109/(D109/$N$1) -> 17.621704
A110: Kristiinankaupunki | B110: =_xlfn.XLOOKUP(A110,'[1]Kunnat seutukunnat maakunnat'!C:C,'[1]Kunnat seutukunnat maakunnat'!F:F) -> Pohjanmaa | C110: =_xlfn.XLOOKUP(A110,'[1]Kunnat seutukunnat maakunnat'!C:C,'[1]Kunnat seutukunnat maakunnat'!G:G) -> Suupohjan rannikkoseutu | D110: =_xlfn.XLOOKUP(A110,Väkiluku!A:A,Väkiluku!B:B) -> 6199 | E110: =_xlfn.XLOOKUP(A110,'[1]Pitopaikat Ruokavirasto'!A:A,'[1]Pitopaikat Ruokavirasto'!B:B) -> 13 | F110: 8 | G110: 12 | H110: 0 | I110: 13 | J110: 12 | K110: 7 | L110: =SUM(F110:K110) -> 52 | M110: =L110/(D110/$N$1) -> 8.3884497
A111: Kruunupyy | B111: =_xlfn.XLOOKUP(A111,'[1]Kunnat seutukunnat maakunnat'!C:C,'[1]Kunnat seutukunnat maakunnat'!F:F) -> Pohjanmaa | C111: =_xlfn.XLOOKUP(A111,'[1]Kunnat seutukunnat maakunnat'!C:C,'[1]Kunnat seutukunnat maakunnat'!G:G) -> Jakobstadsregionen | D111: =_xlfn.XLOOKUP(A111,Väkiluku!A:A,Väkiluku!B:B) -> 6368 | E111: =_xlfn.XLOOKUP(A111,'[1]Pitopaikat Ruokavirasto'!A:A,'[1]Pitopaikat Ruokavirasto'!B:B) -> 48 | F111: 52 | G111: 35 | H111: 1 | I111: 22 | J111: 45 | K111: 11 | L111: =SUM(F111:K111) -> 166 | M111: =L111/(D111/$N$1) -> 26.067839
A112: Kuhmo | B112: =_xlfn.XLOOKUP(A112,'[1]Kunnat seutukunnat maakunnat'!C:C,'[1]Kunnat seutukunnat maakunnat'!F:F) -> Kainuu | C112: =_xlfn.XLOOKUP(A112,'[1]Kunnat seutukunnat maakunnat'!C:C,'[1]Kunnat seutukunnat maakunnat'!G:G) -> Kehys-Kainuun seutukunta | D112: =_xlfn.XLOOKUP(A112,Väkiluku!A:A,Väkiluku!B:B) -> 7582 | E112: =_xlfn.XLOOKUP(A112,'[1]Pitopaikat Ruokavirasto'!A:A,'[1]Pitopaikat Ruokavirasto'!B:B) -> 19 | F112: 20 | G112: 19 | H112: 1 | I112: 2 | J112: 15 | K112: 3 | L112: =SUM(F112:K112) -> 60 | M112: =L112/(D112/$N$1) -> 7.9134793
A113: Kuhmoinen | B113: =_xlfn.XLOOKUP(A113,'[1]Kunnat seutukunnat maakunnat'!C:C,'[1]Kunnat seutukunnat maakunnat'!F:F) -> Pirkanmaa | C113: =_xlfn.XLOOKUP(A113,'[1]Kunnat seutukunnat maakunnat'!C:C,'[1]Kunnat seutukunnat maakunnat'!G:G) -> Tampereen seutukunta | D113: =_xlfn.XLOOKUP(A113,Väkiluku!A:A,Väkiluku!B:B) -> 2092 | E113: =_xlfn.XLOOKUP(A113,'[1]Pitopaikat Ruokavirasto'!A:A,'[1]Pitopaikat Ruokavirasto'!B:B) -> 17 | F113: 10 | G113: 29 | H113: 1 | I113: 24 | J113: 24 | K113: 8 | L113: =SUM(F113:K113) -> 96 | M113: =L113/(D113/$N$1) -> 45.889101
A114: Kumlinge | B114: =_xlfn.XLOOKUP(A114,'[1]Kunnat seutukunnat maakunnat'!C:C,'[1]Kunnat seutukunnat maakunnat'!F:F) -> Ahvenanmaa | C114: =_xlfn.XLOOKUP(A114,'[1]Kunnat seutukunnat maakunnat'!C:C,'[1]Kunnat seutukunnat maakunnat'!G:G) -> Ålands skärgård | D114: =_xlfn.XLOOKUP(A114,Väkiluku!A:A,Väkiluku!B:B) -> 290 | E114: 3* | F114: 0 | G114: 0 | H114: 0 | I114: 0 | J114: 2 | K114: 0 | L114: =SUM(F114:K114) -> 2 | M114: =L114/(D114/$N$1) -> 6.8965517
A115: Kuopio | B115: =_xlfn.XLOOKUP(A115,'[1]Kunnat seutukunnat maakunnat'!C:C,'[1]Kunnat seutukunnat maakunnat'!F:F) -> Pohjois-Savo | C115: =_xlfn.XLOOKUP(A115,'[1]Kunnat seutukunnat maakunnat'!C:C,'[1]Kunnat seutukunnat maakunnat'!G:G) -> Kuopion seutukunta | D115: =_xlfn.XLOOKUP(A115,Väkiluku!A:A,Väkiluku!B:B) -> 124021 | E115: =_xlfn.XLOOKUP(A115,'[1]Pitopaikat Ruokavirasto'!A:A,'[1]Pitopaikat Ruokavirasto'!B:B) -> 222 | F115: 317 | G115: 409 | H115: 2 | I115: 250 | J115: 189 | K115: 165 | L115: =SUM(F115:K115) -> 1332 | M115: =L115/(D115/$N$1) -> 10.740117
A116: Kuortane | B116: =_xlfn.XLOOKUP(A116,'[1]Kunnat seutukunnat maakunnat'!C:C,'[1]Kunnat seutukunnat maakunnat'!F:F) -> Etelä-Pohjanmaa | C116: =_xlfn.XLOOKUP(A116,'[1]Kunnat seutukunnat maakunnat'!C:C,'[1]Kunnat seutukunnat maakunnat'!G:G) -> Kuusiokuntien seutukunta | D116: =_xlfn.XLOOKUP(A116,Väkiluku!A:A,Väkiluku!B:B) -> 3381 | E116: =_xlfn.XLOOKUP(A116,'[1]Pitopaikat Ruokavirasto'!A:A,'[1]Pitopaikat Ruokavirasto'!B:B) -> 20 | F116: 27 | G116: 44 | H116: 0 | I116: 15 | J116: 18 | K116: 13 | L116: =SUM(F116:K116) -> 117 | M116: =L116/(D116/$N$1) -> 34.605146
A117: Kurikka | B117: =_xlfn.XLOOKUP(A117,'[1]Kunnat seutukunnat maakunnat'!C:C,'[1]Kunnat seutukunnat maakunnat'!F:F) -> Etelä-Pohjanmaa | C117: =_xlfn.XLOOKUP(A117,'[1]Kunnat seutukunnat maakunnat'!C:C,'[1]Kunnat seutukunnat maakunnat'!G:G) -> Seinäjoen seutukunta | D117: =_xlfn.XLOOKUP(A117,Väkiluku!A:A,Väkiluku!B:B) -> 19759 | E117: =_xlfn.XLOOKUP(A117,'[1]Pitopaikat Ruokavirasto'!A:A,'[1]Pitopaikat Ruokavirasto'!B:B) -> 123 | F117: 123 | G117: 203 | H117: 4 | I117: 64 | J117: 54 | K117: 46 | L117: =SUM(F117:K117) -> 494 | M117: =L117/(D117/$N$1) -> 25.001265
A118: Kustavi | B118: =_xlfn.XLOOKUP(A118,'[1]Kunnat seutukunnat maakunnat'!C:C,'[1]Kunnat seutukunnat maakunnat'!F:F) -> Varsinais-Suomi | C118: =_xlfn.XLOOKUP(A118,'[1]Kunnat seutukunnat maakunnat'!C:C,'[1]Kunnat seutukunnat maakunnat'!G:G) -> Vakka-Suomen seutukunta | D118: =_xlfn.XLOOKUP(A118,Väkiluku!A:A,Väkiluku!B:B) -> 949 | E118: 3* | F118: 0 | G118: 7 | H118: 0 | I118: 0 | J118: 5 | K118: 3 | L118: =SUM(F118:K118) -> 15 | M118: =L118/(D118/$N$1) -> 15.806112
A119: Kuusamo | B119: =_xlfn.XLOOKUP(A119,'[1]Kunnat seutukunnat maakunnat'!C:C,'[1]Kunnat seutukunnat maakunnat'!F:F) -> Pohjois-Pohjanmaa | C119: =_xlfn.XLOOKUP(A119,'[1]Kunnat seutukunnat maakunnat'!C:C,'[1]Kunnat seutukunnat maakunnat'!G:G) -> Koillismaan seutukunta | D119: =_xlfn.XLOOKUP(A119,Väkiluku!A:A,Väkiluku!B:B) -> 15019 | E119: =_xlfn.XLOOKUP(A119,'[1]Pitopaikat Ruokavirasto'!A:A,'[1]Pitopaikat Ruokavirasto'!B:B) -> 36 | F119: 25 | G119: 42 | H119: 0 | I119: 16 | J119: 29 | K119: 14 | L119: =SUM(F119:K119) -> 126 | M119: =L119/(D119/$N$1) -> 8.3893735
A120: Kyyjärvi | B120: =_xlfn.XLOOKUP(A120,'[1]Kunnat seutukunnat maakunnat'!C:C,'[1]Kunnat seutukunnat maakunnat'!F:F) -> Keski-Suomi | C120: =_xlfn.XLOOKUP(A120,'[1]Kunnat seutukunnat maakunnat'!C:C,'[1]Kunnat seutukunnat maakunnat'!G:G) -> Saarijärven–Viitasaaren seutukunta | D120: =_xlfn.XLOOKUP(A120,Väkiluku!A:A,Väkiluku!B:B) -> 1174 | E120: =_xlfn.XLOOKUP(A120,'[1]Pitopaikat Ruokavirasto'!A:A,'[1]Pitopaikat Ruokavirasto'!B:B) -> 6 | F120: 3 | G120: 7 | H120: 0 | I120: 2 | J120: 0 | K120: 3 | L120: =SUM(F120:K120) -> 15 | M120: =L120/(D120/$N$1) -> 12.776831
A121: Kärkölä | B121: =_xlfn.XLOOKUP(A121,'[1]Kunnat seutukunnat maakunnat'!C:C,'[1]Kunnat seutukunnat maakunnat'!F:F) -> Päijät-Häme | C121: =_xlfn.XLOOKUP(A121,'[1]Kunnat seutukunnat maakunnat'!C:C,'[1]Kunnat seutukunnat maakunnat'!G:G) -> Lahden seutukunta | D121: =_xlfn.XLOOKUP(A121,Väkiluku!A:A,Väkiluku!B:B) -> 4114 | E121: =_xlfn.XLOOKUP(A121,'[1]Pitopaikat Ruokavirasto'!A:A,'[1]Pitopaikat Ruokavirasto'!B:B) -> 35 | F121: 39 | G121: 61 | H121: 0 | I121: 16 | J121: 68 | K121: 17 | L121: =SUM(F121:K121) -> 201 | M121: =L121/(D121/$N$1) -> 48.85756
A122: Kärsämäki | B122: =_xlfn.XLOOKUP(A122,'[1]Kunnat seutukunnat maakunnat'!C:C,'[1]Kunnat seutukunnat maakunnat'!F:F) -> Pohjois-Pohjanmaa | C122: =_xlfn.XLOOKUP(A122,'[1]Kunnat seutukunnat maakunnat'!C:C,'[1]Kunnat seutukunnat maakunnat'!G:G) -> Nivala–Haapajärven seutukunta | D122: =_xlfn.XLOOKUP(A122,Väkiluku!A:A,Väkiluku!B:B) -> 2440 | E122: =_xlfn.XLOOKUP(A122,'[1]Pitopaikat Ruokavirasto'!A:A,'[1]Pitopaikat Ruokavirasto'!B:B) -> 8 | F122: 4 | G122: 5 | H122: 0 | I122: 3 | J122: 17 | K122: 4 | L122: =SUM(F122:K122) -> 33 | M122: =L122/(D122/$N$1) -> 13.52459
A123: Kökar | B123: =_xlfn.XLOOKUP(A123,'[1]Kunnat seutukunnat maakunnat'!C:C,'[1]Kunnat seutukunnat maakunnat'!F:F) -> Ahvenanmaa | C123: =_xlfn.XLOOKUP(A123,'[1]Kunnat seutukunnat maakunnat'!C:C,'[1]Kunnat seutukunnat maakunnat'!G:G) -> Ålands skärgård | D123: =_xlfn.XLOOKUP(A123,Väkiluku!A:A,Väkiluku!B:B) -> 225 | E123: 3* | F123: 0 | G123: 0 | H123: 0 | I123: 0 | J123: 0 | K123: 2 | L123: =SUM(F123:K123) -> 2 | M123: =L123/(D123/$N$1) -> 8.8888889
A124: Lahti | B124: =_xlfn.XLOOKUP(A124,'[1]Kunnat seutukunnat maakunnat'!C:C,'[1]Kunnat seutukunnat maakunnat'!F:F) -> Päijät-Häme | C124: =_xlfn.XLOOKUP(A124,'[1]Kunnat seutukunnat maakunnat'!C:C,'[1]Kunnat seutukunnat maakunnat'!G:G) -> Lahden seutukunta | D124: =_xlfn.XLOOKUP(A124,Väkiluku!A:A,Väkiluku!B:B) -> 120693 | E124: =_xlfn.XLOOKUP(A124,'[1]Pitopaikat Ruokavirasto'!A:A,'[1]Pitopaikat Ruokavirasto'!B:B) -> 64 | F124: 298 | G124: 213 | H124: 2 | I124: 183 | J124: 109 | K124: 71 | L124: =SUM(F124:K124) -> 876 | M124: =L124/(D124/$N$1) -> 7.2580846
A125: Laihia | B125: =_xlfn.XLOOKUP(A125,'[1]Kunnat seutukunnat maakunnat'!C:C,'[1]Kunnat seutukunnat maakunnat'!F:F) -> Pohjanmaa | C125: =_xlfn.XLOOKUP(A125,'[1]Kunnat seutukunnat maakunnat'!C:C,'[1]Kunnat seutukunnat maakunnat'!G:G) -> Vaasan seutukunta | D125: =_xlfn.XLOOKUP(A125,Väkiluku!A:A,Väkiluku!B:B) -> 7682 | E125: =_xlfn.XLOOKUP(A125,'[1]Pitopaikat Ruokavirasto'!A:A,'[1]Pitopaikat Ruokavirasto'!B:B) -> 27 | F125: 31 | G125: 54 | H125: 0 | I125: 10 | J125: 64 | K125: 8 | L125: =SUM(F125:K125) -> 167 | M125: =L125/(D125/$N$1) -> 21.73913
A126: Laitila | B126: =_xlfn.XLOOKUP(A126,'[1]Kunnat seutukunnat maakunnat'!C:C,'[1]Kunnat seutukunnat maakunnat'!F:F) -> Varsinais-Suomi | C126: =_xlfn.XLOOKUP(A126,'[1]Kunnat seutukunnat maakunnat'!C:C,'[1]Kunnat seutukunnat maakunnat'!G:G) -> Vakka-Suomen seutukunta | D126: =_xlfn.XLOOKUP(A126,Väkiluku!A:A,Väkiluku!B:B) -> 8441 | E126: =_xlfn.XLOOKUP(A126,'[1]Pitopaikat Ruokavirasto'!A:A,'[1]Pitopaikat Ruokavirasto'!B:B) -> 37 | F126: 34 | G126: 34 | H126: 0 | I126: 9 | J126: 26 | K126: 16 | L126: =SUM(F126:K126) -> 119 | M126: =L126/(D126/$N$1) -> 14.097856
A127: Lapinjärvi | B127: =_xlfn.XLOOKUP(A127,'[1]Kunnat seutukunnat maakunnat'!C:C,'[1]Kunnat seutukunnat maakunnat'!F:F) -> Uusimaa | C127: =_xlfn.XLOOKUP(A127,'[1]Kunnat seutukunnat maakunnat'!C:C,'[1]Kunnat seutukunnat maakunnat'!G:G) -> Loviisan seutukunta | D127: =_xlfn.XLOOKUP(A127,Väkiluku!A:A,Väkiluku!B:B) -> 2449 | E127: =_xlfn.XLOOKUP(A127,'[1]Pitopaikat Ruokavirasto'!A:A,'[1]Pitopaikat Ruokavirasto'!B:B) -> 27 | F127: 21 | G127: 14 | H127: 0 | I127: 8 | J127: 25 | K127: 6 | L127: =SUM(F127:K127) -> 74 | M127: =L127/(D127/$N$1) -> 30.216415
A128: Lapinlahti | B128: =_xlfn.XLOOKUP(A128,'[1]Kunnat seutukunnat maakunnat'!C:C,'[1]Kunnat seutukunnat maakunnat'!F:F) -> Pohjois-Savo | C128: =_xlfn.XLOOKUP(A128,'[1]Kunnat seutukunnat maakunnat'!C:C,'[1]Kunnat seutukunnat maakunnat'!G:G) -> Ylä-Savon seutukunta | D128: =_xlfn.XLOOKUP(A128,Väkiluku!A:A,Väkiluku!B:B) -> 8975 | E128: =_xlfn.XLOOKUP(A128,'[1]Pitopaikat Ruokavirasto'!A:A,'[1]Pitopaikat Ruokavirasto'!B:B) -> 66 | F128: 81 | G128: 78 | H128: 2 | I128: 22 | J128: 52 | K128: 29 | L128: =SUM(F128:K128) -> 264 | M128: =L128/(D128/$N$1) -> 29.415042
A129: Lappajärvi | B129: =_xlfn.XLOOKUP(A129,'[1]Kunnat seutukunnat maakunnat'!C:C,'[1]Kunnat seutukunnat maakunnat'!F:F) -> Etelä-Pohjanmaa | C129: =_xlfn.XLOOKUP(A129,'[1]Kunnat seutukunnat maakunnat'!C:C,'[1]Kunnat seutukunnat maakunnat'!G:G) -> Järviseudun seutukunta | D129: =_xlfn.XLOOKUP(A129,Väkiluku!A:A,Väkiluku!B:B) -> 2789 | E129: =_xlfn.XLOOKUP(A129,'[1]Pitopaikat Ruokavirasto'!A:A,'[1]Pitopaikat Ruokavirasto'!B:B) -> 15 | F129: 17 | G129: 24 | H129: 0 | I129: 2 | J129: 10 | K129: 5 | L129: =SUM(F129:K129) -> 58 | M129: =L129/(D129/$N$1) -> 20.795984
A130: Lappeenranta | B130: =_xlfn.XLOOKUP(A130,'[1]Kunnat seutukunnat maakunnat'!C:C,'[1]Kunnat seutukunnat maakunnat'!F:F) -> Etelä-Karjala | C130: =_xlfn.XLOOKUP(A130,'[1]Kunnat seutukunnat maakunnat'!C:C,'[1]Kunnat seutukunnat maakunnat'!G:G) -> Lappeenrannan seutukunta | D130: =_xlfn.XLOOKUP(A130,Väkiluku!A:A,Väkiluku!B:B) -> 72988 | E130: =_xlfn.XLOOKUP(A130,'[1]Pitopaikat Ruokavirasto'!A:A,'[1]Pitopaikat Ruokavirasto'!B:B) -> 129 | F130: 120 | G130: 209 | H130: 3 | I130: 139 | J130: 145 | K130: 95 | L130: =SUM(F130:K130) -> 711 | M130: =L130/(D130/$N$1) -> 9.7413273
A131: Lapua | B131: =_xlfn.XLOOKUP(A131,'[1]Kunnat seutukunnat maakunnat'!C:C,'[1]Kunnat seutukunnat maakunnat'!F:F) -> Etelä-Pohjanmaa | C131: =_xlfn.XLOOKUP(A131,'[1]Kunnat seutukunnat maakunnat'!C:C,'[1]Kunnat seutukunnat maakunnat'!G:G) -> Seinäjoen seutukunta | D131: =_xlfn.XLOOKUP(A131,Väkiluku!A:A,Väkiluku!B:B) -> 14024 | E131: =_xlfn.XLOOKUP(A131,'[1]Pitopaikat Ruokavirasto'!A:A,'[1]Pitopaikat Ruokavirasto'!B:B) -> 62 | F131: 90 | G131: 84 | H131: 0 | I131: 28 | J131: 54 | K131: 21 | L131: =SUM(F131:K131) -> 277 | M131: =L131/(D131/$N$1) -> 19.751854
A132: Laukaa | B132: =_xlfn.XLOOKUP(A132,'[1]Kunnat seutukunnat maakunnat'!C:C,'[1]Kunnat seutukunnat maakunnat'!F:F) -> Keski-Suomi | C132: =_xlfn.XLOOKUP(A132,'[1]Kunnat seutukunnat maakunnat'!C:C,'[1]Kunnat seutukunnat maakunnat'!G:G) -> Jyväskylän seutukunta | D132: =_xlfn.XLOOKUP(A132,Väkiluku!A:A,Väkiluku!B:B) -> 18762 | E132: =_xlfn.XLOOKUP(A132,'[1]Pitopaikat Ruokavirasto'!A:A,'[1]Pitopaikat Ruokavirasto'!B:B) -> 105 | F132: 154 | G132: 143 | H132: 0 | I132: 31 | J132: 91 | K132: 45 | L132: =SUM(F132:K132) -> 464 | M132: =L132/(D132/$N$1) -> 24.730839
A133: Lemi | B133: =_xlfn.XLOOKUP(A133,'[1]Kunnat seutukunnat maakunnat'!C:C,'[1]Kunnat seutukunnat maakunnat'!F:F) -> Etelä-Karjala | C133: =_xlfn.XLOOKUP(A133,'[1]Kunnat seutukunnat maakunnat'!C:C,'[1]Kunnat seutukunnat maakunnat'!G:G) -> Lappeenrannan seutukunta | D133: =_xlfn.XLOOKUP(A133,Väkiluku!A:A,Väkiluku!B:B) -> 2862 | E133: =_xlfn.XLOOKUP(A133,'[1]Pitopaikat Ruokavirasto'!A:A,'[1]Pitopaikat Ruokavirasto'!B:B) -> 25 | F133: 12 | G133: 20 | H133: 0 | I133: 7 | J133: 20 | K133: 4 | L133: =SUM(F133:K133) -> 63 | M133: =L133/(D133/$N$1) -> 22.012579
A134: Lemland | B134: =_xlfn.XLOOKUP(A134,'[1]Kunnat seutukunnat maakunnat'!C:C,'[1]Kunnat seutukunnat maakunnat'!F:F) -> Ahvenanmaa | C134: =_xlfn.XLOOKUP(A134,'[1]Kunnat seutukunnat maakunnat'!C:C,'[1]Kunnat seutukunnat maakunnat'!G:G) -> Ålands landsbygd | D134: =_xlfn.XLOOKUP(A134,Väkiluku!A:A,Väkiluku!B:B) -> 2127 | E134: =_xlfn.XLOOKUP(A134,'[1]Pitopaikat Ruokavirasto'!A:A,'[1]Pitopaikat Ruokavirasto'!B:B) -> 25 | F134: 12 | G134: 3 | H134: 0 | I134: 21 | J134: 24 | K134: 10 | L134: =SUM(F134:K134) -> 70 | M134: =L134/(D134/$N$1) -> 32.910202
A135: Lempäälä | B135: =_xlfn.XLOOKUP(A135,'[1]Kunnat seutukunnat maakunnat'!C:C,'[1]Kunnat seutukunnat maakunnat'!F:F) -> Pirkanmaa | C135: =_xlfn.XLOOKUP(A135,'[1]Kunnat seutukunnat maakunnat'!C:C,'[1]Kunnat seutukunnat maakunnat'!G:G) -> Tampereen seutukunta | D135: =_xlfn.XLOOKUP(A135,Väkiluku!A:A,Väkiluku!B:B) -> 24711 | E135: =_xlfn.XLOOKUP(A135,'[1]Pitopaikat Ruokavirasto'!A:A,'[1]Pitopaikat Ruokavirasto'!B:B) -> 48 | F135: 54 | G135: 82 | H135: 1 | I135: 138 | J135: 47 | K135: 57 | L135: =SUM(F135:K135) -> 379 | M135: =L135/(D135/$N$1) -> 15.337299
... A147: Lumijoki | B147: =_xlfn.XLOOKUP(A147,'[1]Kunnat seutukunnat maakunnat'!C:C,'[1]Kunnat seutukunnat maakunnat'!F:F) -> Pohjois-Pohjanmaa | C147: =_xlfn.XLOOKUP(A147,'[1]Kunnat seutukunnat maakunnat'!C:C,'[1]Kunnat seutukunnat maakunnat'!G:G) -> Oulun seutukunta | D147: =_xlfn.XLOOKUP(A147,Väkiluku!A:A,Väkiluku!B:B) -> 2033 | E147: =_xlfn.XLOOKUP(A147,'[1]Pitopaikat Ruokavirasto'!A:A,'[1]Pitopaikat Ruokavirasto'!B:B) -> 20 | F147: 14 | G147: 19 | H147: 0 | I147: 14 | J147: 6 | K147: 4 | L147: =SUM(F147:K147) -> 57 | M147: =L147/(D147/$N$1) -> 28.037383
A148: Lumparland | B148: =_xlfn.XLOOKUP(A148,'[1]Kunnat seutukunnat maakunnat'!C:C,'[1]Kunnat seutukunnat maakunnat'!F:F) -> Ahvenanmaa | C148: =_xlfn.XLOOKUP(A148,'[1]Kunnat seutukunnat maakunnat'!C:C,'[1]Kunnat seutukunnat maakunnat'!G:G) -> Ålands landsbygd | D148: =_xlfn.XLOOKUP(A148,Väkiluku!A:A,Väkiluku!B:B) -> 366 | E148: 3* | F148: 6 | G148: 0 | H148: 0 | I148: 2 | J148: 3 | K148: 2 | L148: =SUM(F148:K148) -> 13 | M148: =L148/(D148/$N$1) -> 35.519126
A149: Luoto | B149: =_xlfn.XLOOKUP(A149,'[1]Kunnat seutukunnat maakunnat'!C:C,'[1]Kunnat seutukunnat maakunnat'!F:F) -> Pohjanmaa | C149: =_xlfn.XLOOKUP(A149,'[1]Kunnat seutukunnat maakunnat'!C:C,'[1]Kunnat seutukunnat maakunnat'!G:G) -> Jakobstadsregionen | D149: =_xlfn.XLOOKUP(A149,Väkiluku!A:A,Väkiluku!B:B) -> 5843 | E149: 3* | F149: 3 | G149: 1 | H149: 0 | I149: 1 | J149: 4 | K149: 1 | L149: =SUM(F149:K149) -> 10 | M149: =L149/(D149/$N$1) -> 1.7114496
A150: Luumäki | B150: =_xlfn.XLOOKUP(A150,'[1]Kunnat seutukunnat maakunnat'!C:C,'[1]Kunnat seutukunnat maakunnat'!F:F) -> Etelä-Karjala | C150: =_xlfn.XLOOKUP(A150,'[1]Kunnat seutukunnat maakunnat'!C:C,'[1]Kunnat seutukunnat maakunnat'!G:G) -> Lappeenrannan seutukunta | D150: =_xlfn.XLOOKUP(A150,Väkiluku!A:A,Väkiluku!B:B) -> 4396 | E150: =_xlfn.XLOOKUP(A150,'[1]Pitopaikat Ruokavirasto'!A:A,'[1]Pitopaikat Ruokavirasto'!B:B) -> 22 | F150: 28 | G150: 31 | H150: 0 | I150: 2 | J150: 20 | K150: 8 | L150: =SUM(F150:K150) -> 89 | M150: =L150/(D150/$N$1) -> 20.245678
A151: Maalahti | B151: =_xlfn.XLOOKUP(A151,'[1]Kunnat seutukunnat maakunnat'!C:C,'[1]Kunnat seutukunnat maakunnat'!F:F) -> Pohjanmaa | C151: =_xlfn.XLOOKUP(A151,'[1]Kunnat seutukunnat maakunnat'!C:C,'[1]Kunnat seutukunnat maakunnat'!G:G) -> Vaasan seutukunta | D151: =_xlfn.XLOOKUP(A151,Väkiluku!A:A,Väkiluku!B:B) -> 5456 | E151: =_xlfn.XLOOKUP(A151,'[1]Pitopaikat Ruokavirasto'!A:A,'[1]Pitopaikat Ruokavirasto'!B:B) -> 17 | F151: 4 | G151: 12 | H151: 1 | I151: 15 | J151: 15 | K151: 7 | L151: =SUM(F151:K151) -> 54 | M151: =L151/(D151/$N$1) -> 9.8973607
A152: Maarianhamina | B152: =_xlfn.XLOOKUP(A152,'[1]Kunnat seutukunnat maakunnat'!C:C,'[1]Kunnat seutukunnat maakunnat'!F:F) -> Ahvenanmaa | C152: =_xlfn.XLOOKUP(A152,'[1]Kunnat seutukunnat maakunnat'!C:C,'[1]Kunnat seutukunnat maakunnat'!G:G) -> Mariehamns stad | D152: =_xlfn.XLOOKUP(A152,Väkiluku!A:A,Väkiluku!B:B) -> 11812 | E152: 3* | F152: 7 | G152: 3 | H152: 0 | I152: 40 | J152: 25 | K152: 39 | L152: =SUM(F152:K152) -> 114 | M152: =L152/(D152/$N$1) -> 9.6512022
A153: Marttila | B153: =_xlfn.XLOOKUP(A153,'[1]Kunnat seutukunnat maakunnat'!C:C,'[1]Kunnat seutukunnat maakunnat'!F:F) -> Varsinais-Suomi | C153: =_xlfn.XLOOKUP(A153,'[1]Kunnat seutukunnat maakunnat'!C:C,'[1]Kunnat seutukunnat maakunnat'!G:G) -> Loimaan seutukunta | D153: =_xlfn.XLOOKUP(A153,Väkiluku!A:A,Väkiluku!B:B) -> 1930 | E153: =_xlfn.XLOOKUP(A153,'[1]Pitopaikat Ruokavirasto'!A:A,'[1]Pitopaikat Ruokavirasto'!B:B) -> 18 | F153: 4 | G153: 86 | H153: 0 | I153: 11 | J153: 19 | K153: 9 | L153: =SUM(F153:K153) -> 129 | M153: =L153/(D153/$N$1) -> 66.839378
A154: Masku | B154: =_xlfn.XLOOKUP(A154,'[1]Kunnat seutukunnat maakunnat'!C:C,'[1]Kunnat seutukunnat maakunnat'!F:F) -> Varsinais-Suomi | C154: =_xlfn.XLOOKUP(A154,'[1]Kunnat seutukunnat maakunnat'!C:C,'[1]Kunnat seutukunnat maakunnat'!G:G) -> Turun seutukunta | D154: =_xlfn.XLOOKUP(A154,Väkiluku!A:A,Väkiluku!B:B) -> 9619 | E154: =_xlfn.XLOOKUP(A154,'[1]Pitopaikat Ruokavirasto'!A:A,'[1]Pitopaikat Ruokavirasto'!B:B) -> 30 | F154: 21 | G154: 29 | H154: 1 | I154: 32 | J154: 36 | K154: 19 | L154: =SUM(F154:K154) -> 138 | M154: =L154/(D154/$N$1) -> 14.346606
A155: Merijärvi | B155: =_xlfn.XLOOKUP(A155,'[1]Kunnat seutukunnat maakunnat'!C:C,'[1]Kunnat seutukunnat maakunnat'!F:F) -> Pohjois-Pohjanmaa | C155: =_xlfn.XLOOKUP(A155,'[1]Kunnat seutukunnat maakunnat'!C:C,'[1]Kunnat seutukunnat maakunnat'!G:G) -> Ylivieskan seutukunta | D155: =_xlfn.XLOOKUP(A155,Väkiluku!A:A,Väkiluku!B:B) -> 1055 | E155: =_xlfn.XLOOKUP(A155,'[1]Pitopaikat Ruokavirasto'!A:A,'[1]Pitopaikat Ruokavirasto'!B:B) -> 8 | F155: 4 | G155: 16 | H155: 0 | I155: 0 | J155: 9 | K155: 4 | L155: =SUM(F155:K155) -> 33 | M155: =L155/(D155/$N$1) -> 31.279621
...

Sheet Hevosia per 1000 asukasta suuru
A1: Kunta | B1: Maakunta | C1: Seutukunta | D1: Väkiluku | E1: Pitopaikat Ruokavirasto | F1: LV | G1: SH | H1: KV | I1: R | J1: P | K1: R_tai_P | L1: Hevosia | M1: Hevosia / 1000 asukasta | N1: 1000
A2: Ypäjä | B2: =_xlfn.XLOOKUP(A2,'[1]Kunnat seutukunnat maakunnat'!C:C,'[1]Kunnat seutukunnat maakunnat'!F:F) -> Kanta-Häme | C2: =_xlfn.XLOOKUP(A2,'[1]Kunnat seutukunnat maakunnat'!C:C,'[1]Kunnat seutukunnat maakunnat'!G:G) -> Forssan seutukunta | D2: =_xlfn.XLOOKUP(A2,Väkiluku!A:A,Väkiluku!B:B) -> 2207 | E2: =_xlfn.XLOOKUP(A2,'[1]Pitopaikat Ruokavirasto'!A:A,'[1]Pitopaikat Ruokavirasto'!B:B) -> 76 | F2: 68 | G2: 150 | H2: 0 | I2: 184 | J2: 77 | K2: 24 | L2: =SUM(F2:K2) -> 503 | M2: =L2/(D2/$N$1) -> 227.91119
A3: Halsua | B3: =_xlfn.XLOOKUP(A3,'[1]Kunnat seutukunnat maakunnat'!C:C,'[1]Kunnat seutukunnat maakunnat'!F:F) -> Keski-Pohjanmaa | C3: =_xlfn.XLOOKUP(A3,'[1]Kunnat seutukunnat maakunnat'!C:C,'[1]Kunnat seutukunnat maakunnat'!G:G) -> Kaustisen seutukunta | D3: =_xlfn.XLOOKUP(A3,Väkiluku!A:A,Väkiluku!B:B) -> 1013 | E3: =_xlfn.XLOOKUP(A3,'[1]Pitopaikat Ruokavirasto'!A:A,'[1]Pitopaikat Ruokavirasto'!B:B) -> 18 | F3: 44 | G3: 47 | H3: 1 | I3: 4 | J3: 7 | K3: 4 | L3: =SUM(F3:K3) -> 107 | M3: =L3/(D3/$N$1) -> 105.62685
A4: Karijoki | B4: =_xlfn.XLOOKUP(A4,'[1]Kunnat seutukunnat maakunnat'!C:C,'[1]Kunnat seutukunnat maakunnat'!F:F) -> Etelä-Pohjanmaa | C4: =_xlfn.XLOOKUP(A4,'[1]Kunnat seutukunnat maakunnat'!C:C,'[1]Kunnat seutukunnat maakunnat'!G:G) -> Suupohjan seutukunta | D4: =_xlfn.XLOOKUP(A4,Väkiluku!A:A,Väkiluku!B:B) -> 1188 | E4: =_xlfn.XLOOKUP(A4,'[1]Pitopaikat Ruokavirasto'!A:A,'[1]Pitopaikat Ruokavirasto'!B:B) -> 11 | F4: 28 | G4: 20 | H4: 0 | I4: 25 | J4: 11 | K4: 19 | L4: =SUM(F4:K4) -> 103 | M4: =L4/(D4/$N$1) -> 86.700337
A5: Hankasalmi | B5: =_xlfn.XLOOKUP(A5,'[1]Kunnat seutukunnat maakunnat'!C:C,'[1]Kunnat seutukunnat maakunnat'!F:F) -> Keski-Suomi | C5: =_xlfn.XLOOKUP(A5,'[1]Kunnat seutukunnat maakunnat'!C:C,'[1]Kunnat seutukunnat maakunnat'!G:G) -> Jyväskylän seutukunta | D5: =_xlfn.XLOOKUP(A5,Väkiluku!A:A,Väkiluku!B:B) -> 4549 | E5: =_xlfn.XLOOKUP(A5,'[1]Pitopaikat Ruokavirasto'!A:A,'[1]Pitopaikat Ruokavirasto'!B:B) -> 54 | F5: 102 | G5: 132 | H5: 1 | I5: 20 | J5: 64 | K5: 15 | L5: =SUM(F5:K5) -> 334 | M5: =L5/(D5/$N$1) -> 73.42273
A6: Marttila | B6: =_xlfn.XLOOKUP(A6,'[1]Kunnat seutukunnat maakunnat'!C:C,'[1]Kunnat seutukunnat maakunnat'!F:F) -> Varsinais-Suomi | C6: =_xlfn.XLOOKUP(A6,'[1]Kunnat seutukunnat maakunnat'!C:C,'[1]Kunnat seutukunnat maakunnat'!G:G) -> Loimaan seutukunta | D6: =_xlfn.XLOOKUP(A6,Väkiluku!A:A,Väkiluku!B:B) -> 1930 | E6: =_xlfn.XLOOKUP(A6,'[1]Pitopaikat Ruokavirasto'!A:A,'[1]Pitopaikat Ruokavirasto'!B:B) -> 18 | F6: 4 | G6: 86 | H6: 0 | I6: 11 | J6: 19 | K6: 9 | L6: =SUM(F6:K6) -> 129 | M6: =L6/(D6/$N$1) -> 66.839378
A7: Miehikkälä | B7: =_xlfn.XLOOKUP(A7,'[1]Kunnat seutukunnat maakunnat'!C:C,'[1]Kunnat seutukunnat maakunnat'!F:F) -> Kymenlaakso | C7: =_xlfn.XLOOKUP(A7,'[1]Kunnat seutukunnat maakunnat'!C:C,'[1]Kunnat seutukunnat maakunnat'!G:G) -> Kotka–Haminan seutukunta | D7: =_xlfn.XLOOKUP(A7,Väkiluku!A:A,Väkiluku!B:B) -> 1752 | E7: =_xlfn.XLOOKUP(A7,'[1]Pitopaikat Ruokavirasto'!A:A,'[1]Pitopaikat Ruokavirasto'!B:B) -> 19 | F7: 34 | G7: 27 | H7: 0 | I7: 11 | J7: 24 | K7: 6 | L7: =SUM(F7:K7) -> 102 | M7: =L7/(D7/$N$1) -> 58.219178
A8: Enonkoski | B8: =_xlfn.XLOOKUP(A8,'[1]Kunnat seutukunnat maakunnat'!C:C,'[1]Kunnat seutukunnat maakunnat'!F:F) -> Etelä-Savo | C8: =_xlfn.XLOOKUP(A8,'[1]Kunnat seutukunnat maakunnat'!C:C,'[1]Kunnat seutukunnat maakunnat'!G:G) -> Savonlinnan seutukunta | D8: =_xlfn.XLOOKUP(A8,Väkiluku!A:A,Väkiluku!B:B) -> 1320 | E8: =_xlfn.XLOOKUP(A8,'[1]Pitopaikat Ruokavirasto'!A:A,'[1]Pitopaikat Ruokavirasto'!B:B) -> 7 | F8: 13 | G8: 51 | H8: 0 | I8: 1 | J8: 8 | K8: 3 | L8: =SUM(F8:K8) -> 76 | M8: =L8/(D8/$N$1) -> 57.575758
A9: Virolahti | B9: =_xlfn.XLOOKUP(A9,'[1]Kunnat seutukunnat maakunnat'!C:C,'[1]Kunnat seutukunnat maakunnat'!F:F) -> Kymenlaakso | C9: =_xlfn.XLOOKUP(A9,'[1]Kunnat seutukunnat maakunnat'!C:C,'[1]Kunnat seutukunnat maakunnat'!G:G) -> Kotka–Haminan seutukunta | D9: =_xlfn.XLOOKUP(A9,Väkiluku!A:A,Väkiluku!B:B) -> 2927 | E9: =_xlfn.XLOOKUP(A9,'[1]Pitopaikat Ruokavirasto'!A:A,'[1]Pitopaikat Ruokavirasto'!B:B) -> 37 | F9: 8 | G9: 56 | H9: 0 | I9: 43 | J9: 39 | K9: 13 | L9: =SUM(F9:K9) -> 159 | M9: =L9/(D9/$N$1) -> 54.321831
A10: Kaustinen | B10: =_xlfn.XLOOKUP(A10,'[1]Kunnat seutukunnat maakunnat'!C:C,'[1]Kunnat seutukunnat maakunnat'!F:F) -> Keski-Pohjanmaa | C10: =_xlfn.XLOOKUP(A10,'[1]Kunnat seutukunnat maakunnat'!C:C,'[1]Kunnat seutukunnat maakunnat'!G:G) -> Kaustisen seutukunta | D10: =_xlfn.XLOOKUP(A10,Väkiluku!A:A,Väkiluku!B:B) -> 4137 | E10: =_xlfn.XLOOKUP(A10,'[1]Pitopaikat Ruokavirasto'!A:A,'[1]Pitopaikat Ruokavirasto'!B:B) -> 53 | F10: 102 | G10: 91 | H10: 0 | I10: 4 | J10: 17 | K10: 10 | L10: =SUM(F10:K10) -> 224 | M10: =L10/(D10/$N$1) -> 54.145516
A11: Siikajoki | B11: =_xlfn.XLOOKUP(A11,'[1]Kunnat seutukunnat maakunnat'!C:C,'[1]Kunnat seutukunnat maakunnat'!F:F) -> Pohjois-Pohjanmaa | C11: =_xlfn.XLOOKUP(A11,'[1]Kunnat seutukunnat maakunnat'!C:C,'[1]Kunnat seutukunnat maakunnat'!G:G) -> Raahen seutukunta | D11: =_xlfn.XLOOKUP(A11,Väkiluku!A:A,Väkiluku!B:B) -> 4837 | E11: =_xlfn.XLOOKUP(A11,'[1]Pitopaikat Ruokavirasto'!A:A,'[1]Pitopaikat Ruokavirasto'!B:B) -> 47 | F11: 47 | G11: 97 | H11: 1 | I11: 45 | J11: 31 | K11: 34 | L11: =SUM(F11:K11) -> 255 | M11: =L11/(D11/$N$1) -> 52.718627
A12: Luhanka | B12: =_xlfn.XLOOKUP(A12,'[1]Kunnat seutukunnat maakunnat'!C:C,'[1]Kunnat seutukunnat maakunnat'!F:F) -> Keski-Suomi | C12: =_xlfn.XLOOKUP(A12,'[1]Kunnat seutukunnat maakunnat'!C:C,'[1]Kunnat seutukunnat maakunnat'!G:G) -> Joutsan seutukunta | D12: =_xlfn.XLOOKUP(A12,Väkiluku!A:A,Väkiluku!B:B) -> 702 | E12: =_xlfn.XLOOKUP(A12,'[1]Pitopaikat Ruokavirasto'!A:A,'[1]Pitopaikat Ruokavirasto'!B:B) -> 12 | F12: 12 | G12: 12 | H12: 0 | I12: 3 | J12: 6 | K12: 3 | L12: =SUM(F12:K12) -> 36 | M12: =L12/(D12/$N$1) -> 51.282051
A13: Juupajoki | B13: =_xlfn.XLOOKUP(A13,'[1]Kunnat seutukunnat maakunnat'!C:C,'[1]Kunnat seutukunnat maakunnat'!F:F) -> Pirkanmaa | C13: =_xlfn.XLOOKUP(A13,'[1]Kunnat seutukunnat maakunnat'!C:C,'[1]Kunnat seutukunnat maakunnat'!G:G) -> Ylä-Pirkanmaan seutukunta | D13: =_xlfn.XLOOKUP(A13,Väkiluku!A:A,Väkiluku!B:B) -> 1708 | E13: =_xlfn.XLOOKUP(A13,'[1]Pitopaikat Ruokavirasto'!A:A,'[1]Pitopaikat Ruokavirasto'!B:B) -> 16 | F13: 10 | G13: 44 | H13: 0 | I13: 9 | J13: 10 | K13: 13 | L13: =SUM(F13:K13) -> 86 | M13: =L13/(D13/$N$1) -> 50.351288
... A49: Kauhava | B49: =_xlfn.XLOOKUP(A49,'[1]Kunnat seutukunnat maakunnat'!C:C,'[1]Kunnat seutukunnat maakunnat'!F:F) -> Etelä-Pohjanmaa | C49: =_xlfn.XLOOKUP(A49,'[1]Kunnat seutukunnat maakunnat'!C:C,'[1]Kunnat seutukunnat maakunnat'!G:G) -> Seinäjoen seutukunta | D49: =_xlfn.XLOOKUP(A49,Väkiluku!A:A,Väkiluku!B:B) -> 15165 | E49: =_xlfn.XLOOKUP(A49,'[1]Pitopaikat Ruokavirasto'!A:A,'[1]Pitopaikat Ruokavirasto'!B:B) -> 141 | F49: 169 | G49: 256 | H49: 2 | I49: 35 | J49: 54 | K49: 26 | L49: =SUM(F49:K49) -> 542 | M49: =L49/(D49/$N$1) -> 35.740191
A50: Lumparland | B50: =_xlfn.XLOOKUP(A50,'[1]Kunnat seutukunnat maakunnat'!C:C,'[1]Kunnat seutukunnat maakunnat'!F:F) -> Ahvenanmaa | C50: =_xlfn.XLOOKUP(A50,'[1]Kunnat seutukunnat maakunnat'!C:C,'[1]Kunnat seutukunnat maakunnat'!G:G) -> Ålands landsbygd | D50: =_xlfn.XLOOKUP(A50,Väkiluku!A:A,Väkiluku!B:B) -> 366 | E50: 3* | F50: 6 | G50: 0 | H50: 0 | I50: 2 | J50: 3 | K50: 2 | L50: =SUM(F50:K50) -> 13 | M50: =L50/(D50/$N$1) -> 35.519126
A51: Kuortane | B51: =_xlfn.XLOOKUP(A51,'[1]Kunnat seutukunnat maakunnat'!C:C,'[1]Kunnat seutukunnat maakunnat'!F:F) -> Etelä-Pohjanmaa | C51: =_xlfn.XLOOKUP(A51,'[1]Kunnat seutukunnat maakunnat'!C:C,'[1]Kunnat seutukunnat maakunnat'!G:G) -> Kuusiokuntien seutukunta | D51: =_xlfn.XLOOKUP(A51,Väkiluku!A:A,Väkiluku!B:B) -> 3381 | E51: =_xlfn.XLOOKUP(A51,'[1]Pitopaikat Ruokavirasto'!A:A,'[1]Pitopaikat Ruokavirasto'!B:B) -> 20 | F51: 27 | G51: 44 | H51: 0 | I51: 15 | J51: 18 | K51: 13 | L51: =SUM(F51:K51) -> 117 | M51: =L51/(D51/$N$1) -> 34.605146
A52: Pukkila | B52: =_xlfn.XLOOKUP(A52,'[1]Kunnat seutukunnat maakunnat'!C:C,'[1]Kunnat seutukunnat maakunnat'!F:F) -> Uusimaa | C52: =_xlfn.XLOOKUP(A52,'[1]Kunnat seutukunnat maakunnat'!C:C,'[1]Kunnat seutukunnat maakunnat'!G:G) -> Porvoon seutukunta | D52: =_xlfn.XLOOKUP(A52,Väkiluku!A:A,Väkiluku!B:B) -> 1781 | E52: =_xlfn.XLOOKUP(A52,'[1]Pitopaikat Ruokavirasto'!A:A,'[1]Pitopaikat Ruokavirasto'!B:B) -> 16 | F52: 11 | G52: 11 | H52: 0 | I52: 12 | J52: 25 | K52: 2 | L52: =SUM(F52:K52) -> 61 | M52: =L52/(D52/$N$1) -> 34.250421
A53: Virrat | B53: =_xlfn.XLOOKUP(A53,'[1]Kunnat seutukunnat maakunnat'!C:C,'[1]Kunnat seutukunnat maakunnat'!F:F) -> Pirkanmaa | C53: =_xlfn.XLOOKUP(A53,'[1]Kunnat seutukunnat maakunnat'!C:C,'[1]Kunnat seutukunnat maakunnat'!G:G) -> Ylä-Pirkanmaan seutukunta | D53: =_xlfn.XLOOKUP(A53,Väkiluku!A:A,Väkiluku!B:B) -> 6275 | E53: =_xlfn.XLOOKUP(A53,'[1]Pitopaikat Ruokavirasto'!A:A,'[1]Pitopaikat Ruokavirasto'!B:B) -> 46 | F53: 33 | G53: 104 | H53: 0 | I53: 27 | J53: 21 | K53: 29 | L53: =SUM(F53:K53) -> 214 | M53: =L53/(D53/$N$1) -> 34.103586
A54: Hammarland | B54: =_xlfn.XLOOKUP(A54,'[1]Kunnat seutukunnat maakunnat'!C:C,'[1]Kunnat seutukunnat maakunnat'!F:F) -> Ahvenanmaa | C54: =_xlfn.XLOOKUP(A54,'[1]Kunnat seutukunnat maakunnat'!C:C,'[1]Kunnat seutukunnat maakunnat'!G:G) -> Ålands landsbygd | D54: =_xlfn.XLOOKUP(A54,Väkiluku!A:A,Väkiluku!B:B) -> 1646 | E54: =_xlfn.XLOOKUP(A54,'[1]Pitopaikat Ruokavirasto'!A:A,'[1]Pitopaikat Ruokavirasto'!B:B) -> 26 | F54: 1 | G54: 1 | H54: 0 | I54: 14 | J54: 24 | K54: 15 | L54: =SUM(F54:K54) -> 55 | M54: =L54/(D54/$N$1) -> 33.414338
A55: Siuntio | B55: =_xlfn.XLOOKUP(A55,'[1]Kunnat seutukunnat maakunnat'!C:C,'[1]Kunnat seutukunnat maakunnat'!F:F) -> Uusimaa | C55: =_xlfn.XLOOKUP(A55,'[1]Kunnat seutukunnat maakunnat'!C:C,'[1]Kunnat seutukunnat maakunnat'!G:G) -> Helsingin seutukunta | D55: =_xlfn.XLOOKUP(A55,Väkiluku!A:A,Väkiluku!B:B) -> 6158 | E55: =_xlfn.XLOOKUP(A55,'[1]Pitopaikat Ruokavirasto'!A:A,'[1]Pitopaikat Ruokavirasto'!B:B) -> 45 | F55: 22 | G55: 37 | H55: 0 | I55: 95 | J55: 38 | K55: 13 | L55: =SUM(F55:K55) -> 205 | M55: =L55/(D55/$N$1) -> 33.290029
A56: Tervo | B56: =_xlfn.XLOOKUP(A56,'[1]Kunnat seutukunnat maakunnat'!C:C,'[1]Kunnat seutukunnat maakunnat'!F:F) -> Pohjois-Savo | C56: =_xlfn.XLOOKUP(A56,'[1]Kunnat seutukunnat maakunnat'!C:C,'[1]Kunnat seutukunnat maakunnat'!G:G) -> Sisä-Savon seutukunta | D56: =_xlfn.XLOOKUP(A56,Väkiluku!A:A,Väkiluku!B:B) -> 1412 | E56: =_xlfn.XLOOKUP(A56,'[1]Pitopaikat Ruokavirasto'!A:A,'[1]Pitopaikat Ruokavirasto'!B:B) -> 15 | F56: 3 | G56: 16 | H56: 0 | I56: 9 | J56: 8 | K56: 11 | L56: =SUM(F56:K56) -> 47 | M56: =L56/(D56/$N$1) -> 33.286119
A57: Kauhajoki | B57: =_xlfn.XLOOKUP(A57,'[1]Kunnat seutukunnat maakunnat'!C:C,'[1]Kunnat seutukunnat maakunnat'!F:F) -> Etelä-Pohjanmaa | C57: =_xlfn.XLOOKUP(A57,'[1]Kunnat seutukunnat maakunnat'!C:C,'[1]Kunnat seutukunnat maakunnat'!G:G) -> Suupohjan seutukunta | D57: =_xlfn.XLOOKUP(A57,Väkiluku!A:A,Väkiluku!B:B) -> 12618 | E57: =_xlfn.XLOOKUP(A57,'[1]Pitopaikat Ruokavirasto'!A:A,'[1]Pitopaikat Ruokavirasto'!B:B) -> 58 | F57: 47 | G57: 104 | H57: 0 | I57: 34 | J57: 214 | K57: 21 | L57: =SUM(F57:K57) -> 420 | M57: =L57/(D57/$N$1) -> 33.285782
A58: Paltamo | B58: =_xlfn.XLOOKUP(A58,'[1]Kunnat seutukunnat maakunnat'!C:C,'[1]Kunnat seutukunnat maakunnat'!F:F) -> Kainuu | C58: =_xlfn.XLOOKUP(A58,'[1]Kunnat seutukunnat maakunnat'!C:C,'[1]Kunnat seutukunnat maakunnat'!G:G) -> Kajaanin seutukunta | D58: =_xlfn.XLOOKUP(A58,Väkiluku!A:A,Väkiluku!B:B) -> 3037 | E58: =_xlfn.XLOOKUP(A58,'[1]Pitopaikat Ruokavirasto'!A:A,'[1]Pitopaikat Ruokavirasto'!B:B) -> 22 | F58: 41 | G58: 32 | H58: 0 | I58: 4 | J58: 17 | K58: 7 | L58: =SUM(F58:K58) -> 101 | M58: =L58/(D58/$N$1) -> 33.256503
A59: Hartola | B59: =_xlfn.XLOOKUP(A59,'[1]Kunnat seutukunnat maakunnat'!C:C,'[1]Kunnat seutukunnat maakunnat'!F:F) -> Päijät-Häme | C59: =_xlfn.XLOOKUP(A59,'[1]Kunnat seutukunnat maakunnat'!C:C,'[1]Kunnat seutukunnat maakunnat'!G:G) -> Lahden seutukunta | D59: =_xlfn.XLOOKUP(A59,Väkiluku!A:A,Väkiluku!B:B) -> 2531 | E59: =_xlfn.XLOOKUP(A59,'[1]Pitopaikat Ruokavirasto'!A:A,'[1]Pitopaikat Ruokavirasto'!B:B) -> 14 | F59: 21 | G59: 34 | H59: 0 | I59: 12 | J59: 11 | K59: 6 | L59: =SUM(F59:K59) -> 84 | M59: =L59/(D59/$N$1) -> 33.188463
A60: Lemland | B60: =_xlfn.XLOOKUP(A60,'[1]Kunnat seutukunnat maakunnat'!C:C,'[1]Kunnat seutukunnat maakunnat'!F:F) -> Ahvenanmaa | C60: =_xlfn.XLOOKUP(A60,'[1]Kunnat seutukunnat maakunnat'!C:C,'[1]Kunnat seutukunnat maakunnat'!G:G) -> Ålands landsbygd | D60: =_xlfn.XLOOKUP(A60,Väkiluku!A:A,Väkiluku!B:B) -> 2127 | E60: =_xlfn.XLOOKUP(A60,'[1]Pitopaikat Ruokavirasto'!A:A,'[1]Pitopaikat Ruokavirasto'!B:B) -> 25 | F60: 12 | G60: 3 | H60: 0 | I60: 21 | J60: 24 | K60: 10 | L60: =SUM(F60:K60) -> 70 | M60: =L60/(D60/$N$1) -> 32.910202
A61: Pöytyä | B61: =_xlfn.XLOOKUP(A61,'[1]Kunnat seutukunnat maakunnat'!C:C,'[1]Kunnat seutukunnat maakunnat'!F:F) -> Varsinais-Suomi | C61: =_xlfn.XLOOKUP(A61,'[1]Kunnat seutukunnat maakunnat'!C:C,'[1]Kunnat seutukunnat maakunnat'!G:G) -> Loimaan seutukunta | D61: =_xlfn.XLOOKUP(A61,Väkiluku!A:A,Väkiluku!B:B) -> 8130 | E61: =_xlfn.XLOOKUP(A61,'[1]Pitopaikat Ruokavirasto'!A:A,'[1]Pitopaikat Ruokavirasto'!B:B) -> 51 | F61: 60 | G61: 80 | H61: 0 | I61: 28 | J61: 59 | K61: 37 | L61: =SUM(F61:K61) -> 264 | M61: =L61/(D61/$N$1) -> 32.472325
A62: Parikkala | B62: =_xlfn.XLOOKUP(A62,'[1]Kunnat seutukunnat maakunnat'!C:C,'[1]Kunnat seutukunnat maakunnat'!F:F) -> Etelä-Karjala | C62: =_xlfn.XLOOKUP(A62,'[1]Kunnat seutukunnat maakunnat'!C:C,'[1]Kunnat seutukunnat maakunnat'!G:G) -> Imatran seutukunta | D62: =_xlfn.XLOOKUP(A62,Väkiluku!A:A,Väkiluku!B:B) -> 4366 | E62: =_xlfn.XLOOKUP(A62,'[1]Pitopaikat Ruokavirasto'!A:A,'[1]Pitopaikat Ruokavirasto'!B:B) -> 35 | F62: 22 | G62: 64 | H62: 3 | I62: 16 | J62: 20 | K62: 13 | L62: =SUM(F62:K62) -> 138 | M62: =L62/(D62/$N$1) -> 31.607879
A63: Geta | B63: =_xlfn.XLOOKUP(A63,'[1]Kunnat seutukunnat maakunnat'!C:C,'[1]Kunnat seutukunnat maakunnat'!F:F) -> Ahvenanmaa | C63: =_xlfn.XLOOKUP(A63,'[1]Kunnat seutukunnat maakunnat'!C:C,'[1]Kunnat seutukunnat maakunnat'!G:G) -> Ålands landsbygd | D63: =_xlfn.XLOOKUP(A63,Väkiluku!A:A,Väkiluku!B:B) -> 509 | E63: 3* | F63: 0 | G63: 0 | H63: 0 | I63: 0 | J63: 14 | K63: 2 | L63: =SUM(F63:K63) -> 16 | M63: =L63/(D63/$N$1) -> 31.434185
A64: Merijärvi | B64: =_xlfn.XLOOKUP(A64,'[1]Kunnat seutukunnat maakunnat'!C:C,'[1]Kunnat seutukunnat maakunnat'!F:F) -> Pohjois-Pohjanmaa | C64: =_xlfn.XLOOKUP(A64,'[1]Kunnat seutukunnat maakunnat'!C:C,'[1]Kunnat seutukunnat maakunnat'!G:G) -> Ylivieskan seutukunta | D64: =_xlfn.XLOOKUP(A64,Väkiluku!A:A,Väkiluku!B:B) -> 1055 | E64: =_xlfn.XLOOKUP(A64,'[1]Pitopaikat Ruokavirasto'!A:A,'[1]Pitopaikat Ruokavirasto'!B:B) -> 8 | F64: 4 | G64: 16 | H64: 0 | I64: 0 | J64: 9 | K64: 4 | L64: =SUM(F64:K64) -> 33 | M64: =L64/(D64/$N$1) -> 31.279621
A65: Saarijärvi | B65: =_xlfn.XLOOKUP(A65,'[1]Kunnat seutukunnat maakunnat'!C:C,'[1]Kunnat seutukunnat maakunnat'!F:F) -> Keski-Suomi | C65: =_xlfn.XLOOKUP(A65,'[1]Kunnat seutukunnat maakunnat'!C:C,'[1]Kunnat seutukunnat maakunnat'!G:G) -> Saarijärven–Viitasaaren seutukunta | D65: =_xlfn.XLOOKUP(A65,Väkiluku!A:A,Väkiluku!B:B) -> 8847 | E65: =_xlfn.XLOOKUP(A65,'[1]Pitopaikat Ruokavirasto'!A:A,'[1]Pitopaikat Ruokavirasto'!B:B) -> 62 | F65: 81 | G65: 93 | H65: 0 | I65: 28 | J65: 45 | K65: 29 | L65: =SUM(F65:K65) -> 276 | M65: =L65/(D65/$N$1) -> 31.197016
A66: Sastamala | B66: =_xlfn.XLOOKUP(A66,'[1]Kunnat seutukunnat maakunnat'!C:C,'[1]Kunnat seutukunnat maakunnat'!F:F) -> Pirkanmaa | C66: =_xlfn.XLOOKUP(A66,'[1]Kunnat seutukunnat maakunnat'!C:C,'[1]Kunnat seutukunnat maakunnat'!G:G) -> Lounais-Pirkanmaan seutukunta | D66: =_xlfn.XLOOKUP(A66,Väkiluku!A:A,Väkiluku!B:B) -> 23515 | E66: =_xlfn.XLOOKUP(A66,'[1]Pitopaikat Ruokavirasto'!A:A,'[1]Pitopaikat Ruokavirasto'!B:B) -> 123 | F66: 142 | G66: 268 | H66: 0 | I66: 84 | J66: 157 | K66: 78 | L66: =SUM(F66:K66) -> 729 | M66: =L66/(D66/$N$1) -> 31.001488
A67: Uusikaarlepyy | B67: =_xlfn.XLOOKUP(A67,'[1]Kunnat seutukunnat maakunnat'!C:C,'[1]Kunnat seutukunnat maakunnat'!F:F) -> Pohjanmaa | C67: =_xlfn.XLOOKUP(A67,'[1]Kunnat seutukunnat maakunnat'!C:C,'[1]Kunnat seutukunnat maakunnat'!G:G) -> Jakobstadsregionen | D67: =_xlfn.XLOOKUP(A67,Väkiluku!A:A,Väkiluku!B:B) -> 7500 | E67: =_xlfn.XLOOKUP(A67,'[1]Pitopaikat Ruokavirasto'!A:A,'[1]Pitopaikat Ruokavirasto'!B:B) -> 39 | F67: 46 | G67: 27 | H67: 1 | I67: 65 | J67: 69 | K67: 24 | L67: =SUM(F67:K67) -> 232 | M67: =L67/(D67/$N$1) -> 30.933333
A68: Myrskylä | B68: =_xlfn.XLOOKUP(A68,'[1]Kunnat seutukunnat maakunnat'!C:C,'[1]Kunnat seutukunnat maakunnat'!F:F) -> Uusimaa | C68: =_xlfn.XLOOKUP(A68,'[1]Kunnat seutukunnat maakunnat'!C:C,'[1]Kunnat seutukunnat maakunnat'!G:G) -> Porvoon seutukunta | D68: =_xlfn.XLOOKUP(A68,Väkiluku!A:A,Väkiluku!B:B) -> 1715 | E68: =_xlfn.XLOOKUP(A68,'[1]Pitopaikat Ruokavirasto'!A:A,'[1]Pitopaikat Ruokavirasto'!B:B) -> 20 | F68: 20 | G68: 20 | H68: 0 | I68: 3 | J68: 6 | K68: 4 | L68: =SUM(F68:K68) -> 53 | M68: =L68/(D68/$N$1) -> 30.90379
A69: Veteli | B69: =_xlfn.XLOOKUP(A69,'[1]Kunnat seutukunnat maakunnat'!C:C,'[1]Kunnat seutukunnat maakunnat'!F:F) -> Keski-Pohjanmaa | C69: =_xlfn.XLOOKUP(A69,'[1]Kunnat seutukunnat maakunnat'!C:C,'[1]Kunnat seutukunnat maakunnat'!G:G) -> Kaustisen seutukunta | D69: =_xlfn.XLOOKUP(A69,Väkiluku!A:A,Väkiluku!B:B) -> 2936 | E69: =_xlfn.XLOOKUP(A69,'[1]Pitopaikat Ruokavirasto'!A:A,'[1]Pitopaikat Ruokavirasto'!B:B) -> 26 | F69: 24 | G69: 29 | H69: 0 | I69: 11 | J69: 13 | K69: 13 | L69: =SUM(F69:K69) -> 90 | M69: =L69/(D69/$N$1) -> 30.653951
A70: Ruokolahti | B70: =_xlfn.XLOOKUP(A70,'[1]Kunnat seutukunnat maakunnat'!C:C,'[1]Kunnat seutukunnat maakunnat'!F:F) -> Etelä-Karjala | C70: =_xlfn.XLOOKUP(A70,'[1]Kunnat seutukunnat maakunnat'!C:C,'[1]Kunnat seutukunnat maakunnat'!G:G) -> Imatran seutukunta | D70: =_xlfn.XLOOKUP(A70,Väkiluku!A:A,Väkiluku!B:B) -> 4758 | E70: =_xlfn.XLOOKUP(A70,'[1]Pitopaikat Ruokavirasto'!A:A,'[1]Pitopaikat Ruokavirasto'!B:B) -> 34 | F70: 19 | G70: 48 | H70: 1 | I70: 33 | J70: 15 | K70: 28 | L70: =SUM(F70:K70) -> 144 | M70: =L70/(D70/$N$1) -> 30.264817
A71: Hämeenkyrö | B71: =_xlfn.XLOOKUP(A71,'[1]Kunnat seutukunnat maakunnat'!C:C,'[1]Kunnat seutukunnat maakunnat'!F:F) -> Pirkanmaa | C71: =_xlfn.XLOOKUP(A71,'[1]Kunnat seutukunnat maakunnat'!C:C,'[1]Kunnat seutukunnat maakunnat'!G:G) -> Tampereen seutukunta | D71: =_xlfn.XLOOKUP(A71,Väkiluku!A:A,Väkiluku!B:B) -> 10319 | E71: =_xlfn.XLOOKUP(A71,'[1]Pitopaikat Ruokavirasto'!A:A,'[1]Pitopaikat Ruokavirasto'!B:B) -> 83 | F71: 55 | G71: 114 | H71: 1 | I71: 52 | J71: 51 | K71: 39 | L71: =SUM(F71:K71) -> 312 | M71: =L71/(D71/$N$1) -> 30.235488
A72: Lapinjärvi | B72: =_xlfn.XLOOKUP(A72,'[1]Kunnat seutukunnat maakunnat'!C:C,'[1]Kunnat seutukunnat maakunnat'!F:F) -> Uusimaa | C72: =_xlfn.XLOOKUP(A72,'[1]Kunnat seutukunnat maakunnat'!C:C,'[1]Kunnat seutukunnat maakunnat'!G:G) -> Loviisan seutukunta | D72: =_xlfn.XLOOKUP(A72,Väkiluku!A:A,Väkiluku!B:B) -> 2449 | E72: =_xlfn.XLOOKUP(A72,'[1]Pitopaikat Ruokavirasto'!A:A,'[1]Pitopaikat Ruokavirasto'!B:B) -> 27 | F72: 21 | G72: 14 | H72: 0 | I72: 8 | J72: 25 | K72: 6 | L72: =SUM(F72:K72) -> 74 | M72: =L72/(D72/$N$1) -> 30.216415
A73: Kangasniemi | B73: =_xlfn.XLOOKUP(A73,'[1]Kunnat seutukunnat maakunnat'!C:C,'[1]Kunnat seutukunnat maakunnat'!F:F) -> Etelä-Savo | C73: =_xlfn.XLOOKUP(A73,'[1]Kunnat seutukunnat maakunnat'!C:C,'[1]Kunnat seutukunnat maakunnat'!G:G) -> Mikkelin seutukunta | D73: =_xlfn.XLOOKUP(A73,Väkiluku!A:A,Väkiluku!B:B) -> 5114 | E73: =_xlfn.XLOOKUP(A73,'[1]Pitopaikat Ruokavirasto'!A:A,'[1]Pitopaikat Ruokavirasto'!B:B) -> 40 | F73: 31 | G73: 76 | H73: 1 | I73: 3 | J73: 35 | K73: 7 | L73: =SUM(F73:K73) -> 153 | M73: =L73/(D73/$N$1) -> 29.917873
A74: Iitti | B74: =_xlfn.XLOOKUP(A74,'[1]Kunnat seutukunnat maakunnat'!C:C,'[1]Kunnat seutukunnat maakunnat'!F:F) -> Päijät-Häme | C74: =_xlfn.XLOOKUP(A74,'[1]Kunnat seutukunnat maakunnat'!C:C,'[1]Kunnat seutukunnat maakunnat'!G:G) -> Lahden seutukunta | D74: =_xlfn.XLOOKUP(A74,Väkiluku!A:A,Väkiluku!B:B) -> 6444 | E74: =_xlfn.XLOOKUP(A74,'[1]Pitopaikat Ruokavirasto'!A:A,'[1]Pitopaikat Ruokavirasto'!B:B) -> 43 | F74: 48 | G74: 75 | H74: 2 | I74: 15 | J74: 31 | K74: 21 | L74: =SUM(F74:K74) -> 192 | M74: =L74/(D74/$N$1) -> 29.795158
A75: Keuruu | B75: =_xlfn.XLOOKUP(A75,'[1]Kunnat seutukunnat maakunnat'!C:C,'[1]Kunnat seutukunnat maakunnat'!F:F) -> Keski-Suomi | C75: =_xlfn.XLOOKUP(A75,'[1]Kunnat seutukunnat maakunnat'!C:C,'[1]Kunnat seutukunnat maakunnat'!G:G) -> Keuruun seutukunta | D75: =_xlfn.XLOOKUP(A75,Väkiluku!A:A,Väkiluku!B:B) -> 9184 | E75: =_xlfn.XLOOKUP(A75,'[1]Pitopaikat Ruokavirasto'!A:A,'[1]Pitopaikat Ruokavirasto'!B:B) -> 33 | F75: 71 | G75: 147 | H75: 1 | I75: 16 | J75: 22 | K75: 16 | L75: =SUM(F75:K75) -> 273 | M75: =L75/(D75/$N$1) -> 29.72561
... A200: Hirvensalmi | B200: =_xlfn.XLOOKUP(A200,'[1]Kunnat seutukunnat maakunnat'!C:C,'[1]Kunnat seutukunnat maakunnat'!F:F) -> Etelä-Savo | C200: =_xlfn.XLOOKUP(A200,'[1]Kunnat seutukunnat maakunnat'!C:C,'[1]Kunnat seutukunnat maakunnat'!G:G) -> Mikkelin seutukunta | D200: =_xlfn.XLOOKUP(A200,Väkiluku!A:A,Väkiluku!B:B) -> 2062 | E200: =_xlfn.XLOOKUP(A200,'[1]Pitopaikat Ruokavirasto'!A:A,'[1]Pitopaikat Ruokavirasto'!B:B) -> 17 | F200: 2 | G200: 14 | H200: 0 | I200: 8 | J200: 7 | K200: 2 | L200: =SUM(F200:K200) -> 33 | M200: =L200/(D200/$N$1) -> 16.00388
A201: Korsnäs | B201: =_xlfn.XLOOKUP(A201,'[1]Kunnat seutukunnat maakunnat'!C:C,'[1]Kunnat seutukunnat maakunnat'!F:F) -> Pohjanmaa | C201: =_xlfn.XLOOKUP(A201,'[1]Kunnat seutukunnat maakunnat'!C:C,'[1]Kunnat seutukunnat maakunnat'!G:G) -> Vaasan seutukunta | D201: =_xlfn.XLOOKUP(A201,Väkiluku!A:A,Väkiluku!B:B) -> 2015 | E201: 3* | F201: 1 | G201: 2 | H201: 0 | I201: 8 | J201: 8 | K201: 13 | L201: =SUM(F201:K201) -> 32 | M201: =L201/(D201/$N$1) -> 15.880893
A202: Nurmijärvi | B202: =_xlfn.XLOOKUP(A202,'[1]Kunnat seutukunnat maakunnat'!C:C,'[1]Kunnat seutukunnat maakunnat'!F:F) -> Uusimaa | C202: =_xlfn.XLOOKUP(A202,'[1]Kunnat seutukunnat maakunnat'!C:C,'[1]Kunnat seutukunnat maakunnat'!G:G) -> Helsingin seutukunta | D202: =_xlfn.XLOOKUP(A202,Väkiluku!A:A,Väkiluku!B:B) -> 44785 | E202: =_xlfn.XLOOKUP(A202,'[1]Pitopaikat Ruokavirasto'!A:A,'[1]Pitopaikat Ruokavirasto'!B:B) -> 103 | F202: 130 | G202: 110 | H202: 0 | I202: 226 | J202: 164 | K202: 81 | L202: =SUM(F202:K202) -> 711 | M202: =L202/(D202/$N$1) -> 15.875851
A203: Keminmaa | B203: =_xlfn.XLOOKUP(A203,'[1]Kunnat seutukunnat maakunnat'!C:C,'[1]Kunnat seutukunnat maakunnat'!F:F) -> Lappi | C203: =_xlfn.XLOOKUP(A203,'[1]Kunnat seutukunnat maakunnat'!C:C,'[1]Kunnat seutukunnat maakunnat'!G:G) -> Kemi–Tornion seutukunta | D203: =_xlfn.XLOOKUP(A203,Väkiluku!A:A,Väkiluku!B:B) -> 7691 | E203: =_xlfn.XLOOKUP(A203,'[1]Pitopaikat Ruokavirasto'!A:A,'[1]Pitopaikat Ruokavirasto'!B:B) -> 17 | F203: 41 | G203: 22 | H203: 2 | I203: 19 | J203: 24 | K203: 14 | L203: =SUM(F203:K203) -> 122 | M203: =L203/(D203/$N$1) -> 15.862697
A204: Kustavi | B204: =_xlfn.XLOOKUP(A204,'[1]Kunnat seutukunnat maakunnat'!C:C,'[1]Kunnat seutukunnat maakunnat'!F:F) -> Varsinais-Suomi | C204: =_xlfn.XLOOKUP(A204,'[1]Kunnat seutukunnat maakunnat'!C:C,'[1]Kunnat seutukunnat maakunnat'!G:G) -> Vakka-Suomen seutukunta | D204: =_xlfn.XLOOKUP(A204,Väkiluku!A:A,Väkiluku!B:B) -> 949 | E204: 3* | F204: 0 | G204: 7 | H204: 0 | I204: 0 | J204: 5 | K204: 3 | L204: =SUM(F204:K204) -> 15 | M204: =L204/(D204/$N$1) -> 15.806112
A205: Outokumpu | B205: =_xlfn.XLOOKUP(A205,'[1]Kunnat seutukunnat maakunnat'!C:C,'[1]Kunnat seutukunnat maakunnat'!F:F) -> Pohjois-Karjala | C205: =_xlfn.XLOOKUP(A205,'[1]Kunnat seutukunnat maakunnat'!C:C,'[1]Kunnat seutukunnat maakunnat'!G:G) -> Joensuun seutukunta | D205: =_xlfn.XLOOKUP(A205,Väkiluku!A:A,Väkiluku!B:B) -> 6409 | E205: =_xlfn.XLOOKUP(A205,'[1]Pitopaikat Ruokavirasto'!A:A,'[1]Pitopaikat Ruokavirasto'!B:B) -> 24 | F205: 25 | G205: 17 | H205: 0 | I205: 9 | J205: 43 | K205: 7 | L205: =SUM(F205:K205) -> 101 | M205: =L205/(D205/$N$1) -> 15.759089
A206: Evijärvi | B206: =_xlfn.XLOOKUP(A206,'[1]Kunnat seutukunnat maakunnat'!C:C,'[1]Kunnat seutukunnat maakunnat'!F:F) -> Etelä-Pohjanmaa | C206: =_xlfn.XLOOKUP(A206,'[1]Kunnat seutukunnat maakunnat'!C:C,'[1]Kunnat seutukunnat maakunnat'!G:G) -> Järviseudun seutukunta | D206: =_xlfn.XLOOKUP(A206,Väkiluku!A:A,Väkiluku!B:B) -> 2292 | E206: =_xlfn.XLOOKUP(A206,'[1]Pitopaikat Ruokavirasto'!A:A,'[1]Pitopaikat Ruokavirasto'!B:B) -> 16 | F206: 6 | G206: 12 | H206: 0 | I206: 6 | J206: 8 | K206: 4 | L206: =SUM(F206:K206) -> 36 | M206: =L206/(D206/$N$1) -> 15.706806
A207: Pyhäranta | B207: =_xlfn.XLOOKUP(A207,'[1]Kunnat seutukunnat maakunnat'!C:C,'[1]Kunnat seutukunnat maakunnat'!F:F) -> Varsinais-Suomi | C207: =_xlfn.XLOOKUP(A207,'[1]Kunnat seutukunnat maakunnat'!C:C,'[1]Kunnat seutukunnat maakunnat'!G:G) -> Vakka-Suomen seutukunta | D207: =_xlfn.XLOOKUP(A207,Väkiluku!A:A,Väkiluku!B:B) -> 1930 | E207: =_xlfn.XLOOKUP(A207,'[1]Pitopaikat Ruokavirasto'!A:A,'[1]Pitopaikat Ruokavirasto'!B:B) -> 11 | F207: 8 | G207: 8 | H207: 0 | I207: 2 | J207: 10 | K207: 2 | L207: =SUM(F207:K207) -> 30 | M207: =L207/(D207/$N$1) -> 15.544041
A208: Kivijärvi | B208: =_xlfn.XLOOKUP(A208,'[1]Kunnat seutukunnat maakunnat'!C:C,'[1]Kunnat seutukunnat maakunnat'!F:F) -> Keski-Suomi | C208: =_xlfn.XLOOKUP(A208,'[1]Kunnat seutukunnat maakunnat'!C:C,'[1]Kunnat seutukunnat maakunnat'!G:G) -> Saarijärven–Viitasaaren seutukunta | D208: =_xlfn.XLOOKUP(A208,Väkiluku!A:A,Väkiluku!B:B) -> 1035 | E208: =_xlfn.XLOOKUP(A208,'[1]Pitopaikat Ruokavirasto'!A:A,'[1]Pitopaikat Ruokavirasto'!B:B) -> 7 | F208: 3 | G208: 11 | H208: 1 | I208: 0 | J208: 0 | K208: 1 | L208: =SUM(F208:K208) -> 16 | M208: =L208/(D208/$N$1) -> 15.458937
A209: Kihniö | B209: =_xlfn.XLOOKUP(A209,'[1]Kunnat seutukunnat maakunnat'!C:C,'[1]Kunnat seutukunnat maakunnat'!F:F) -> Pirkanmaa | C209: =_xlfn.XLOOKUP(A209,'[1]Kunnat seutukunnat maakunnat'!C:C,'[1]Kunnat seutukunnat maakunnat'!G:G) -> Luoteis-Pirkanmaan seutukunta | D209: =_xlfn.XLOOKUP(A209,Väkiluku!A:A,Väkiluku!B:B) -> 1749 | E209: =_xlfn.XLOOKUP(A209,'[1]Pitopaikat Ruokavirasto'!A:A,'[1]Pitopaikat Ruokavirasto'!B:B) -> 9 | F209: 6 | G209: 13 | H209: 0 | I209: 0 | J209: 6 | K209: 2 | L209: =SUM(F209:K209) -> 27 | M209: =L209/(D209/$N$1) -> 15.437393
A210: Ilomantsi | B210: =_xlfn.XLOOKUP(A210,'[1]Kunnat seutukunnat maakunnat'!C:C,'[1]Kunnat seutukunnat maakunnat'!F:F) -> Pohjois-Karjala | C210: =_xlfn.XLOOKUP(A210,'[1]Kunnat seutukunnat maakunnat'!C:C,'[1]Kunnat seutukunnat maakunnat'!G:G) -> Joensuun seutukunta | D210: =_xlfn.XLOOKUP(A210,Väkiluku!A:A,Väkiluku!B:B) -> 4406 | E210: =_xlfn.XLOOKUP(A210,'[1]Pitopaikat Ruokavirasto'!A:A,'[1]Pitopaikat Ruokavirasto'!B:B) -> 19 | F210: 19 | G210: 20 | H210: 0 | I210: 2 | J210: 13 | K210: 14 | L210: =SUM(F210:K210) -> 68 | M210: =L210/(D210/$N$1) -> 15.4335
A211: Valkeakoski | B211: =_xlfn.XLOOKUP(A211,'[1]Kunnat seutukunnat maakunnat'!C:C,'[1]Kunnat seutukunnat maakunnat'!F:F) -> Pirkanmaa | C211: =_xlfn.XLOOKUP(A211,'[1]Kunnat seutukunnat maakunnat'!C:C,'[1]Kunnat seutukunnat maakunnat'!G:G) -> Etelä-Pirkanmaan seutukunta | D211: =_xlfn.XLOOKUP(A211,Väkiluku!A:A,Väkiluku!B:B) -> 20694 | E211: =_xlfn.XLOOKUP(A211,'[1]Pitopaikat Ruokavirasto'!A:A,'[1]Pitopaikat Ruokavirasto'!B:B) -> 50 | F211: 29 | G211: 65 | H211: 0 | I211: 98 | J211: 74 | K211: 53 | L211: =SUM(F211:K211) -> 319 | M211: =L211/(D211/$N$1) -> 15.415096
A212: Pello | B212: =_xlfn.XLOOKUP(A212,'[1]Kunnat seutukunnat maakunnat'!C:C,'[1]Kunnat seutukunnat maakunnat'!F:F) -> Lappi | C212: =_xlfn.XLOOKUP(A212,'[1]Kunnat seutukunnat maakunnat'!C:C,'[1]Kunnat seutukunnat maakunnat'!G:G) -> Torniolaakson seutukunta | D212: =_xlfn.XLOOKUP(A212,Väkiluku!A:A,Väkiluku!B:B) -> 3253 | E212: =_xlfn.XLOOKUP(A212,'[1]Pitopaikat Ruokavirasto'!A:A,'[1]Pitopaikat Ruokavirasto'!B:B) -> 12 | F212: 12 | G212: 21 | H212: 0 | I212: 1 | J212: 8 | K212: 8 | L212: =SUM(F212:K212) -> 50 | M212: =L212/(D212/$N$1) -> 15.370427
A213: Lempäälä | B213: =_xlfn.XLOOKUP(A213,'[1]Kunnat seutukunnat maakunnat'!C:C,'[1]Kunnat seutukunnat maakunnat'!F:F) -> Pirkanmaa | C213: =_xlfn.XLOOKUP(A213,'[1]Kunnat seutukunnat maakunnat'!C:C,'[1]Kunnat seutukunnat maakunnat'!G:G) -> Tampereen seutukunta | D213: =_xlfn.XLOOKUP(A213,Väkiluku!A:A,Väkiluku!B:B) -> 24711 | E213: =_xlfn.XLOOKUP(A213,'[1]Pitopaikat Ruokavirasto'!A:A,'[1]Pitopaikat Ruokavirasto'!B:B) -> 48 | F213: 54 | G213: 82 | H213: 1 | I213: 138 | J213: 47 | K213: 57 | L213: =SUM(F213:K213) -> 379 | M213: =L213/(D213/$N$1) -> 15.337299
A214: Parkano | B214: =_xlfn.XLOOKUP(A214,'[1]Kunnat seutukunnat maakunnat'!C:C,'[1]Kunnat seutukunnat maakunnat'!F:F) -> Pirkanmaa | C214: =_xlfn.XLOOKUP(A214,'[1]Kunnat seutukunnat maakunnat'!C:C,'[1]Kunnat seutukunnat maakunnat'!G:G) -> Luoteis-Pirkanmaan seutukunta | D214: =_xlfn.XLOOKUP(A214,Väkiluku!A:A,Väkiluku!B:B) -> 6123 | E214: =_xlfn.XLOOKUP(A214,'[1]Pitopaikat Ruokavirasto'!A:A,'[1]Pitopaikat Ruokavirasto'!B:B) -> 27 | F214: 24 | G214: 25 | H214: 0 | I214: 10 | J214: 23 | K214: 11 | L214: =SUM(F214:K214) -> 93 | M214: =L214/(D214/$N$1) -> 15.188633
A215: Alajärvi | B215: =_xlfn.XLOOKUP(A215,'[1]Kunnat seutukunnat maakunnat'!C:C,'[1]Kunnat seutukunnat maakunnat'!F:F) -> Etelä-Pohjanmaa | C215: =_xlfn.XLOOKUP(A215,'[1]Kunnat seutukunnat maakunnat'!C:C,'[1]Kunnat seutukunnat maakunnat'!G:G) -> Järviseudun seutukunta | D215: =_xlfn.XLOOKUP(A215,Väkiluku!A:A,Väkiluku!B:B) -> 9113 | E215: =_xlfn.XLOOKUP(A215,'[1]Pitopaikat Ruokavirasto'!A:A,'[1]Pitopaikat Ruokavirasto'!B:B) -> 54 | F215: 7 | G215: 48 | H215: 1 | I215: 23 | J215: 32 | K215: 25 | L215: =SUM(F215:K215) -> 136 | M215: =L215/(D215/$N$1) -> 14.923735
A216: Eckerö | B216: =_xlfn.XLOOKUP(A216,'[1]Kunnat seutukunnat maakunnat'!C:C,'[1]Kunnat seutukunnat maakunnat'!F:F) -> Ahvenanmaa | C216: =_xlfn.XLOOKUP(A216,'[1]Kunnat seutukunnat maakunnat'!C:C,'[1]Kunnat seutukunnat maakunnat'!G:G) -> Ålands landsbygd | D216: =_xlfn.XLOOKUP(A216,Väkiluku!A:A,Väkiluku!B:B) -> 942 | E216: =_xlfn.XLOOKUP(A216,'[1]Pitopaikat Ruokavirasto'!A:A,'[1]Pitopaikat Ruokavirasto'!B:B) -> 5 | F216: 0 | G216: 2 | H216: 0 | I216: 6 | J216: 3 | K216: 3 | L216: =SUM(F216:K216) -> 14 | M216: =L216/(D216/$N$1) -> 14.861996
... A223: Ylitornio | B223: =_xlfn.XLOOKUP(A223,'[1]Kunnat seutukunnat maakunnat'!C:C,'[1]Kunnat seutukunnat maakunnat'!F:F) -> Lappi | C223: =_xlfn.XLOOKUP(A223,'[1]Kunnat seutukunnat maakunnat'!C:C,'[1]Kunnat seutukunnat maakunnat'!G:G) -> Torniolaakson seutukunta | D223: =_xlfn.XLOOKUP(A223,Väkiluku!A:A,Väkiluku!B:B) -> 3765 | E223: =_xlfn.XLOOKUP(A223,'[1]Pitopaikat Ruokavirasto'!A:A,'[1]Pitopaikat Ruokavirasto'!B:B) -> 15 | F223: 18 | G223: 10 | H223: 1 | I223: 15 | J223: 4 | K223: 4 | L223: =SUM(F223:K223) -> 52 | M223: =L223/(D223/$N$1) -> 13.811421
A224: Brändö | B224: =_xlfn.XLOOKUP(A224,'[1]Kunnat seutukunnat maakunnat'!C:C,'[1]Kunnat seutukunnat maakunnat'!F:F) -> Ahvenanmaa | C224: =_xlfn.XLOOKUP(A224,'[1]Kunnat seutukunnat maakunnat'!C:C,'[1]Kunnat seutukunnat maakunnat'!G:G) -> Ålands skärgård | D224: =_xlfn.XLOOKUP(A224,Väkiluku!A:A,Väkiluku!B:B) -> 436 | E224: 3* | F224: 0 | G224: 1 | H224: 0 | I224: 1 | J224: 4 | K224: 0 | L224: =SUM(F224:K224) -> 6 | M224: =L224/(D224/$N$1) -> 13.761468
A225: Äänekoski | B225: =_xlfn.XLOOKUP(A225,'[1]Kunnat seutukunnat maakunnat'!C:C,'[1]Kunnat seutukunnat maakunnat'!F:F) -> Keski-Suomi | C225: =_xlfn.XLOOKUP(A225,'[1]Kunnat seutukunnat maakunnat'!C:C,'[1]Kunnat seutukunnat maakunnat'!G:G) -> Äänekosken seutukunta | D225: =_xlfn.XLOOKUP(A225,Väkiluku!A:A,Väkiluku!B:B) -> 17971 | E225: =_xlfn.XLOOKUP(A225,'[1]Pitopaikat Ruokavirasto'!A:A,'[1]Pitopaikat Ruokavirasto'!B:B) -> 53 | F225: 57 | G225: 101 | H225: 0 | I225: 26 | J225: 30 | K225: 33 | L225: =SUM(F225:K225) -> 247 | M225: =L225/(D225/$N$1) -> 13.744366
A226: Ii | B226: =_xlfn.XLOOKUP(A226,'[1]Kunnat seutukunnat maakunnat'!C:C,'[1]Kunnat seutukunnat maakunnat'!F:F) -> Pohjois-Pohjanmaa | C226: =_xlfn.XLOOKUP(A226,'[1]Kunnat seutukunnat maakunnat'!C:C,'[1]Kunnat seutukunnat maakunnat'!G:G) -> Oulunkaaren seutukunta | D226: =_xlfn.XLOOKUP(A226,Väkiluku!A:A,Väkiluku!B:B) -> 9766 | E226: =_xlfn.XLOOKUP(A226,'[1]Pitopaikat Ruokavirasto'!A:A,'[1]Pitopaikat Ruokavirasto'!B:B) -> 27 | F226: 37 | G226: 31 | H226: 0 | I226: 28 | J226: 13 | K226: 24 | L226: =SUM(F226:K226) -> 133 | M226: =L226/(D226/$N$1) -> 13.618677
A227: Kärsämäki | B227: =_xlfn.XLOOKUP(A227,'[1]Kunnat seutukunnat maakunnat'!C:C,'[1]Kunnat seutukunnat maakunnat'!F:F) -> Pohjois-Pohjanmaa | C227: =_xlfn.XLOOKUP(A227,'[1]Kunnat seutukunnat maakunnat'!C:C,'[1]Kunnat seutukunnat maakunnat'!G:G) -> Nivala–Haapajärven seutukunta | D227: =_xlfn.XLOOKUP(A227,Väkiluku!A:A,Väkiluku!B:B) -> 2440 | E227: =_xlfn.XLOOKUP(A227,'[1]Pitopaikat Ruokavirasto'!A:A,'[1]Pitopaikat Ruokavirasto'!B:B) -> 8 | F227: 4 | G227: 5 | H227: 0 | I227: 3 | J227: 17 | K227: 4 | L227: =SUM(F227:K227) -> 33 | M227: =L227/(D227/$N$1) -> 13.52459
A228: Vaala | B228: =_xlfn.XLOOKUP(A228,'[1]Kunnat seutukunnat maakunnat'!C:C,'[1]Kunnat seutukunnat maakunnat'!F:F) -> Pohjois-Pohjanmaa | C228: =_xlfn.XLOOKUP(A228,'[1]Kunnat seutukunnat maakunnat'!C:C,'[1]Kunnat seutukunnat maakunnat'!G:G) -> Oulunkaaren seutukunta | D228: =_xlfn.XLOOKUP(A228,Väkiluku!A:A,Väkiluku!B:B) -> 2589 | E228: =_xlfn.XLOOKUP(A228,'[1]Pitopaikat Ruokavirasto'!A:A,'[1]Pitopaikat Ruokavirasto'!B:B) -> 9 | F228: 9 | G228: 9 | H228: 1 | I228: 2 | J228: 9 | K228: 5 | L228: =SUM(F228:K228) -> 35 | M228: =L228/(D228/$N$1) -> 13.518733
A229: Kemijärvi | B229: =_xlfn.XLOOKUP(A229,'[1]Kunnat seutukunnat maakunnat'!C:C,'[1]Kunnat seutukunnat maakunnat'!F:F) -> Lappi | C229: =_xlfn.XLOOKUP(A229,'[1]Kunnat seutukunnat maakunnat'!C:C,'[1]Kunnat seutukunnat maakunnat'!G:G) -> Itä-Lapin seutukunta | D229: =_xlfn.XLOOKUP(A229,Väkiluku!A:A,Väkiluku!B:B) -> 7030 | E229: =_xlfn.XLOOKUP(A229,'[1]Pitopaikat Ruokavirasto'!A:A,'[1]Pitopaikat Ruokavirasto'!B:B) -> 27 | F229: 34 | G229: 47 | H229: 0 | I229: 1 | J229: 4 | K229: 9 | L229: =SUM(F229:K229) -> 95 | M229: =L229/(D229/$N$1) -> 13.513514
A230: Pudasjärvi | B230: =_xlfn.XLOOKUP(A230,'[1]Kunnat seutukunnat maakunnat'!C:C,'[1]Kunnat seutukunnat maakunnat'!F:F) -> Pohjois-Pohjanmaa | C230: =_xlfn.XLOOKUP(A230,'[1]Kunnat seutukunnat maakunnat'!C:C,'[1]Kunnat seutukunnat maakunnat'!G:G) -> Oulunkaaren seutukunta | D230: =_xlfn.XLOOKUP(A230,Väkiluku!A:A,Väkiluku!B:B) -> 7479 | E230: =_xlfn.XLOOKUP(A230,'[1]Pitopaikat Ruokavirasto'!A:A,'[1]Pitopaikat Ruokavirasto'!B:B) -> 25 | F230: 36 | G230: 34 | H230: 0 | I230: 6 | J230: 14 | K230: 11 | L230: =SUM(F230:K230) -> 101 | M230: =L230/(D230/$N$1) -> 13.504479
A231: Hämeenlinna | B231: =_xlfn.XLOOKUP(A231,'[1]Kunnat seutukunnat maakunnat'!C:C,'[1]Kunnat seutukunnat maakunnat'!F:F) -> Kanta-Häme | C231: =_xlfn.XLOOKUP(A231,'[1]Kunnat seutukunnat maakunnat'!C:C,'[1]Kunnat seutukunnat maakunnat'!G:G) -> Hämeenlinnan seutukunta | D231: =_xlfn.XLOOKUP(A231,Väkiluku!A:A,Väkiluku!B:B) -> 68319 | E231: =_xlfn.XLOOKUP(A231,'[1]Pitopaikat Ruokavirasto'!A:A,'[1]Pitopaikat Ruokavirasto'!B:B) -> 120 | F231: 74 | G231: 308 | H231: 4 | I231: 253 | J231: 142 | K231: 131 | L231: =SUM(F231:K231) -> 912 | M231: =L231/(D231/$N$1) -> 13.349142
A232: Padasjoki | B232: =_xlfn.XLOOKUP(A232,'[1]Kunnat seutukunnat maakunnat'!C:C,'[1]Kunnat seutukunnat maakunnat'!F:F) -> Päijät-Häme | C232: =_xlfn.XLOOKUP(A232,'[1]Kunnat seutukunnat maakunnat'!C:C,'[1]Kunnat seutukunnat maakunnat'!G:G) -> Lahden seutukunta | D232: =_xlfn.XLOOKUP(A232,Väkiluku!A:A,Väkiluku!B:B) -> 2726 | E232: =_xlfn.XLOOKUP(A232,'[1]Pitopaikat Ruokavirasto'!A:A,'[1]Pitopaikat Ruokavirasto'!B:B) -> 11 | F232: 5 | G232: 13 | H232: 0 | I232: 7 | J232: 4 | K232: 7 | L232: =SUM(F232:K232) -> 36 | M232: =L232/(D232/$N$1) -> 13.206163
A233: Kyyjärvi | B233: =_xlfn.XLOOKUP(A233,'[1]Kunnat seutukunnat maakunnat'!C:C,'[1]Kunnat seutukunnat maakunnat'!F:F) -> Keski-Suomi | C233: =_xlfn.XLOOKUP(A233,'[1]Kunnat seutukunnat maakunnat'!C:C,'[1]Kunnat seutukunnat maakunnat'!G:G) -> Saarijärven–Viitasaaren seutukunta | D233: =_xlfn.XLOOKUP(A233,Väkiluku!A:A,Väkiluku!B:B) -> 1174 | E233: =_xlfn.XLOOKUP(A233,'[1]Pitopaikat Ruokavirasto'!A:A,'[1]Pitopaikat Ruokavirasto'!B:B) -> 6 | F233: 3 | G233: 7 | H233: 0 | I233: 2 | J233: 0 | K233: 3 | L233: =SUM(F233:K233) -> 15 | M233: =L233/(D233/$N$1) -> 12.776831
A234: Ylivieska | B234: =_xlfn.XLOOKUP(A234,'[1]Kunnat seutukunnat maakunnat'!C:C,'[1]Kunnat seutukunnat maakunnat'!F:F) -> Pohjois-Pohjanmaa | C234: =_xlfn.XLOOKUP(A234,'[1]Kunnat seutukunnat maakunnat'!C:C,'[1]Kunnat seutukunnat maakunnat'!G:G) -> Ylivieskan seutukunta | D234: =_xlfn.XLOOKUP(A234,Väkiluku!A:A,Väkiluku!B:B) -> 15369 | E234: =_xlfn.XLOOKUP(A234,'[1]Pitopaikat Ruokavirasto'!A:A,'[1]Pitopaikat Ruokavirasto'!B:B) -> 39 | F234: 61 | G234: 75 | H234: 1 | I234: 16 | J234: 35 | K234: 8 | L234: =SUM(F234:K234) -> 196 | M234: =L234/(D234/$N$1) -> 12.752944
A235: Kokkola | B235: =_xlfn.XLOOKUP(A235,'[1]Kunnat seutukunnat maakunnat'!C:C,'[1]Kunnat seutukunnat maakunnat'!F:F) -> Keski-Pohjanmaa | C235: =_xlfn.XLOOKUP(A235,'[1]Kunnat seutukunnat maakunnat'!C:C,'[1]Kunnat seutukunnat maakunnat'!G:G) -> Kokkolan seutukunta | D235: =_xlfn.XLOOKUP(A235,Väkiluku!A:A,Väkiluku!B:B) -> 48295 | E235: =_xlfn.XLOOKUP(A235,'[1]Pitopaikat Ruokavirasto'!A:A,'[1]Pitopaikat Ruokavirasto'!B:B) -> 115 | F235: 231 | G235: 120 | H235: 1 | I235: 84 | J235: 106 | K235: 68 | L235: =SUM(F235:K235) -> 610 | M235: =L235/(D235/$N$1) -> 12.630707
A236: Savonlinna | B236: =_xlfn.XLOOKUP(A236,'[1]Kunnat seutukunnat maakunnat'!C:C,'[1]Kunnat seutukunnat maakunnat'!F:F) -> Etelä-Savo | C236: =_xlfn.XLOOKUP(A236,'[1]Kunnat seutukunnat maakunnat'!C:C,'[1]Kunnat seutukunnat maakunnat'!G:G) -> Savonlinnan seutukunta | D236: =_xlfn.XLOOKUP(A236,Väkiluku!A:A,Väkiluku!B:B) -> 31843 | E236: =_xlfn.XLOOKUP(A236,'[1]Pitopaikat Ruokavirasto'!A:A,'[1]Pitopaikat Ruokavirasto'!B:B) -> 75 | F236: 57 | G236: 178 | H236: 2 | I236: 69 | J236: 56 | K236: 40 | L236: =SUM(F236:K236) -> 402 | M236: =L236/(D236/$N$1) -> 12.624439
... A241: Vimpeli | B241: =_xlfn.XLOOKUP(A241,'[1]Kunnat seutukunnat maakunnat'!C:C,'[1]Kunnat seutukunnat maakunnat'!F:F) -> Etelä-Pohjanmaa | C241: =_xlfn.XLOOKUP(A241,'[1]Kunnat seutukunnat maakunnat'!C:C,'[1]Kunnat seutukunnat maakunnat'!G:G) -> Järviseudun seutukunta | D241: =_xlfn.XLOOKUP(A241,Väkiluku!A:A,Väkiluku!B:B) -> 2656 | E241: =_xlfn.XLOOKUP(A241,'[1]Pitopaikat Ruokavirasto'!A:A,'[1]Pitopaikat Ruokavirasto'!B:B) -> 11 | F241: 15 | G241: 9 | H241: 0 | I241: 1 | J241: 3 | K241: 4 | L241: =SUM(F241:K241) -> 32 | M241: =L241/(D241/$N$1) -> 12.048193
A242: Föglö | B242: =_xlfn.XLOOKUP(A242,'[1]Kunnat seutukunnat maakunnat'!C:C,'[1]Kunnat seutukunnat maakunnat'!F:F) -> Ahvenanmaa | C242: =_xlfn.XLOOKUP(A242,'[1]Kunnat seutukunnat maakunnat'!C:C,'[1]Kunnat seutukunnat maakunnat'!G:G) -> Ålands skärgård | D242: =_xlfn.XLOOKUP(A242,Väkiluku!A:A,Väkiluku!B:B) -> 509 | E242: 3* | F242: 0 | G242: 0 | H242: 0 | I242: 0 | J242: 2 | K242: 4 | L242: =SUM(F242:K242) -> 6 | M242: =L242/(D242/$N$1) -> 11.787819
A243: Oulainen | B243: =_xlfn.XLOOKUP(A243,'[1]Kunnat seutukunnat maakunnat'!C:C,'[1]Kunnat seutukunnat maakunnat'!F:F) -> Pohjois-Pohjanmaa | C243: =_xlfn.XLOOKUP(A243,'[1]Kunnat seutukunnat maakunnat'!C:C,'[1]Kunnat seutukunnat maakunnat'!G:G) -> Ylivieskan seutukunta | D243: =_xlfn.XLOOKUP(A243,Väkiluku!A:A,Väkiluku!B:B) -> 6978 | E243: =_xlfn.XLOOKUP(A243,'[1]Pitopaikat Ruokavirasto'!A:A,'[1]Pitopaikat Ruokavirasto'!B:B) -> 21 | F243: 4 | G243: 47 | H243: 0 | I243: 9 | J243: 9 | K243: 13 | L243: =SUM(F243:K243) -> 82 | M243: =L243/(D243/$N$1) -> 11.751218
A244: Pyhäjoki | B244: =_xlfn.XLOOKUP(A244,'[1]Kunnat seutukunnat maakunnat'!C:C,'[1]Kunnat seutukunnat maakunnat'!F:F) -> Pohjois-Pohjanmaa | C244: =_xlfn.XLOOKUP(A244,'[1]Kunnat seutukunnat maakunnat'!C:C,'[1]Kunnat seutukunnat maakunnat'!G:G) -> Raahen seutukunta | D244: =_xlfn.XLOOKUP(A244,Väkiluku!A:A,Väkiluku!B:B) -> 2980 | E244: =_xlfn.XLOOKUP(A244,'[1]Pitopaikat Ruokavirasto'!A:A,'[1]Pitopaikat Ruokavirasto'!B:B) -> 16 | F244: 3 | G244: 11 | H244: 0 | I244: 4 | J244: 6 | K244: 11 | L244: =SUM(F244:K244) -> 35 | M244: =L244/(D244/$N$1) -> 11.744966
A245: Utajärvi | B245: =_xlfn.XLOOKUP(A245,'[1]Kunnat seutukunnat maakunnat'!C:C,'[1]Kunnat seutukunnat maakunnat'!F:F) -> Pohjois-Pohjanmaa | C245: =_xlfn.XLOOKUP(A245,'[1]Kunnat seutukunnat maakunnat'!C:C,'[1]Kunnat seutukunnat maakunnat'!G:G) -> Oulunkaaren seutukunta | D245: =_xlfn.XLOOKUP(A245,Väkiluku!A:A,Väkiluku!B:B) -> 2491 | E245: =_xlfn.XLOOKUP(A245,'[1]Pitopaikat Ruokavirasto'!A:A,'[1]Pitopaikat Ruokavirasto'!B:B) -> 8 | F245: 5 | G245: 11 | H245: 0 | I245: 1 | J245: 7 | K245: 5 | L245: =SUM(F245:K245) -> 29 | M245: =L245/(D245/$N$1) -> 11.641911
A246: Jomala | B246: =_xlfn.XLOOKUP(A246,'[1]Kunnat seutukunnat maakunnat'!C:C,'[1]Kunnat seutukunnat maakunnat'!F:F) -> Ahvenanmaa | C246: =_xlfn.XLOOKUP(A246,'[1]Kunnat seutukunnat maakunnat'!C:C,'[1]Kunnat seutukunnat maakunnat'!G:G) -> Ålands landsbygd | D246: =_xlfn.XLOOKUP(A246,Väkiluku!A:A,Väkiluku!B:B) -> 5697 | E246: =_xlfn.XLOOKUP(A246,'[1]Pitopaikat Ruokavirasto'!A:A,'[1]Pitopaikat Ruokavirasto'!B:B) -> 36 | F246: 3 | G246: 1 | H246: 0 | I246: 33 | J246: 20 | K246: 9 | L246: =SUM(F246:K246) -> 66 | M246: =L246/(D246/$N$1) -> 11.585045
A247: Pomarkku | B247: =_xlfn.XLOOKUP(A247,'[1]Kunnat seutukunnat maakunnat'!C:C,'[1]Kunnat seutukunnat maakunnat'!F:F) -> Satakunta | C247: =_xlfn.XLOOKUP(A247,'[1]Kunnat seutukunnat maakunnat'!C:C,'[1]Kunnat seutukunnat maakunnat'!G:G) -> Porin seutukunta | D247: =_xlfn.XLOOKUP(A247,Väkiluku!A:A,Väkiluku!B:B) -> 1943 | E247: =_xlfn.XLOOKUP(A247,'[1]Pitopaikat Ruokavirasto'!A:A,'[1]Pitopaikat Ruokavirasto'!B:B) -> 7 | F247: 5 | G247: 11 | H247: 0 | I247: 2 | J247: 4 | K247: 0 | L247: =SUM(F247:K247) -> 22 | M247: =L247/(D247/$N$1) -> 11.322697
A248: Rautavaara | B248: =_xlfn.XLOOKUP(A248,'[1]Kunnat seutukunnat maakunnat'!C:C,'[1]Kunnat seutukunnat maakunnat'!F:F) -> Pohjois-Savo | C248: =_xlfn.XLOOKUP(A248,'[1]Kunnat seutukunnat maakunnat'!C:C,'[1]Kunnat seutukunnat maakunnat'!G:G) -> Koillis-Savon seutukunta | D248: =_xlfn.XLOOKUP(A248,Väkiluku!A:A,Väkiluku!B:B) -> 1424 | E248: =_xlfn.XLOOKUP(A248,'[1]Pitopaikat Ruokavirasto'!A:A,'[1]Pitopaikat Ruokavirasto'!B:B) -> 5 | F248: 4 | G248: 7 | H248: 0 | I248: 0 | J248: 2 | K248: 3 | L248: =SUM(F248:K248) -> 16 | M248: =L248/(D248/$N$1) -> 11.235955
A249: Raahe | B249: =_xlfn.XLOOKUP(A249,'[1]Kunnat seutukunnat maakunnat'!C:C,'[1]Kunnat seutukunnat maakunnat'!F:F) -> Pohjois-Pohjanmaa | C249: =_xlfn.XLOOKUP(A249,'[1]Kunnat seutukunnat maakunnat'!C:C,'[1]Kunnat seutukunnat maakunnat'!G:G) -> Raahen seutukunta | D249: =_xlfn.XLOOKUP(A249,Väkiluku!A:A,Väkiluku!B:B) -> 23797 | E249: =_xlfn.XLOOKUP(A249,'[1]Pitopaikat Ruokavirasto'!A:A,'[1]Pitopaikat Ruokavirasto'!B:B) -> 55 | F249: 76 | G249: 95 | H249: 0 | I249: 19 | J249: 35 | K249: 36 | L249: =SUM(F249:K249) -> 261 | M249: =L249/(D249/$N$1) -> 10.967769
A250: Inari | B250: =_xlfn.XLOOKUP(A250,'[1]Kunnat seutukunnat maakunnat'!C:C,'[1]Kunnat seutukunnat maakunnat'!F:F) -> Lappi | C250: =_xlfn.XLOOKUP(A250,'[1]Kunnat seutukunnat maakunnat'!C:C,'[1]Kunnat seutukunnat maakunnat'!G:G) -> Pohjois-Lapin seutukunta | D250: =_xlfn.XLOOKUP(A250,Väkiluku!A:A,Väkiluku!B:B) -> 7127 | E250: =_xlfn.XLOOKUP(A250,'[1]Pitopaikat Ruokavirasto'!A:A,'[1]Pitopaikat Ruokavirasto'!B:B) -> 19 | F250: 21 | G250: 23 | H250: 0 | I250: 18 | J250: 6 | K250: 10 | L250: =SUM(F250:K250) -> 78 | M250: =L250/(D250/$N$1) -> 10.944296
A251: Varkaus | B251: =_xlfn.XLOOKUP(A251,'[1]Kunnat seutukunnat maakunnat'!C:C,'[1]Kunnat seutukunnat maakunnat'!F:F) -> Pohjois-Savo | C251: =_xlfn.XLOOKUP(A251,'[1]Kunnat seutukunnat maakunnat'!C:C,'[1]Kunnat seutukunnat maakunnat'!G:G) -> Varkauden seutukunta | D251: =_xlfn.XLOOKUP(A251,Väkiluku!A:A,Väkiluku!B:B) -> 19727 | E251: =_xlfn.XLOOKUP(A251,'[1]Pitopaikat Ruokavirasto'!A:A,'[1]Pitopaikat Ruokavirasto'!B:B) -> 27 | F251: 30 | G251: 73 | H251: 0 | I251: 34 | J251: 40 | K251: 38 | L251: =SUM(F251:K251) -> 215 | M251: =L251/(D251/$N$1) -> 10.898768
A252: Kuopio | B252: =_xlfn.XLOOKUP(A252,'[1]Kunnat seutukunnat maakunnat'!C:C,'[1]Kunnat seutukunnat maakunnat'!F:F) -> Pohjois-Savo | C252: =_xlfn.XLOOKUP(A252,'[1]Kunnat seutukunnat maakunnat'!C:C,'[1]Kunnat seutukunnat maakunnat'!G:G) -> Kuopion seutukunta | D252: =_xlfn.XLOOKUP(A252,Väkiluku!A:A,Väkiluku!B:B) -> 124021 | E252: =_xlfn.XLOOKUP(A252,'[1]Pitopaikat Ruokavirasto'!A:A,'[1]Pitopaikat Ruokavirasto'!B:B) -> 222 | F252: 317 | G252: 409 | H252: 2 | I252: 250 | J252: 189 | K252: 165 | L252: =SUM(F252:K252) -> 1332 | M252: =L252/(D252/$N$1) -> 10.740117
A253: Hyvinkää | B253: =_xlfn.XLOOKUP(A253,'[1]Kunnat seutukunnat maakunnat'!C:C,'[1]Kunnat seutukunnat maakunnat'!F:F) -> Uusimaa | C253: =_xlfn.XLOOKUP(A253,'[1]Kunnat seutukunnat maakunnat'!C:C,'[1]Kunnat seutukunnat maakunnat'!G:G) -> Helsingin seutukunta | D253: =_xlfn.XLOOKUP(A253,Väkiluku!A:A,Väkiluku!B:B) -> 46901 | E253: =_xlfn.XLOOKUP(A253,'[1]Pitopaikat Ruokavirasto'!A:A,'[1]Pitopaikat Ruokavirasto'!B:B) -> 48 | F253: 46 | G253: 90 | H253: 0 | I253: 171 | J253: 66 | K253: 111 | L253: =SUM(F253:K253) -> 484 | M253: =L253/(D253/$N$1) -> 10.319609
A254: Viitasaari | B254: =_xlfn.XLOOKUP(A254,'[1]Kunnat seutukunnat maakunnat'!C:C,'[1]Kunnat seutukunnat maakunnat'!F:F) -> Keski-Suomi | C254: =_xlfn.XLOOKUP(A254,'[1]Kunnat seutukunnat maakunnat'!C:C,'[1]Kunnat seutukunnat maakunnat'!G:G) -> Saarijärven–Viitasaaren seutukunta | D254: =_xlfn.XLOOKUP(A254,Väkiluku!A:A,Väkiluku!B:B) -> 5877 | E254: =_xlfn.XLOOKUP(A254,'[1]Pitopaikat Ruokavirasto'!A:A,'[1]Pitopaikat Ruokavirasto'!B:B) -> 25 | F254: 12 | G254: 29 | H254: 1 | I254: 3 | J254: 8 | K254: 7 | L254: =SUM(F254:K254) -> 60 | M254: =L254/(D254/$N$1) -> 10.20929
... A260: Kajaani | B260: =_xlfn.XLOOKUP(A260,'[1]Kunnat seutukunnat maakunnat'!C:C,'[1]Kunnat seutukunnat maakunnat'!F:F) -> Kainuu | C260: =_xlfn.XLOOKUP(A260,'[1]Kunnat seutukunnat maakunnat'!C:C,'[1]Kunnat seutukunnat maakunnat'!G:G) -> Kajaanin seutukunta | D260: =_xlfn.XLOOKUP(A260,Väkiluku!A:A,Väkiluku!B:B) -> 36513 | E260: =_xlfn.XLOOKUP(A260,'[1]Pitopaikat Ruokavirasto'!A:A,'[1]Pitopaikat Ruokavirasto'!B:B) -> 46 | F260: 113 | G260: 109 | H260: 1 | I260: 53 | J260: 43 | K260: 36 | L260: =SUM(F260:K260) -> 355 | M260: =L260/(D260/$N$1) -> 9.7225646
A261: Maarianhamina | B261: =_xlfn.XLOOKUP(A261,'[1]Kunnat seutukunnat maakunnat'!C:C,'[1]Kunnat seutukunnat maakunnat'!F:F) -> Ahvenanmaa | C261: =_xlfn.XLOOKUP(A261,'[1]Kunnat seutukunnat maakunnat'!C:C,'[1]Kunnat seutukunnat maakunnat'!G:G) -> Mariehamns stad | D261: =_xlfn.XLOOKUP(A261,Väkiluku!A:A,Väkiluku!B:B) -> 11812 | E261: 3* | F261: 7 | G261: 3 | H261: 0 | I261: 40 | J261: 25 | K261: 39 | L261: =SUM(F261:K261) -> 114 | M261: =L261/(D261/$N$1) -> 9.6512022
A262: Pori | B262: =_xlfn.XLOOKUP(A262,'[1]Kunnat seutukunnat maakunnat'!C:C,'[1]Kunnat seutukunnat maakunnat'!F:F) -> Satakunta | C262: =_xlfn.XLOOKUP(A262,'[1]Kunnat seutukunnat maakunnat'!C:C,'[1]Kunnat seutukunnat maakunnat'!G:G) -> Porin seutukunta | D262: =_xlfn.XLOOKUP(A262,Väkiluku!A:A,Väkiluku!B:B) -> 83106 | E262: =_xlfn.XLOOKUP(A262,'[1]Pitopaikat Ruokavirasto'!A:A,'[1]Pitopaikat Ruokavirasto'!B:B) -> 127 | F262: 167 | G262: 202 | H262: 0 | I262: 159 | J262: 123 | K262: 111 | L262: =SUM(F262:K262) -> 762 | M262: =L262/(D262/$N$1) -> 9.1690131
A263: Kauniainen | B263: =_xlfn.XLOOKUP(A263,'[1]Kunnat seutukunnat maakunnat'!C:C,'[1]Kunnat seutukunnat maakunnat'!F:F) -> Uusimaa | C263: =_xlfn.XLOOKUP(A263,'[1]Kunnat seutukunnat maakunnat'!C:C,'[1]Kunnat seutukunnat maakunnat'!G:G) -> Helsingin seutukunta | D263: =_xlfn.XLOOKUP(A263,Väkiluku!A:A,Väkiluku!B:B) -> 10270 | E263: 3* | F263: 3 | G263: 2 | H263: 0 | I263: 70 | J263: 12 | K263: 7 | L263: =SUM(F263:K263) -> 94 | M263: =L263/(D263/$N$1) -> 9.1528724
A264: Kaskinen | B264: =_xlfn.XLOOKUP(A264,'[1]Kunnat seutukunnat maakunnat'!C:C,'[1]Kunnat seutukunnat maakunnat'!F:F) -> Pohjanmaa | C264: =_xlfn.XLOOKUP(A264,'[1]Kunnat seutukunnat maakunnat'!C:C,'[1]Kunnat seutukunnat maakunnat'!G:G) -> Suupohjan rannikkoseutu | D264: =_xlfn.XLOOKUP(A264,Väkiluku!A:A,Väkiluku!B:B) -> 1208 | E264: 3* | F264: 8 | G264: 1 | H264: 0 | I264: 1 | J264: 0 | K264: 1 | L264: =SUM(F264:K264) -> 11 | M264: =L264/(D264/$N$1) -> 9.1059603
A265: Riihimäki | B265: =_xlfn.XLOOKUP(A265,'[1]Kunnat seutukunnat maakunnat'!C:C,'[1]Kunnat seutukunnat maakunnat'!F:F) -> Kanta-Häme | C265: =_xlfn.XLOOKUP(A265,'[1]Kunnat seutukunnat maakunnat'!C:C,'[1]Kunnat seutukunnat maakunnat'!G:G) -> Riihimäen seutukunta | D265: =_xlfn.XLOOKUP(A265,Väkiluku!A:A,Väkiluku!B:B) -> 28483 | E265: =_xlfn.XLOOKUP(A265,'[1]Pitopaikat Ruokavirasto'!A:A,'[1]Pitopaikat Ruokavirasto'!B:B) -> 17 | F265: 75 | G265: 50 | H265: 1 | I265: 63 | J265: 31 | K265: 36 | L265: =SUM(F265:K265) -> 256 | M265: =L265/(D265/$N$1) -> 8.9878173
A266: Sodankylä | B266: =_xlfn.XLOOKUP(A266,'[1]Kunnat seutukunnat maakunnat'!C:C,'[1]Kunnat seutukunnat maakunnat'!F:F) -> Lappi | C266: =_xlfn.XLOOKUP(A266,'[1]Kunnat seutukunnat maakunnat'!C:C,'[1]Kunnat seutukunnat maakunnat'!G:G) -> Pohjois-Lapin seutukunta | D266: =_xlfn.XLOOKUP(A266,Väkiluku!A:A,Väkiluku!B:B) -> 8126 | E266: =_xlfn.XLOOKUP(A266,'[1]Pitopaikat Ruokavirasto'!A:A,'[1]Pitopaikat Ruokavirasto'!B:B) -> 22 | F266: 18 | G266: 28 | H266: 0 | I266: 10 | J266: 13 | K266: 4 | L266: =SUM(F266:K266) -> 73 | M266: =L266/(D266/$N$1) -> 8.9835097
A267: Kökar | B267: =_xlfn.XLOOKUP(A267,'[1]Kunnat seutukunnat maakunnat'!C:C,'[1]Kunnat seutukunnat maakunnat'!F:F) -> Ahvenanmaa | C267: =_xlfn.XLOOKUP(A267,'[1]Kunnat seutukunnat maakunnat'!C:C,'[1]Kunnat seutukunnat maakunnat'!G:G) -> Ålands skärgård | D267: =_xlfn.XLOOKUP(A267,Väkiluku!A:A,Väkiluku!B:B) -> 225 | E267: 3* | F267: 0 | G267: 0 | H267: 0 | I267: 0 | J267: 0 | K267: 2 | L267: =SUM(F267:K267) -> 2 | M267: =L267/(D267/$N$1) -> 8.8888889
A268: Kempele | B268: =_xlfn.XLOOKUP(A268,'[1]Kunnat seutukunnat maakunnat'!C:C,'[1]Kunnat seutukunnat maakunnat'!F:F) -> Pohjois-Pohjanmaa | C268: =_xlfn.XLOOKUP(A268,'[1]Kunnat seutukunnat maakunnat'!C:C,'[1]Kunnat seutukunnat maakunnat'!G:G) -> Oulun seutukunta | D268: =_xlfn.XLOOKUP(A268,Väkiluku!A:A,Väkiluku!B:B) -> 19514 | E268: =_xlfn.XLOOKUP(A268,'[1]Pitopaikat Ruokavirasto'!A:A,'[1]Pitopaikat Ruokavirasto'!B:B) -> 19 | F268: 42 | G268: 47 | H268: 0 | I268: 41 | J268: 16 | K268: 27 | L268: =SUM(F268:K268) -> 173 | M268: =L268/(D268/$N$1) -> 8.8654299
A269: Utsjoki | B269: =_xlfn.XLOOKUP(A269,'[1]Kunnat seutukunnat maakunnat'!C:C,'[1]Kunnat seutukunnat maakunnat'!F:F) -> Lappi | C269: =_xlfn.XLOOKUP(A269,'[1]Kunnat seutukunnat maakunnat'!C:C,'[1]Kunnat seutukunnat maakunnat'!G:G) -> Pohjois-Lapin seutukunta | D269: =_xlfn.XLOOKUP(A269,Väkiluku!A:A,Väkiluku!B:B) -> 1139 | E269: 3* | F269: 7 | G269: 1 | H269: 0 | I269: 0 | J269: 2 | K269: 0 | L269: =SUM(F269:K269) -> 10 | M269: =L269/(D269/$N$1) -> 8.7796313
A270: Sottunga | B270: =_xlfn.XLOOKUP(A270,'[1]Kunnat seutukunnat maakunnat'!C:C,'[1]Kunnat seutukunnat maakunnat'!F:F) -> Ahvenanmaa | C270: =_xlfn.XLOOKUP(A270,'[1]Kunnat seutukunnat maakunnat'!C:C,'[1]Kunnat seutukunnat maakunnat'!G:G) -> Ålands skärgård | D270: =_xlfn.XLOOKUP(A270,Väkiluku!A:A,Väkiluku!B:B) -> 115 | E270: 3* | F270: 0 | G270: 0 | H270: 0 | I270: 1 | J270: 0 | K270: 0 | L270: =SUM(F270:K270) -> 1 | M270: =L270/(D270/$N$1) -> 8.6956522
A271: Muonio | B271: =_xlfn.XLOOKUP(A271,'[1]Kunnat seutukunnat maakunnat'!C:C,'[1]Kunnat seutukunnat maakunnat'!F:F) -> Lappi | C271: =_xlfn.XLOOKUP(A271,'[1]Kunnat seutukunnat maakunnat'!C:C,'[1]Kunnat seutukunnat maakunnat'!G:G) -> Tunturi-Lapin seutukunta | D271: =_xlfn.XLOOKUP(A271,Väkiluku!A:A,Väkiluku!B:B) -> 2325 | E271: =_xlfn.XLOOKUP(A271,'[1]Pitopaikat Ruokavirasto'!A:A,'[1]Pitopaikat Ruokavirasto'!B:B) -> 11 | F271: 9 | G271: 3 | H271: 0 | I271: 2 | J271: 4 | K271: 2 | L271: =SUM(F271:K271) -> 20 | M271: =L271/(D271/$N$1) -> 8.6021505
A272: Ristijärvi | B272: =_xlfn.XLOOKUP(A272,'[1]Kunnat seutukunnat maakunnat'!C:C,'[1]Kunnat seutukunnat maakunnat'!F:F) -> Kainuu | C272: =_xlfn.XLOOKUP(A272,'[1]Kunnat seutukunnat maakunnat'!C:C,'[1]Kunnat seutukunnat maakunnat'!G:G) -> Kajaanin seutukunta | D272: =_xlfn.XLOOKUP(A272,Väkiluku!A:A,Väkiluku!B:B) -> 1164 | E272: 3* | F272: 0 | G272: 5 | H272: 0 | I272: 4 | J272: 0 | K272: 1 | L272: =SUM(F272:K272) -> 10 | M272: =L272/(D272/$N$1) -> 8.5910653
A273: Rauma | B273: =_xlfn.XLOOKUP(A273,'[1]Kunnat seutukunnat maakunnat'!C:C,'[1]Kunnat seutukunnat maakunnat'!F:F) -> Satakunta | C273: =_xlfn.XLOOKUP(A273,'[1]Kunnat seutukunnat maakunnat'!C:C,'[1]Kunnat seutukunnat maakunnat'!G:G) -> Rauman seutukunta | D273: =_xlfn.XLOOKUP(A273,Väkiluku!A:A,Väkiluku!B:B) -> 38832 | E273: =_xlfn.XLOOKUP(A273,'[1]Pitopaikat Ruokavirasto'!A:A,'[1]Pitopaikat Ruokavirasto'!B:B) -> 60 | F273: 50 | G273: 108 | H273: 0 | I273: 48 | J273: 93 | K273: 34 | L273: =SUM(F273:K273) -> 333 | M273: =L273/(D273/$N$1) -> 8.5754017
A274: Posio | B274: =_xlfn.XLOOKUP(A274,'[1]Kunnat seutukunnat maakunnat'!C:C,'[1]Kunnat seutukunnat maakunnat'!F:F) -> Lappi | C274: =_xlfn.XLOOKUP(A274,'[1]Kunnat seutukunnat maakunnat'!C:C,'[1]Kunnat seutukunnat maakunnat'!G:G) -> Itä-Lapin seutukunta | D274: =_xlfn.XLOOKUP(A274,Väkiluku!A:A,Väkiluku!B:B) -> 2923 | E274: =_xlfn.XLOOKUP(A274,'[1]Pitopaikat Ruokavirasto'!A:A,'[1]Pitopaikat Ruokavirasto'!B:B) -> 11 | F274: 6 | G274: 11 | H274: 0 | I274: 0 | J274: 4 | K274: 4 | L274: =SUM(F274:K274) -> 25 | M274: =L274/(D274/$N$1) -> 8.5528567
...

Sheet Väkiluku
A1: Kuntien väkiluku
A2: Aluejako 1.1.2024 | B2: Väkiluku 31.12.2023 | C2: Väkiluvun muutos 2022–2023 | D2: Väkiluvun muutos 2022–2023, %
A3: KOKO MAA | B3: 5603851 | C3: 39881 | D3: 0.7
A4: Helsinki | B4: 674500 | C4: 10472 | D4: 1.6
A5: Espoo | B5: 314024 | C5: 8750 | D5: 2.9
A6: Tampere | B6: 255050 | C6: 6041 | D6: 2.4
A7: Vantaa | B7: 247443 | C7: 4624 | D7: 1.9
A8: Oulu | B8: 214633 | C8: 2785 | D8: 1.3
A9: Turku | B9: 201863 | C9: 3963 | D9: 2
A10: Jyväskylä | B10: 147746 | C10: 1859 | D10: 1.3
A11: Kuopio | B11: 124021 | C11: 1427 | D11: 1.2
A12: Lahti | B12: 120693 | C12: 518 | D12: 0.4
A13: Pori | B13: 83106 | C13: -99 | D13: -0.1
A14: Kouvola | B14: 78880 | C14: -549 | D14: -0.7
... A312: Sottunga | B312: 115 | C312: 4 | D312: 3.6
A313: Lähde: Tilastokeskus, väestörakenne
A314: Suomi lukuina
